Workbook
Name fhdata_Query: #REF!
Name PARKS_Query: #REF!
Name sum_data: #REF!

Sheet Annual Report
A1: 2018 Aerial Overview Summary for British Columbia
B2: Great Bear Rainforest | C2: Regions | K2: Provincial
C3: South Coast | D3: West Coast | E3: Cariboo | F3: Thompson/ Okanagan | G3: Kootenay/ Boundary | H3: Skeena | I3: Omineca | J3: Northeast | K3: Total
A5: Bark Beetles
A6: IBM=Mountain Pine Beetle | B6: =Master!S6 -> 1961.2041 | C6: =Master!AQ6 -> 304.91515 | D6: =Master!BQ6 -> 0 | E6: =Master!CQ6 -> 14792.037 | F6: =Master!DZ6 -> 7994.2506 | G6: =Master!FV6 -> 14614.829 | H6: =Master!HR6 -> 2924.1036 | I6: =Master!IP6 -> 57896.214 | J6: =Master!JN6 -> 13293.894 | K6: =SUM(B6:J6) -> 113781.45
A7: IBS=Spruce Beetle | B7: =Master!S7 -> 1571.4649 | C7: =Master!AQ7 -> 4125.8427 | D7: =Master!BQ7 -> 135.39003 | E7: =Master!CQ7 -> 3300.0677 | F7: =Master!DZ7 -> 12971.833 | G7: =Master!FV7 -> 8237.3716 | H7: =Master!HR7 -> 27249.359 | I7: =Master!IP7 -> 242702.84 | J7: =Master!JN7 -> 40110.778 | K7: =SUM(B7:J7) -> 340404.94
A8: IBB=Western Balsam Bark Beetle | B8: =Master!S8 -> 87837.534 | C8: =Master!AQ8 -> 27864.413 | D8: =Master!BQ8 -> 1967.0636 | E8: =Master!CQ8 -> 127705.57 | F8: =Master!DZ8 -> 147076.54 | G8: =Master!FV8 -> 48192.494 | H8: =Master!HR8 -> 1210330.6 | I8: =Master!IP8 -> 1736817.4 | J8: =Master!JN8 -> 261165.06 | K8: =SUM(B8:J8) -> 3648956.7
A9: IBD=Douglas-fir Beetle | B9: =Master!S9 -> 3331.4721 | C9: =Master!AQ9 -> 4867.269 | D9: =Master!BQ9 -> 2212.8159 | E9: =Master!CQ9 -> 67586.048 | F9: =Master!DZ9 -> 5709.5216 | G9: =Master!FV9 -> 6625.6819 | H9: =Master!HR9 -> 518.72798 | I9: =Master!IP9 -> 12865.142 | J9: =Master!JN9 -> 0 | K9: =SUM(B9:J9) -> 103716.68
A10: IBF=Fir engraver beetle | B10: =Master!S10 -> 0 | C10: =Master!AQ10 -> 0 | D10: =Master!BQ10 -> 0 | E10: =Master!CQ10 -> 0 | F10: =Master!DZ10 -> 0 | G10: =Master!FV10 -> 0 | H10: =Master!HR10 -> 0 | I10: =Master!IP10 -> 0 | J10: =Master!JN10 -> 0 | K10: =SUM(B10:J10) -> 0
A11: IBP=Twig beetle | B11: =Master!S11 -> 0 | C11: =Master!AQ11 -> 0 | D11: =Master!BQ11 -> 0 | E11: =Master!CQ11 -> 0 | F11: =Master!DZ11 -> 0 | G11: =Master!FV11 -> 0 | H11: =Master!HR11 -> 0 | I11: =Master!IP11 -> 0 | J11: =Master!JN11 -> 0 | K11: =SUM(B11:J11) -> 0
A12: IBI=Engraver Beetle (Ips species) | B12: =Master!S12 -> 0 | C12: =Master!AQ12 -> 0 | D12: =Master!BQ12 -> 0 | E12: =Master!CQ12 -> 0 | F12: =Master!DZ12 -> 0 | G12: =Master!FV12 -> 0 | H12: =Master!HR12 -> 0 | I12: =Master!IP12 -> 0 | J12: =Master!JN12 -> 0 | K12: =SUM(B12:J12) -> 0
A13: IBW=Western Pine Beetle | B13: =Master!S13 -> 0 | C13: =Master!AQ13 -> 0 | D13: =Master!BQ13 -> 0 | E13: =Master!CQ13 -> 0 | F13: =Master!DZ13 -> 0 | G13: =Master!FV13 -> 29.011195 | H13: =Master!HR13 -> 0 | I13: =Master!IP13 -> 0 | J13: =Master!JN13 -> 0 | K13: =SUM(B13:J13) -> 29.011195
A14: IBL=Lodgepole Pine Beetle | B14: =Master!S14 -> 0 | C14: =Master!AQ14 -> 0 | D14: =Master!BQ14 -> 0 | E14: =Master!CQ14 -> 0 | F14: =Master!DZ14 -> 0 | G14: =Master!FV14 -> 0 | H14: =Master!HR14 -> 0 | I14: =Master!IP14 -> 0 | J14: =Master!JN14 -> 0 | K14: =SUM(B14:J14) -> 0
A15: IBT=Red Turpentine Beetle | B15: =Master!S15 -> 0 | C15: =Master!AQ15 -> 0 | D15: =Master!BQ15 -> 0 | E15: =Master!CQ15 -> 0 | F15: =Master!DZ15 -> 0 | G15: =Master!FV15 -> 0 | H15: =Master!HR15 -> 0 | I15: =Master!IP15 -> 0 | J15: =Master!JN15 -> 0 | K15: =SUM(B15:J15) -> 0
A16: IB?=Young pine mortality | B16: =Master!S16 -> 0 | C16: =Master!AQ16 -> 0 | D16: =Master!BQ16 -> 0 | E16: =Master!CQ16 -> 20.871177 | F16: =Master!DZ16 -> 0 | G16: =Master!FV16 -> 0 | H16: =Master!HR16 -> 0 | I16: =Master!IP16 -> 0.5 | J16: =Master!JN16 -> 0 | K16: =SUM(B16:J16) -> 21.371177
A17: IWW=Warrens Root Collar Weevil | B17: =Master!S17 -> 0 | C17: =Master!AQ17 -> 0 | D17: =Master!BQ17 -> 0 | E17: =Master!CQ17 -> 0 | F17: =Master!DZ17 -> 0 | G17: =Master!FV17 -> 0 | H17: =Master!HR17 -> 0 | I17: =Master!IP17 -> 0 | J17: =Master!JN17 -> 0 | K17: =SUM(B17:J17) -> 0
A18: Total All BB= | B18: =Master!S18 -> 94701.676 | C18: =Master!AQ18 -> 37162.44 | D18: =Master!BQ18 -> 4315.2696 | E18: =Master!CQ18 -> 213404.59 | F18: =Master!DZ18 -> 173752.15 | G18: =Master!FV18 -> 77699.388 | H18: =Master!HR18 -> 1241022.8 | I18: =Master!IP18 -> 2050282.1 | J18: =Master!JN18 -> 314569.73 | K18: =SUM(B18:J18) -> 4206910.1
A20: Defoliators
A21: ID=Defoliators | B21: =Master!S21 -> 0 | C21: =Master!AQ21 -> 0 | D21: =Master!BQ21 -> 0 | E21: =Master!CQ21 -> 86.606517 | F21: =Master!DZ21 -> 0 | G21: =Master!FV21 -> 16.889052 | H21: =Master!HR21 -> 0 | I21: =Master!IP21 -> 68.891698 | J21: =Master!JN21 -> 35.444523 | K21: =SUM(B21:J21) -> 207.83179
A22: IAB=Balsam Woolly Adelgid | B22: =Master!S22 -> 0 | C22: =Master!AQ22 -> 0 | D22: =Master!BQ22 -> 34.865 | E22: =Master!CQ22 -> 0 | F22: =Master!DZ22 -> 0 | G22: =Master!FV22 -> 0 | H22: =Master!HR22 -> 0 | I22: =Master!IP22 -> 0 | J22: =Master!JN22 -> 0 | K22: =SUM(B22:J22) -> 34.865
A23: IAS=Green Spruce Aphid | B23: =Master!S23 -> 0 | C23: =Master!AQ23 -> 0 | D23: =Master!BQ23 -> 0 | E23: =Master!CQ23 -> 0 | F23: =Master!DZ23 -> 0 | G23: =Master!FV23 -> 0 | H23: =Master!HR23 -> 0 | I23: =Master!IP23 -> 0 | J23: =Master!JN23 -> 0 | K23: =SUM(B23:J23) -> 0
A24: ID1=Leaf Beetles | B24: =Master!S24 -> 0 | C24: =Master!AQ24 -> 0 | D24: =Master!BQ24 -> 0 | E24: =Master!CQ24 -> 0 | F24: =Master!DZ24 -> 0 | G24: =Master!FV24 -> 0 | H24: =Master!HR24 -> 0 | I24: =Master!IP24 -> 0 | J24: =Master!JN24 -> 0 | K24: =SUM(B24:J24) -> 0
A25: ID2=Bruce spanworm | B25: =Master!S25 -> 0 | C25: =Master!AQ25 -> 0 | D25: =Master!BQ25 -> 0 | E25: =Master!CQ25 -> 0 | F25: =Master!DZ25 -> 0 | G25: =Master!FV25 -> 0 | H25: =Master!HR25 -> 0 | I25: =Master!IP25 -> 0 | J25: =Master!JN25 -> 8490.7726 | K25: =SUM(B25:J25) -> 8490.7726
A26: ID6=Aspen Leaf Miner | B26: =Master!S26 -> 7104.1212 | C26: =Master!AQ26 -> 0 | D26: =Master!BQ26 -> 0 | E26: =Master!CQ26 -> 175656.14 | F26: =Master!DZ26 -> 21634.218 | G26: =Master!FV26 -> 25240.645 | H26: =Master!HR26 -> 603837.9 | I26: =Master!IP26 -> 404639.15 | J26: =Master!JN26 -> 78928.331 | K26: =SUM(B26:J26) -> 1317040.5
A27: IDA=Black Army Cutworm | B27: =Master!S27 -> 0 | C27: =Master!AQ27 -> 0 | D27: =Master!BQ27 -> 0 | E27: =Master!CQ27 -> 0 | F27: =Master!DZ27 -> 0 | G27: =Master!FV27 -> 0 | H27: =Master!HR27 -> 0 | I27: =Master!IP27 -> 0 | J27: =Master!JN27 -> 0 | K27: =SUM(B27:J27) -> 0
A28: IDB=2-Year Budworm | B28: =Master!S28 -> 0 | C28: =Master!AQ28 -> 0 | D28: =Master!BQ28 -> 0 | E28: =Master!CQ28 -> 76704.435 | F28: =Master!DZ28 -> 31475.073 | G28: =Master!FV28 -> 0 | H28: =Master!HR28 -> 66880.841 | I28: =Master!IP28 -> 239258.89 | J28: =Master!JN28 -> 0 | K28: =SUM(B28:J28) -> 414319.24
A29: IDC=Larch casebearer | B29: =Master!S29 -> 0 | C29: =Master!AQ29 -> 0 | D29: =Master!BQ29 -> 0 | E29: =Master!CQ29 -> 0 | F29: =Master!DZ29 -> 0 | G29: =Master!FV29 -> 0 | H29: =Master!HR29 -> 0 | I29: =Master!IP29 -> 0 | J29: =Master!JN29 -> 0 | K29: =SUM(B29:J29) -> 0
A30: IDD=Western Winter Moth | B30: =Master!S30 -> 0 | C30: =Master!AQ30 -> 0 | D30: =Master!BQ30 -> 0 | E30: =Master!CQ30 -> 142.95392 | F30: =Master!DZ30 -> 0 | G30: =Master!FV30 -> 0 | H30: =Master!HR30 -> 0 | I30: =Master!IP30 -> 0 | J30: =Master!JN30 -> 0 | K30: =SUM(B30:J30) -> 142.95392
A31: IDE=Eastern Spruce Budworm | B31: =Master!S31 -> 0 | C31: =Master!AQ31 -> 0 | D31: =Master!BQ31 -> 0 | E31: =Master!CQ31 -> 0 | F31: =Master!DZ31 -> 0 | G31: =Master!FV31 -> 0 | H31: =Master!HR31 -> 0 | I31: =Master!IP31 -> 0 | J31: =Master!JN31 -> 35752.613 | K31: =SUM(B31:J31) -> 35752.613
A32: IDF=Forest Tent Caterpillar | B32: =Master!S32 -> 0 | C32: =Master!AQ32 -> 0 | D32: =Master!BQ32 -> 0 | E32: =Master!CQ32 -> 0 | F32: =Master!DZ32 -> 0 | G32: =Master!FV32 -> 0 | H32: =Master!HR32 -> 0 | I32: =Master!IP32 -> 0 | J32: =Master!JN32 -> 0 | K32: =SUM(B32:J32) -> 0
... A49: Total Defoliators= | B49: =Master!S49 -> 7104.1212 | C49: =Master!AQ49 -> 0 | D49: =Master!BQ49 -> 120.965 | E49: =Master!CQ49 -> 271936.93 | F49: =Master!DZ49 -> 61302.132 | G49: =Master!FV49 -> 28539.516 | H49: =Master!HR49 -> 684096.45 | I49: =Master!IP49 -> 845283.21 | J49: =Master!JN49 -> 123295.65 | K49: =SUM(B49:J49) -> 2021679
A51: Other
A52: N | B52: =Master!S52 -> 70.95248 | C52: =Master!AQ52 -> 0 | D52: =Master!BQ52 -> 0 | E52: =Master!CQ52 -> 0 | F52: =Master!DZ52 -> 0 | G52: =Master!FV52 -> 0 | H52: =Master!HR52 -> 0 | I52: =Master!IP52 -> 31.706993 | J52: =Master!JN52 -> 2486.7476 | K52: =SUM(B52:J52) -> 2589.4071
A53: NAV=Avalanche or snow slide | B53: =Master!S53 -> 0 | C53: =Master!AQ53 -> 0 | D53: =Master!BQ53 -> 0 | E53: =Master!CQ53 -> 0 | F53: =Master!DZ53 -> 49.305977 | G53: =Master!FV53 -> 0 | H53: =Master!HR53 -> 0 | I53: =Master!IP53 -> 0 | J53: =Master!JN53 -> 0 | K53: =SUM(B53:J53) -> 49.305977
A54: NB=Fire | B54: =Master!S54 -> 186249.64 | C54: =Master!AQ54 -> 12928.934 | D54: =Master!BQ54 -> 6593.9962 | E54: =Master!CQ54 -> 80613.578 | F54: =Master!DZ54 -> 53046.222 | G54: =Master!FV54 -> 60177.93 | H54: =Master!HR54 -> 620340.82 | I54: =Master!IP54 -> 156667.3 | J54: =Master!JN54 -> 175219.02 | K54: =SUM(B54:J54) -> 1351837.4
A55: NBP=Post Fire | B55: =Master!S55 -> 1193.0281 | C55: =Master!AQ55 -> 0 | D55: =Master!BQ55 -> 0 | E55: =Master!CQ55 -> 4430.273 | F55: =Master!DZ55 -> 58.193015 | G55: =Master!FV55 -> 742.30016 | H55: =Master!HR55 -> 2746.083 | I55: =Master!IP55 -> 3007.9235 | J55: =Master!JN55 -> 5684.2794 | K55: =SUM(B55:J55) -> 17862.08
A56: NCA=Aspen decline | B56: =Master!S56 -> 0 | C56: =Master!AQ56 -> 0 | D56: =Master!BQ56 -> 0 | E56: =Master!CQ56 -> 1591.7119 | F56: =Master!DZ56 -> 231.10768 | G56: =Master!FV56 -> 0 | H56: =Master!HR56 -> 0 | I56: =Master!IP56 -> 204.52242 | J56: =Master!JN56 -> 66190.902 | K56: =SUM(B56:J56) -> 68218.244
A57: NCB=Birch decline | B57: =Master!S57 -> 0 | C57: =Master!AQ57 -> 0 | D57: =Master!BQ57 -> 0 | E57: =Master!CQ57 -> 0 | F57: =Master!DZ57 -> 0 | G57: =Master!FV57 -> 0 | H57: =Master!HR57 -> 0 | I57: =Master!IP57 -> 0 | J57: =Master!JN57 -> 0 | K57: =SUM(B57:J57) -> 0
A58: NCF=Douglas-fir decline | B58: =Master!S58 -> 0 | C58: =Master!AQ58 -> 0 | D58: =Master!BQ58 -> 0 | E58: =Master!CQ58 -> 0 | F58: =Master!DZ58 -> 0 | G58: =Master!FV58 -> 0 | H58: =Master!HR58 -> 0 | I58: =Master!IP58 -> 0 | J58: =Master!JN58 -> 0 | K58: =SUM(B58:J58) -> 0
A59: NCY=Yellow cedar decline | B59: =Master!S59 -> 21182.039 | C59: =Master!AQ59 -> 0 | D59: =Master!BQ59 -> 3247.0307 | E59: =Master!CQ59 -> 0 | F59: =Master!DZ59 -> 0 | G59: =Master!FV59 -> 0 | H59: =Master!HR59 -> 2549.2744 | I59: =Master!IP59 -> 0 | J59: =Master!JN59 -> 0 | K59: =SUM(B59:J59) -> 26978.344
...

Sheet Master
A1: 2018 Aerial Overview Summary for British Columbia by TSA's
T2: South Coast Forest Region | AR2: West Coast Forest Region | BR2: Cariboo Forest Region | CR2: Thompson Okanagan Forest Region | EA2: Kootenay/Boundary Forest Region | FW2: Skeena Forest Region | HS2: Omineca Forest Region | IQ2: Northeast Forest Region
A3: TSA's | B3: Great Bear Rainforest North TSA (TGBN) | H3: Great Bear Rainforest South TSA (TGBS) | N3: GREAT BEAR RAINFOREST TOTAL | T3: Fraser | U3: (TFR) | Z3: Soo | AA3: (TSO) | AF3: Sunshine Coast | AH3: (TSC) | AL3: SOUTH COAST FOREST REGION TOTAL | AR3: Arrowsmith | AT3: (TAS) | AX3: Haida Gwaii | AZ3: (THG) | BE3: North Island (TNI) | BK3: WEST COAST FOREST REGION TOTAL | BR3: 100 Mile House | BT3: (TMH) | BX3: Quesnel | BY3: (TQU) | CD3: Williams Lake | CE3: (TWL) | CK3: CARIBOO FOREST REGION TOTAL | CR3: Kamloops | CS3: (TKA) | CY3: Lillooet | CZ3: (TLI) | DF3: Merritt | DG3: (TME) | DM3: Okanagan | DN3: (TOK) | DT3: THOMPSON/OKANAGAN FOREST REGION TOTAL | EA3: Arrow | EB3: (TAR) | EG3: Boundary | EH3: (TBO) | EM3: Cranbrook | EN3: (TCB) | ES3: Golden | ET3: (TGO) | EY3: Invermere | EZ3: (TIN) | FE3: Kootenay Lake | FF3: (TKL) | FK3: Revelstoke | FL3: (TRE) | FQ3: KOOTENAY/BOUNDRY FOREST REGION | FW3: Bulkley | FX3: (TBU) | GC3: Cassiar | GD3: (TCA) | GI3: Kalum | GJ3: (TKM) | GO3: Kispiox | GP3: (TKI) | GU3: Lakes | GV3: (TLA) | HA3: Morice | HB3: (TMO) | HG3: Nass | HH3: (TNA) | HM3: SKEENA FOREST REGION | HS3: MacKenzie | HT3: (TMK) | HY3: Robson Valley | IA3: (TRV) | IE3: Prince George | IG3: (TPG) | IK3: OMINECA FOREST REGION | IQ3: Dawson Creek | IS3: (TDC) | IW3: Fort Nelson | IX3: (TFN) | JC3: Fort St. John | JE3: (TJO) | JI3: NORTHEAST FOREST REGION | JP3: GRAND TOTAL
B4: Trace | C4: Light | D4: Moderate | E4: Severe | F4: Very Sev | G4: Total | H4: Trace | I4: Light | J4: Moderate | K4: Severe | L4: Very Sev | M4: Total | N4: Trace | O4: Light | P4: Moderate | Q4: Severe | R4: Ver Sev | S4: Total | T4: Trace | U4: Light | V4: Moderate | W4: Severe | X4: Very Sev | Y4: Total | Z4: Trace | AA4: Light | AB4: Moderate | AC4: Severe | AD4: Very Sev | AE4: Total | AF4: Trace | AG4: Light | AH4: Moderate | AI4: Severe | AJ4: Very Sev | AK4: Total | AL4: Trace | AM4: Light | AN4: Moderate | AO4: Severe | AP4: Ver Sev | AQ4: Total | AR4: Trace | AS4: Light | AT4: Moderate | AU4: Severe | AV4: Very Sev | AW4: Total | AX4: Trace | AY4: Light | AZ4: Moderate | BA4: Severe | BB4: Very Sev | BC4: Grey | BD4: Total | BE4: Trace | BF4: Light | BG4: Moderate | BH4: Severe | BI4: Very Sev | BJ4: Total | BK4: Trace | BL4: Light | BM4: Moderate | BN4: Severe | BO4: Ver Sev | BP4: Grey | BQ4: Total | BR4: Trace | BS4: Light | BT4: Moderate | BU4: Severe | BV4: Very Sev | BW4: Total | BX4: Trace | BY4: Light | BZ4: Moderate | CA4: Severe | CB4: Very Sev | CC4: Total | CD4: Trace | CE4: Light | CF4: Moderate | CG4: Severe | CH4: Very Sev | CI4: Grey | CJ4: Total | CK4: Trace | CL4: Light | CM4: Moderate | CN4: Severe | CO4: Ver Sev | CP4: Grey | CQ4: Total | CR4: Trace | CS4: Light | CT4: Moderate | CU4: Severe | CV4: Very Sev | CW4: Grey | CX4: Total | CY4: Trace | CZ4: Light | DA4: Moderate | DB4: Severe | DC4: Very Sev | DD4: Grey | DE4: Total | DF4: Trace | DG4: Light | DH4: Moderate | DI4: Severe | DJ4: Very Sev | DK4: Grey | DL4: Total | DM4: Trace | DN4: Light | DO4: Moderate | DP4: Severe | DQ4: Very Sev | DR4: Grey | DS4: Total | DT4: Trace | DU4: Light | DV4: Moderate | DW4: Severe | DX4: Ver Sev | DY4: Grey | DZ4: Total | EA4: Trace | EB4: Light | EC4: Moderate | ED4: Severe | EE4: Very Sev | EF4: Total | EG4: Trace | EH4: Light | EI4: Moderate | EJ4: Severe | EK4: Very Sev | EL4: Total | EM4: Trace | EN4: Light | EO4: Moderate | EP4: Severe | EQ4: Very Sev | ER4: Total | ES4: Trace | ET4: Light | EU4: Moderate | EV4: Severe | EW4: Very Sev | EX4: Total | EY4: Trace | EZ4: Light | FA4: Moderate | FB4: Severe | FC4: Very Sev | FD4: Total | FE4: Trace | FF4: Light | FG4: Moderate | FH4: Severe | FI4: Very Sev | FJ4: Total | FK4: Trace | FL4: Light | FM4: Moderate | FN4: Severe | FO4: Very Sev | FP4: Total | FQ4: Trace | FR4: Light | FS4: Moderate | FT4: Severe | FU4: Very Sev | FV4: TOTAL | FW4: Trace | FX4: Light | FY4: Moderate | FZ4: Severe | GA4: Very Sev | GB4: Total | GC4: Trace | GD4: Light | GE4: Moderate | GF4: Severe | GG4: Very Sev | GH4: Total | GI4: Trace | GJ4: Light | GK4: Moderate | GL4: Severe | GM4: Very Sev | GN4: Total | GO4: Trace | GP4: Light | GQ4: Moderate | GR4: Severe | GS4: Very Sev | GT4: Total | GU4: Trace | GV4: Light | GW4: Moderate | GX4: Severe | GY4: Very Sev | GZ4: Total | HA4: Trace | HB4: Light | HC4: Moderate | HD4: Severe | HE4: Very Sev | HF4: Total | HG4: Trace | HH4: Light | HI4: Moderate | HJ4: Severe | HK4: Very Sev | HL4: Total | HM4: Trace | HN4: Light | HO4: Moderate | HP4: Severe | HQ4: Very Sev | HR4: TOTAL | HS4: Trace | HT4: Light | HU4: Moderate | HV4: Severe | HW4: Very Sev | HX4: Total | HY4: Trace | HZ4: Light | IA4: Moderate | IB4: Severe | IC4: Very Sev | ID4: Total | IE4: Trace | IF4: Light | IG4: Moderate | IH4: Severe | II4: Very Sev | IJ4: Total | IK4: Trace | IL4: Light | IM4: Moderate | IN4: Severe | IO4: Very Sev | IP4: TOTAL | IQ4: Trace | IR4: Light | IS4: Moderate | IT4: Severe | IU4: Very Sev | IV4: Total | IW4: Trace | IX4: Light | IY4: Moderate | IZ4: Severe | JA4: Very Sev | JB4: Total | JC4: Trace | JD4: Light | JE4: Moderate | JF4: Severe | JG4: Very Sev | JH4: Total | JI4: Trace | JJ4: Light | JK4: Moderate | JL4: Severe | JM4: Very Sev | JN4: TOTAL | JP4: Trace | JQ4: Light | JR4: Moderate | JS4: Severe | JT4: Very Sev | JU4: Grey | JV4: TOTAL
A5: Bark Beetles
A6: IBM=Mountain Pine Beetle | B6: 856.41278 | C6: 725.07412 | D6: 375.7172 | E6: 4 | G6: =SUM(B6:F6) -> 1961.2041 | M6: =SUM(H6:L6) -> 0 | N6: =SUM(B6,H6) -> 856.41278 | O6: =SUM(C6,I6) -> 725.07412 | P6: =SUM(D6,J6) -> 375.7172 | Q6: =SUM(E6,K6) -> 4 | R6: =SUM(F6,L6) -> 0 | S6: =SUM(N6:R6) -> 1961.2041 | T6: 7.155872 | U6: 24.026229 | W6: 0.25 | Y6: =SUM(T6:X6) -> 31.432101 | Z6: 133.27022 | AA6: 130.34389 | AB6: 6.3689341 | AC6: 3.5 | AE6: =SUM(Z6:AD6) -> 273.48305 | AK6: =SUM(AF6:AJ6) -> 0 | AL6: =SUM(T6,Z6,AF6) -> 140.4261 | AM6: =SUM(U6,AA6,AG6) -> 154.37012 | AN6: =SUM(V6,AB6,AH6) -> 6.3689341 | AO6: =SUM(W6,AC6,AI6) -> 3.75 | AP6: =SUM(X6,AD6,AJ6) -> 0 | AQ6: =SUM(AL6:AP6) -> 304.91515 | AW6: =SUM(AR6:AV6) -> 0 | BD6: =SUM(AX6:BC6) -> 0 | BJ6: =SUM(BE6:BI6) -> 0 | BK6: =SUM(AR6,AX6,BE6) -> 0 | BL6: =SUM(AS6,AY6,BF6) -> 0 | BM6: =SUM(AT6,AZ6,BG6) -> 0 | BN6: =SUM(AU6,BA6,BH6) -> 0 | BO6: =SUM(AV6,BB6,BI6) -> 0 | BP6: =SUM(BC6) -> 0 | BQ6: =SUM(BK6:BP6) -> 0 | BW6: =SUM(BR6:BV6) -> 0 | CA6: 1 | CC6: =SUM(BX6:CB6) -> 1 | CD6: 1285.9387 | CE6: 8852.8881 | CF6: 3436.3314 | CG6: 1215.8785 | CJ6: =SUM(CD6:CI6) -> 14791.037 | CK6: =SUM(BR6,BX6,CD6) -> 1285.9387 | CL6: =SUM(BS6,BY6,CE6) -> 8852.8881 | CM6: =SUM(BT6,BZ6,CF6) -> 3436.3314 | CN6: =SUM(BU6,CA6,CG6) -> 1216.8785 | CO6: =SUM(BV6,CB6,CH6) -> 0 | CP6: =SUM(CI6) -> 0 | CQ6: =SUM(CK6:CP6) -> 14792.037 | CU6: 0.25 | CX6: =SUM(CR6:CW6) -> 0.25 | CY6: 457.26703 | CZ6: 3796.5166 | DA6: 3074.0239 | DB6: 498.28932 | DC6: 134.21133 | DE6: =SUM(CY6:DD6) -> 7960.3082 | DI6: 2 | DL6: =SUM(DF6:DK6) -> 2 | DN6: 30.44235 | DP6: 1.25 | DS6: =SUM(DM6:DR6) -> 31.69235 | DT6: =SUM(CR6,CY6,DF6,DM6) -> 457.26703 | DU6: =SUM(CS6,CZ6,DG6,DN6) -> 3826.959 | DV6: =SUM(CT6,DA6,DH6,DO6) -> 3074.0239 | DW6: =SUM(CU6,DB6,DI6,DP6) -> 501.78932 | DX6: =SUM(CV6,DC6,DJ6,DQ6) -> 134.21133 | DY6: =SUM(CW6,DD6,DK6,DR6) -> 0 | DZ6: =SUM(DT6:DY6) -> 7994.2506 | EA6: 98.971257 | EB6: 236.2507 | EC6: 252.96959 | ED6: 10.25 | EF6: =SUM(EA6:EE6) -> 598.44154 | EG6: 595.27969 | EH6: 143.6824 | EJ6: 8.75 | EL6: =SUM(EG6:EK6) -> 747.71208 | EM6: 391.80031 | EN6: 251.77892 | EO6: 276.29231 | EP6: 18 | ER6: =SUM(EM6:EQ6) -> 937.87154 | ES6: 467.48446 | ET6: 474.44915 | EU6: 188.4526 | EV6: 10.14089 | EX6: =SUM(ES6:EW6) -> 1140.5271 | EY6: 2567.2728 | EZ6: 2342.1449 | FA6: 2272.7832 | FB6: 213.67692 | FC6: 31.272462 | FD6: =SUM(EY6:FC6) -> 7427.1503 | FE6: 560.65468 | FF6: 1376.2146 | FG6: 1216.9318 | FH6: 208.91478 | FI6: 196.80485 | FJ6: =SUM(FE6:FI6) -> 3559.5207 | FK6: 22.912252 | FL6: 10.720508 | FM6: 167.47337 | FN6: 2.5 | FP6: =SUM(FK6:FO6) -> 203.60613 | FQ6: =SUM(EA6,EG6,EM6,ES6,EY6,FE6,FK6) -> 4704.3754 | FR6: =SUM(EB6,EH6,EN6,ET6,EZ6,FF6,FL6) -> 4835.2411 | FS6: =SUM(EC6,EI6,EO6,EU6,FA6,FG6,FM6) -> 4374.9029 | FT6: =SUM(ED6,EJ6,EP6,EV6,FB6,FH6,FN6) -> 472.23259 | FU6: =SUM(EE6,EK6,EQ6,EW6,FC6,FI6,FO6) -> 228.07732 | FV6: =SUM(FQ6:FU6) -> 14614.829 | FW6: 1480.968 | FX6: 501.95732 | FY6: 162.88541 | FZ6: 24.645194 | GB6: =SUM(FW6:GA6) -> 2170.4559 | GF6: 1.5 | GH6: =SUM(GC6:GG6) -> 1.5 | GL6: 1.25 | GN6: =SUM(GI6:GM6) -> 1.25 | GR6: 2 | GT6: =SUM(GO6:GS6) -> 2 | GV6: 37.92681 | GW6: 28.935542 | GX6: 6.25 | GZ6: =SUM(GU6:GY6) -> 73.112352 | HA6: 414.51413 | HB6: 162.82988 | HC6: 58.813938 | HD6: 39.627402 | HF6: =SUM(HA6:HE6) -> 675.78536 | HL6: =SUM(HG6:HK6) -> 0 | HM6: =SUM(FW6,GC6,GI6,GO6,GU6,HA6,HG6) -> 1895.4821 | HN6: =SUM(FX6,GD6,GJ6,GP6,GV6,HB6,HH6) -> 702.71401 | HO6: =SUM(FY6,GE6,GK6,GQ6,GW6,HC6,HI6) -> 250.63489 | HP6: =SUM(FZ6,GF6,GL6,GR6,GX6,HD6,HJ6) -> 75.272596 | HQ6: =SUM(GA6,GG6,GM6,GS6,GY6,HE6,HK6) -> 0 | HR6: =SUM(HM6:HQ6) -> 2924.1036 | HS6: 4051.1259 | HT6: 26.986018 | HV6: 20.25 | HX6: =SUM(HS6:HW6) -> 4098.3619 | HY6: 7010.23 | HZ6: 9662.6564 | IA6: 19617.921 | IB6: 1965.0065 | ID6: =SUM(HY6:IC6) -> 38255.814 | IE6: 11273.812 | IF6: 4245.2266 | IH6: 23 | IJ6: =SUM(IE6:II6) -> 15542.039 | IK6: =SUM(HS6,HY6,IE6) -> 22335.168 | IL6: =SUM(HT6,HZ6,IF6) -> 13934.869 | IM6: =SUM(HU6,IA6,IG6) -> 19617.921 | IN6: =SUM(HV6,IB6,IH6) -> 2008.2565 | IO6: =SUM(HW6,IC6,II6) -> 0 | IP6: =SUM(IK6:IO6) -> 57896.214 | IQ6: 1412.0065 | IR6: 1611.4132 | IS6: 298.00261 | IT6: 17.75 | IV6: =SUM(IQ6:IU6) -> 3339.1723 | IW6: 9796.4693 | IX6: 104.75196 | IZ6: 51 | JB6: =SUM(IW6:JA6) -> 9952.2213 | JF6: 2.5 | JH6: =SUM(JC6:JG6) -> 2.5 | JI6: =SUM(IQ6,IW6,JC6) -> 11208.476 | JJ6: =SUM(IR6,IX6,JD6) -> 1716.1652 | JK6: =SUM(IS6,IY6,JE6) -> 298.00261 | JL6: =SUM(IT6,IZ6,JF6) -> 71.25 | JM6: =SUM(IU6,JA6,JG6) -> 0 | JN6: =SUM(JI6:JM6) -> 13293.894 | JP6: =SUM(N6,AL6,BK6,CK6,DT6,FQ6,HM6,IK6,JI6) -> 42883.546 | JQ6: =SUM(O6,AM6,BL6,CL6,DU6,FR6,HN6,IL6,JJ6) -> 34748.281 | JR6: =SUM(P6,AN6,BM6,CM6,DV6,FS6,HO6,IM6,JK6) -> 31433.902 | JS6: =SUM(Q6,AO6,BN6,CN6,DW6,FT6,HP6,IN6,JL6) -> 4353.4295 | JT6: =SUM(R6,AP6,BO6,CO6,DX6,FU6,HQ6,IO6,JM6) -> 362.28865 | JU6: =SUM(BP6,CP6,DY6) -> 0 | JV6: =SUM(JP6:JU6) -> 113781.45
A7: IBS=Spruce Beetle | B7: 1038.0923 | C7: 258.31359 | D7: 82.992965 | E7: 22.963497 | G7: =SUM(B7:F7) -> 1402.3624 | H7: 135.64896 | I7: 33.453516 | M7: =SUM(H7:L7) -> 169.10247 | N7: =SUM(B7,H7) -> 1173.7413 | O7: =SUM(C7,I7) -> 291.76711 | P7: =SUM(D7,J7) -> 82.992965 | Q7: =SUM(E7,K7) -> 22.963497 | R7: =SUM(F7,L7) -> 0 | S7: =SUM(N7:R7) -> 1571.4649 | T7: 133.19056 | U7: 444.82097 | V7: 1429.0828 | W7: 505.57657 | Y7: =SUM(T7:X7) -> 2512.6709 | Z7: 48.811566 | AA7: 45.704269 | AB7: 29.715468 | AC7: 5.0990218 | AE7: =SUM(Z7:AD7) -> 129.33033 | AF7: 1457.3134 | AG7: 26.278171 | AI7: 0.25 | AK7: =SUM(AF7:AJ7) -> 1483.8415 | AL7: =SUM(T7,Z7,AF7) -> 1639.3155 | AM7: =SUM(U7,AA7,AG7) -> 516.80341 | AN7: =SUM(V7,AB7,AH7) -> 1458.7982 | AO7: =SUM(W7,AC7,AI7) -> 510.92559 | AP7: =SUM(X7,AD7,AJ7) -> 0 | AQ7: =SUM(AL7:AP7) -> 4125.8427 | AR7: 101.95012 | AS7: 31.689908 | AU7: 0.75 | AW7: =SUM(AR7:AV7) -> 134.39003 | BD7: =SUM(AX7:BC7) -> 0 | BH7: 1 | BJ7: =SUM(BE7:BI7) -> 1 | BK7: =SUM(AR7,AX7,BE7) -> 101.95012 | BL7: =SUM(AS7,AY7,BF7) -> 31.689908 | BM7: =SUM(AT7,AZ7,BG7) -> 0 | BN7: =SUM(AU7,BA7,BH7) -> 1.75 | BO7: =SUM(AV7,BB7,BI7) -> 0 | BP7: =SUM(BC7) -> 0 | BQ7: =SUM(BK7:BP7) -> 135.39003 | BU7: 0.25 | BW7: =SUM(BR7:BV7) -> 0.25 | BX7: 252.59834 | BY7: 217.86851 | BZ7: 34.840446 | CA7: 4 | CC7: =SUM(BX7:CB7) -> 509.3073 | CD7: 1079.8034 | CE7: 1094.1667 | CF7: 522.32496 | CG7: 94.215402 | CJ7: =SUM(CD7:CI7) -> 2790.5104 | CK7: =SUM(BR7,BX7,CD7) -> 1332.4018 | CL7: =SUM(BS7,BY7,CE7) -> 1312.0352 | CM7: =SUM(BT7,BZ7,CF7) -> 557.16541 | CN7: =SUM(BU7,CA7,CG7) -> 98.465402 | CO7: =SUM(BV7,CB7,CH7) -> 0 | CP7: =SUM(CI7) -> 0 | CQ7: =SUM(CK7:CP7) -> 3300.0677 | CS7: 2084.6991 | CT7: 3315.6 | CU7: 1473.7549 | CV7: 44.673887 | CX7: =SUM(CR7:CW7) -> 6918.7279 | CY7: 212.09894 | CZ7: 1553.6419 | DA7: 3146.1064 | DB7: 952.14666 | DC7: 152.73428 | DE7: =SUM(CY7:DD7) -> 6016.7282 | DG7: 3.7288398 | DH7: 16.933863 | DI7: 7.596212 | DL7: =SUM(DF7:DK7) -> 28.258915 | DO7: 8.1177367 | DS7: =SUM(DM7:DR7) -> 8.1177367 | DT7: =SUM(CR7,CY7,DF7,DM7) -> 212.09894 | DU7: =SUM(CS7,CZ7,DG7,DN7) -> 3642.0699 | DV7: =SUM(CT7,DA7,DH7,DO7) -> 6486.758 | DW7: =SUM(CU7,DB7,DI7,DP7) -> 2433.4978 | DX7: =SUM(CV7,DC7,DJ7,DQ7) -> 197.40817 | DY7: =SUM(CW7,DD7,DK7,DR7) -> 0 | DZ7: =SUM(DT7:DY7) -> 12971.833 | EB7: 67.817906 | EC7: 138.15766 | ED7: 0.75 | EF7: =SUM(EA7:EE7) -> 206.72557 | EG7: 18.170653 | EL7: =SUM(EG7:EK7) -> 18.170653 | EM7: 50.114103 | EN7: 913.42351 | EO7: 776.71653 | EP7: 382.66494 | ER7: =SUM(EM7:EQ7) -> 2122.9191 | ES7: 1281.6499 | ET7: 187.5342 | EU7: 344.70977 | EV7: 0.25 | EX7: =SUM(ES7:EW7) -> 1814.1439 | EY7: 851.69002 | EZ7: 1187.1702 | FA7: 1399.6898 | FB7: 213.06908 | FD7: =SUM(EY7:FC7) -> 3651.6191 | FE7: 127.90124 | FG7: 99.412088 | FJ7: =SUM(FE7:FI7) -> 227.31333 | FK7: 148.20953 | FL7: 17.488647 | FM7: 30.281783 | FN7: 0.5 | FP7: =SUM(FK7:FO7) -> 196.47996 | FQ7: =SUM(EA7,EG7,EM7,ES7,EY7,FE7,FK7) -> 2477.7355 | FR7: =SUM(EB7,EH7,EN7,ET7,EZ7,FF7,FL7) -> 2373.4345 | FS7: =SUM(EC7,EI7,EO7,EU7,FA7,FG7,FM7) -> 2788.9676 | FT7: =SUM(ED7,EJ7,EP7,EV7,FB7,FH7,FN7) -> 597.23403 | FU7: =SUM(EE7,EK7,EQ7,EW7,FC7,FI7,FO7) -> 0 | FV7: =SUM(FQ7:FU7) -> 8237.3716 | FW7: 261.36196 | FX7: 1252.8049 | FY7: 665.29941 | FZ7: 1030.2546 | GB7: =SUM(FW7:GA7) -> 3209.7209 | GD7: 159.78 | GH7: =SUM(GC7:GG7) -> 159.78 | GI7: 5331.1986 | GJ7: 952.05346 | GK7: 822.02652 | GL7: 347.25474 | GN7: =SUM(GI7:GM7) -> 7452.5333 | GO7: 1419.9662 | GP7: 335.95902 | GQ7: 30.689186 | GR7: 534.36224 | GT7: =SUM(GO7:GS7) -> 2320.9767 | GU7: 3968.6049 | GV7: 2823.5386 | GX7: 8.25 | GZ7: =SUM(GU7:GY7) -> 6800.3935 | HA7: 5640.9998 | HB7: 846.79803 | HC7: 457.44984 | HD7: 63.929342 | HF7: =SUM(HA7:HE7) -> 7009.177 | HG7: 251.46003 | HI7: 24.932826 | HJ7: 20.384484 | HL7: =SUM(HG7:HK7) -> 296.77734 | HM7: =SUM(FW7,GC7,GI7,GO7,GU7,HA7,HG7) -> 16873.591 | HN7: =SUM(FX7,GD7,GJ7,GP7,GV7,HB7,HH7) -> 6370.9341 | HO7: =SUM(FY7,GE7,GK7,GQ7,GW7,HC7,HI7) -> 2000.3978 | HP7: =SUM(FZ7,GF7,GL7,GR7,GX7,HD7,HJ7) -> 2004.4354 | HQ7: =SUM(GA7,GG7,GM7,GS7,GY7,HE7,HK7) -> 0 | HR7: =SUM(HM7:HQ7) -> 27249.359 | HS7: 27378.737 | HT7: 5848.3139 | HU7: 67.27523 | HV7: 16 | HX7: =SUM(HS7:HW7) -> 33310.326 | HY7: 3776.367 | HZ7: 2639.7236 | IA7: 2016.1745 | IB7: 1304.9939 | ID7: =SUM(HY7:IC7) -> 9737.259 | IE7: 133961.9 | IF7: 57475.947 | IG7: 8157.9004 | IH7: 59.5 | IJ7: =SUM(IE7:II7) -> 199655.25 | IK7: =SUM(HS7,HY7,IE7) -> 165117.01 | IL7: =SUM(HT7,HZ7,IF7) -> 65963.985 | IM7: =SUM(HU7,IA7,IG7) -> 10241.35 | IN7: =SUM(HV7,IB7,IH7) -> 1380.4939 | IO7: =SUM(HW7,IC7,II7) -> 0 | IP7: =SUM(IK7:IO7) -> 242702.84 | IQ7: 21069.559 | IR7: 6137.3513 | IT7: 26 | IV7: =SUM(IQ7:IU7) -> 27232.911 | IW7: 6909.0402 | IX7: 1144.1883 | IZ7: 28 | JB7: =SUM(IW7:JA7) -> 8081.2285 | JC7: 4288.5982 | JD7: 464.54047 | JF7: 43.5 | JH7: =SUM(JC7:JG7) -> 4796.6387 | JI7: =SUM(IQ7,IW7,JC7) -> 32267.198 | JJ7: =SUM(IR7,IX7,JD7) -> 7746.08 | JK7: =SUM(IS7,IY7,JE7) -> 0 | JL7: =SUM(IT7,IZ7,JF7) -> 97.5 | JM7: =SUM(IU7,JA7,JG7) -> 0 | JN7: =SUM(JI7:JM7) -> 40110.778 | JP7: =SUM(N7,AL7,BK7,CK7,DT7,FQ7,HM7,IK7,JI7) -> 221195.04 | JQ7: =SUM(O7,AM7,BL7,CL7,DU7,FR7,HN7,IL7,JJ7) -> 88248.799 | JR7: =SUM(P7,AN7,BM7,CM7,DV7,FS7,HO7,IM7,JK7) -> 23616.43 | JS7: =SUM(Q7,AO7,BN7,CN7,DW7,FT7,HP7,IN7,JL7) -> 7147.2656 | JT7: =SUM(R7,AP7,BO7,CO7,DX7,FU7,HQ7,IO7,JM7) -> 197.40817 | JU7: =SUM(BP7,CP7,DY7) -> 0 | JV7: =SUM(JP7:JU7) -> 340404.94
A8: IBB=Western Balsam Bark Beetle | B8: 70192.279 | C8: 13880.565 | E8: 9.5 | G8: =SUM(B8:F8) -> 84082.344 | H8: 2006.2045 | I8: 64.785079 | J8: 1681.7009 | K8: 2.5 | M8: =SUM(H8:L8) -> 3755.1904 | N8: =SUM(B8,H8) -> 72198.484 | O8: =SUM(C8,I8) -> 13945.35 | P8: =SUM(D8,J8) -> 1681.7009 | Q8: =SUM(E8,K8) -> 12 | R8: =SUM(F8,L8) -> 0 | S8: =SUM(N8:R8) -> 87837.534 | T8: 4550.6971 | U8: 1667.8436 | V8: 158.91152 | W8: 26.75 | Y8: =SUM(T8:X8) -> 6404.2022 | Z8: 17596.342 | AA8: 2291.3471 | AB8: 241.36807 | AC8: 20.25 | AE8: =SUM(Z8:AD8) -> 20149.307 | AF8: 399.03897 | AG8: 249.5102 | AH8: 659.35474 | AI8: 3 | AK8: =SUM(AF8:AJ8) -> 1310.9039 | AL8: =SUM(T8,Z8,AF8) -> 22546.078 | AM8: =SUM(U8,AA8,AG8) -> 4208.7009 | AN8: =SUM(V8,AB8,AH8) -> 1059.6343 | AO8: =SUM(W8,AC8,AI8) -> 50 | AP8: =SUM(X8,AD8,AJ8) -> 0 | AQ8: =SUM(AL8:AP8) -> 27864.413 | AR8: 1339.5497 | AS8: 156.4621 | AU8: 8 | AW8: =SUM(AR8:AV8) -> 1504.0118 | BD8: =SUM(AX8:BC8) -> 0 | BE8: 400.36346 | BF8: 52.188323 | BH8: 10.5 | BJ8: =SUM(BE8:BI8) -> 463.05178 | BK8: =SUM(AR8,AX8,BE8) -> 1739.9132 | BL8: =SUM(AS8,AY8,BF8) -> 208.65043 | BM8: =SUM(AT8,AZ8,BG8) -> 0 | BN8: =SUM(AU8,BA8,BH8) -> 18.5 | BO8: =SUM(AV8,BB8,BI8) -> 0 | BP8: =SUM(BC8) -> 0 | BQ8: =SUM(BK8:BP8) -> 1967.0636 | BR8: 5005.5174 | BS8: 500.70017 | BU8: 4.5 | BW8: =SUM(BR8:BV8) -> 5510.7176 | BX8: 53846.371 | BY8: 2025.115 | CA8: 13.75 | CC8: =SUM(BX8:CB8) -> 55885.236 | CD8: 44383.659 | CE8: 18891.231 | CF8: 2011.9508 | CG8: 1022.7721 | CJ8: =SUM(CD8:CI8) -> 66309.612 | CK8: =SUM(BR8,BX8,CD8) -> 103235.55 | CL8: =SUM(BS8,BY8,CE8) -> 21417.046 | CM8: =SUM(BT8,BZ8,CF8) -> 2011.9508 | CN8: =SUM(BU8,CA8,CG8) -> 1041.0221 | CO8: =SUM(BV8,CB8,CH8) -> 0 | CP8: =SUM(CI8) -> 0 | CQ8: =SUM(CK8:CP8) -> 127705.57 | CR8: 61512.419 | CS8: 6822.0041 | CT8: 627.70734 | CU8: 0.25 | CX8: =SUM(CR8:CW8) -> 68962.38 | CY8: 11254.518 | CZ8: 484.74099 | DA8: 89.104714 | DE8: =SUM(CY8:DD8) -> 11828.364 | DF8: 8906.8399 | DG8: 399.24794 | DL8: =SUM(DF8:DK8) -> 9306.0878 | DM8: 56262.884 | DN8: 716.57837 | DP8: 0.25 | DS8: =SUM(DM8:DR8) -> 56979.713 | DT8: =SUM(CR8,CY8,DF8,DM8) -> 137936.66 | DU8: =SUM(CS8,CZ8,DG8,DN8) -> 8422.5714 | DV8: =SUM(CT8,DA8,DH8,DO8) -> 716.81205 | DW8: =SUM(CU8,DB8,DI8,DP8) -> 0.5 | DX8: =SUM(CV8,DC8,DJ8,DQ8) -> 0 | DY8: =SUM(CW8,DD8,DK8,DR8) -> 0 | DZ8: =SUM(DT8:DY8) -> 147076.54 | EA8: 4672.1297 | EB8: 459.56422 | ED8: 8.25 | EF8: =SUM(EA8:EE8) -> 5139.9439 | EG8: 1847.0557 | EH8: 24.416994 | EJ8: 4.25 | EL8: =SUM(EG8:EK8) -> 1875.7227 | EM8: 4789.6077 | EN8: 1209.2408 | EO8: 121.15628 | EP8: 19.75 | ER8: =SUM(EM8:EQ8) -> 6139.7548 | ES8: 7310.6208 | ET8: 1604.9677 | EU8: 843.39358 | EV8: 15.5 | EX8: =SUM(ES8:EW8) -> 9774.4821 | EY8: 10395.855 | EZ8: 4616.3828 | FA8: 325.80907 | FB8: 11 | FD8: =SUM(EY8:FC8) -> 15349.047 | FE8: 5076.4995 | FF8: 495.56167 | FH8: 11 | FJ8: =SUM(FE8:FI8) -> 5583.0612 | FK8: 4229.9521 | FL8: 70.068906 | FM8: 28.711608 | FN8: 1.75 | FP8: =SUM(FK8:FO8) -> 4330.4826 | FQ8: =SUM(EA8,EG8,EM8,ES8,EY8,FE8,FK8) -> 38321.721 | FR8: =SUM(EB8,EH8,EN8,ET8,EZ8,FF8,FL8) -> 8480.2032 | FS8: =SUM(EC8,EI8,EO8,EU8,FA8,FG8,FM8) -> 1319.0705 | FT8: =SUM(ED8,EJ8,EP8,EV8,FB8,FH8,FN8) -> 71.5 | FU8: =SUM(EE8,EK8,EQ8,EW8,FC8,FI8,FO8) -> 0 | FV8: =SUM(FQ8:FU8) -> 48192.494 | FW8: 299884.06 | FX8: 3156.5003 | FZ8: 7 | GB8: =SUM(FW8:GA8) -> 303047.56 | GC8: 1690.7626 | GD8: 67.839902 | GF8: 12.5 | GH8: =SUM(GC8:GG8) -> 1771.1026 | GI8: 44048.371 | GJ8: 20.069905 | GL8: 22.273077 | GN8: =SUM(GI8:GM8) -> 44090.714 | GO8: 325594.81 | GP8: 57.611315 | GQ8: 364.73913 | GR8: 226.83397 | GT8: =SUM(GO8:GS8) -> 326244 | GU8: 144569.27 | GV8: 14725.659 | GW8: 1040.9483 | GX8: 42.552929 | GZ8: =SUM(GU8:GY8) -> 160378.43 | HA8: 334084.9 | HB8: 15716.818 | HC8: 13041.998 | HD8: 211.18387 | HF8: =SUM(HA8:HE8) -> 363054.9 | HG8: 11740.419 | HJ8: 3.5 | HL8: =SUM(HG8:HK8) -> 11743.919 | HM8: =SUM(FW8,GC8,GI8,GO8,GU8,HA8,HG8) -> 1161612.6 | HN8: =SUM(FX8,GD8,GJ8,GP8,GV8,HB8,HH8) -> 33744.498 | HO8: =SUM(FY8,GE8,GK8,GQ8,GW8,HC8,HI8) -> 14447.685 | HP8: =SUM(FZ8,GF8,GL8,GR8,GX8,HD8,HJ8) -> 525.84384 | HQ8: =SUM(GA8,GG8,GM8,GS8,GY8,HE8,HK8) -> 0 | HR8: =SUM(HM8:HQ8) -> 1210330.6 | HS8: 557991.11 | HT8: 75433.016 | HU8: 2674.6459 | HV8: 217.25 | HX8: =SUM(HS8:HW8) -> 636316.02 | HY8: 94299.862 | HZ8: 26248.261 | IA8: 78.197277 | IB8: 17.75 | ID8: =SUM(HY8:IC8) -> 120644.07 | IE8: 863393.85 | IF8: 115019.83 | IG8: 1217.6089 | IH8: 226 | IJ8: =SUM(IE8:II8) -> 979857.29 | IK8: =SUM(HS8,HY8,IE8) -> 1515684.8 | IL8: =SUM(HT8,HZ8,IF8) -> 216701.11 | IM8: =SUM(HU8,IA8,IG8) -> 3970.4521 | IN8: =SUM(HV8,IB8,IH8) -> 461 | IO8: =SUM(HW8,IC8,II8) -> 0 | IP8: =SUM(IK8:IO8) -> 1736817.4 | IQ8: 170380.78 | IR8: 8832.052 | IT8: 61.75 | IV8: =SUM(IQ8:IU8) -> 179274.59 | IW8: 62546.743 | IX8: 12930.236 | IZ8: 79.75 | JB8: =SUM(IW8:JA8) -> 75556.729 | JC8: 6105.5005 | JD8: 207.49326 | JF8: 20.75 | JH8: =SUM(JC8:JG8) -> 6333.7438 | JI8: =SUM(IQ8,IW8,JC8) -> 239033.03 | JJ8: =SUM(IR8,IX8,JD8) -> 21969.781 | JK8: =SUM(IS8,IY8,JE8) -> 0 | JL8: =SUM(IT8,IZ8,JF8) -> 162.25 | JM8: =SUM(IU8,JA8,JG8) -> 0 | JN8: =SUM(JI8:JM8) -> 261165.06 | JP8: =SUM(N8,AL8,BK8,CK8,DT8,FQ8,HM8,IK8,JI8) -> 3292308.9 | JQ8: =SUM(O8,AM8,BL8,CL8,DU8,FR8,HN8,IL8,JJ8) -> 329097.91 | JR8: =SUM(P8,AN8,BM8,CM8,DV8,FS8,HO8,IM8,JK8) -> 25207.306 | JS8: =SUM(Q8,AO8,BN8,CN8,DW8,FT8,HP8,IN8,JL8) -> 2342.6159 | JT8: =SUM(R8,AP8,BO8,CO8,DX8,FU8,HQ8,IO8,JM8) -> 0 | JU8: =SUM(BP8,CP8,DY8) -> 0 | JV8: =SUM(JP8:JU8) -> 3648956.7
A9: IBD=Douglas-fir Beetle | B9: 217.00534 | C9: 1278.9374 | D9: 77.609031 | E9: 60.085099 | G9: =SUM(B9:F9) -> 1633.6368 | H9: 1641.1133 | J9: 44.224986 | K9: 12.497023 | M9: =SUM(H9:L9) -> 1697.8353 | N9: =SUM(B9,H9) -> 1858.1186 | O9: =SUM(C9,I9) -> 1278.9374 | P9: =SUM(D9,J9) -> 121.83402 | Q9: =SUM(E9,K9) -> 72.582122 | R9: =SUM(F9,L9) -> 0 | S9: =SUM(N9:R9) -> 3331.4721 | T9: 2389.7029 | U9: 981.57522 | V9: 161.90646 | W9: 70.25 | Y9: =SUM(T9:X9) -> 3603.4345 | Z9: 136.27092 | AA9: 91.15177 | AB9: 28.266389 | AC9: 17 | AE9: =SUM(Z9:AD9) -> 272.68908 | AF9: 713.31674 | AG9: 82.52545 | AH9: 176.5532 | AI9: 18.75 | AK9: =SUM(AF9:AJ9) -> 991.14539 | AL9: =SUM(T9,Z9,AF9) -> 3239.2905 | AM9: =SUM(U9,AA9,AG9) -> 1155.2524 | AN9: =SUM(V9,AB9,AH9) -> 366.72605 | AO9: =SUM(W9,AC9,AI9) -> 106 | AP9: =SUM(X9,AD9,AJ9) -> 0 | AQ9: =SUM(AL9:AP9) -> 4867.269 | AR9: 636.45779 | AS9: 490.2128 | AT9: 23.727176 | AU9: 35.678181 | AW9: =SUM(AR9:AV9) -> 1186.0759 | BD9: =SUM(AX9:BC9) -> 0 | BE9: 1000.0052 | BG9: 22.484742 | BH9: 4.25 | BJ9: =SUM(BE9:BI9) -> 1026.7399 | BK9: =SUM(AR9,AX9,BE9) -> 1636.463 | BL9: =SUM(AS9,AY9,BF9) -> 490.2128 | BM9: =SUM(AT9,AZ9,BG9) -> 46.211918 | BN9: =SUM(AU9,BA9,BH9) -> 39.928181 | BO9: =SUM(AV9,BB9,BI9) -> 0 | BP9: =SUM(BC9) -> 0 | BQ9: =SUM(BK9:BP9) -> 2212.8159 | BR9: 471.7606 | BS9: 5495.4822 | BT9: 328.99134 | BU9: 224.32413 | BW9: =SUM(BR9:BV9) -> 6520.5583 | BX9: 395.74379 | BY9: 5491.5612 | BZ9: 3205.8085 | CA9: 1408.6549 | CC9: =SUM(BX9:CB9) -> 10501.768 | CD9: 2641.9533 | CE9: 40458.19 | CF9: 6955.6474 | CG9: 501.28316 | CH9: 6.6465971 | CJ9: =SUM(CD9:CI9) -> 50563.721 | CK9: =SUM(BR9,BX9,CD9) -> 3509.4577 | CL9: =SUM(BS9,BY9,CE9) -> 51445.234 | CM9: =SUM(BT9,BZ9,CF9) -> 10490.447 | CN9: =SUM(BU9,CA9,CG9) -> 2134.2622 | CO9: =SUM(BV9,CB9,CH9) -> 6.6465971 | CP9: =SUM(CI9) -> 0 | CQ9: =SUM(CK9:CP9) -> 67586.048 | CS9: 591.57171 | CT9: 907.06305 | CU9: 608.55661 | CV9: 119.87705 | CX9: =SUM(CR9:CW9) -> 2227.0684 | CZ9: 103.86101 | DA9: 290.63723 | DB9: 111.59901 | DC9: 128.19762 | DE9: =SUM(CY9:DD9) -> 634.29486 | DG9: 98.248183 | DH9: 372.0386 | DI9: 135.19619 | DJ9: 47.883254 | DL9: =SUM(DF9:DK9) -> 653.36622 | DN9: 601.41595 | DO9: 895.56843 | DP9: 585.23654 | DQ9: 112.57121 | DS9: =SUM(DM9:DR9) -> 2194.7921 | DT9: =SUM(CR9,CY9,DF9,DM9) -> 0 | DU9: =SUM(CS9,CZ9,DG9,DN9) -> 1395.0968 | DV9: =SUM(CT9,DA9,DH9,DO9) -> 2465.3073 | DW9: =SUM(CU9,DB9,DI9,DP9) -> 1440.5883 | DX9: =SUM(CV9,DC9,DJ9,DQ9) -> 408.52913 | DY9: =SUM(CW9,DD9,DK9,DR9) -> 0 | DZ9: =SUM(DT9:DY9) -> 5709.5216 | EA9: 417.45322 | EB9: 963.30221 | EC9: 1141.5655 | ED9: 127.58897 | EF9: =SUM(EA9:EE9) -> 2649.9099 | EG9: 121.23409 | EH9: 142.34612 | EI9: 209.60188 | EJ9: 38.5 | EL9: =SUM(EG9:EK9) -> 511.68209 | EM9: 345.94072 | EN9: 171.48869 | EO9: 141.80885 | EP9: 43.75 | ER9: =SUM(EM9:EQ9) -> 702.98826 | ES9: 26.773967 | EU9: 43.881761 | EV9: 7.75 | EX9: =SUM(ES9:EW9) -> 78.405728 | EY9: 27.317901 | EZ9: 224.03296 | FA9: 900.46787 | FB9: 284.39824 | FD9: =SUM(EY9:FC9) -> 1436.217 | FE9: 155.99618 | FF9: 247.10516 | FG9: 238.56926 | FH9: 61.75 | FJ9: =SUM(FE9:FI9) -> 703.42061 | FK9: 198.21754 | FL9: 287.71919 | FM9: 44.371567 | FN9: 12.75 | FP9: =SUM(FK9:FO9) -> 543.0583 | FQ9: =SUM(EA9,EG9,EM9,ES9,EY9,FE9,FK9) -> 1292.9336 | FR9: =SUM(EB9,EH9,EN9,ET9,EZ9,FF9,FL9) -> 2035.9943 | FS9: =SUM(EC9,EI9,EO9,EU9,FA9,FG9,FM9) -> 2720.2667 | FT9: =SUM(ED9,EJ9,EP9,EV9,FB9,FH9,FN9) -> 576.48721 | FU9: =SUM(EE9,EK9,EQ9,EW9,FC9,FI9,FO9) -> 0 | FV9: =SUM(FQ9:FU9) -> 6625.6819 | GB9: =SUM(FW9:GA9) -> 0 | GH9: =SUM(GC9:GG9) -> 0 | GN9: =SUM(GI9:GM9) -> 0 | GT9: =SUM(GO9:GS9) -> 0 | GW9: 518.22798 | GX9: 0.5 | GZ9: =SUM(GU9:GY9) -> 518.72798 | HF9: =SUM(HA9:HE9) -> 0 | HL9: =SUM(HG9:HK9) -> 0 | HM9: =SUM(FW9,GC9,GI9,GO9,GU9,HA9,HG9) -> 0 | HN9: =SUM(FX9,GD9,GJ9,GP9,GV9,HB9,HH9) -> 0 | HO9: =SUM(FY9,GE9,GK9,GQ9,GW9,HC9,HI9) -> 518.22798 | HP9: =SUM(FZ9,GF9,GL9,GR9,GX9,HD9,HJ9) -> 0.5 | HQ9: =SUM(GA9,GG9,GM9,GS9,GY9,HE9,HK9) -> 0 | HR9: =SUM(HM9:HQ9) -> 518.72798 | HX9: =SUM(HS9:HW9) -> 0 | HY9: 394.9251 | HZ9: 204.87863 | IA9: 34.297026 | IB9: 9 | ID9: =SUM(HY9:IC9) -> 643.10076 | IE9: 5025.6953 | IF9: 4753.4933 | IG9: 2234.4675 | IH9: 208.38547 | IJ9: =SUM(IE9:II9) -> 12222.042 | IK9: =SUM(HS9,HY9,IE9) -> 5420.6204 | IL9: =SUM(HT9,HZ9,IF9) -> 4958.372 | IM9: =SUM(HU9,IA9,IG9) -> 2268.7645 | IN9: =SUM(HV9,IB9,IH9) -> 217.38547 | IO9: =SUM(HW9,IC9,II9) -> 0 | IP9: =SUM(IK9:IO9) -> 12865.142 | IV9: =SUM(IQ9:IU9) -> 0 | JB9: =SUM(IW9:JA9) -> 0 | JH9: =SUM(JC9:JG9) -> 0 | JI9: =SUM(IQ9,IW9,JC9) -> 0 | JJ9: =SUM(IR9,IX9,JD9) -> 0 | JK9: =SUM(IS9,IY9,JE9) -> 0 | JL9: =SUM(IT9,IZ9,JF9) -> 0 | JM9: =SUM(IU9,JA9,JG9) -> 0 | JN9: =SUM(JI9:JM9) -> 0 | JP9: =SUM(N9,AL9,BK9,CK9,DT9,FQ9,HM9,IK9,JI9) -> 16956.884 | JQ9: =SUM(O9,AM9,BL9,CL9,DU9,FR9,HN9,IL9,JJ9) -> 62759.1 | JR9: =SUM(P9,AN9,BM9,CM9,DV9,FS9,HO9,IM9,JK9) -> 18997.786 | JS9: =SUM(Q9,AO9,BN9,CN9,DW9,FT9,HP9,IN9,JL9) -> 4587.7335 | JT9: =SUM(R9,AP9,BO9,CO9,DX9,FU9,HQ9,IO9,JM9) -> 415.17573 | JU9: =SUM(BP9,CP9,DY9) -> 0 | JV9: =SUM(JP9:JU9) -> 103716.68
A10: IBF = Fir engraver Beetle | G10: =SUM(B10:F10) -> 0 | M10: =SUM(H10:L10) -> 0 | N10: =SUM(B10,H10) -> 0 | O10: =SUM(C10,I10) -> 0 | P10: =SUM(D10,J10) -> 0 | Q10: =SUM(E10,K10) -> 0 | R10: =SUM(F10,L10) -> 0 | S10: =SUM(N10:R10) -> 0 | Y10: =SUM(T10:X10) -> 0 | AE10: =SUM(Z10:AD10) -> 0 | AK10: =SUM(AF10:AJ10) -> 0 | AL10: =SUM(T10,Z10,AF10) -> 0 | AM10: =SUM(U10,AA10,AG10) -> 0 | AN10: =SUM(V10,AB10,AH10) -> 0 | AO10: =SUM(W10,AC10,AI10) -> 0 | AP10: =SUM(X10,AD10,AJ10) -> 0 | AQ10: =SUM(AL10:AP10) -> 0 | AW10: =SUM(AR10:AV10) -> 0 | BD10: =SUM(AX10:BC10) -> 0 | BJ10: =SUM(BE10:BI10) -> 0 | BK10: =SUM(AR10,AX10,BE10) -> 0 | BL10: =SUM(AS10,AY10,BF10) -> 0 | BM10: =SUM(AT10,AZ10,BG10) -> 0 | BN10: =SUM(AU10,BA10,BH10) -> 0 | BO10: =SUM(AV10,BB10,BI10) -> 0 | BP10: =SUM(BC10) -> 0 | BQ10: =SUM(BK10:BP10) -> 0 | BW10: =SUM(BR10:BV10) -> 0 | CC10: =SUM(BX10:CB10) -> 0 | CJ10: =SUM(CD10:CI10) -> 0 | CK10: =SUM(BR10,BX10,CD10) -> 0 | CL10: =SUM(BS10,BY10,CE10) -> 0 | CM10: =SUM(BT10,BZ10,CF10) -> 0 | CN10: =SUM(BU10,CA10,CG10) -> 0 | CO10: =SUM(BV10,CB10,CH10) -> 0 | CP10: =SUM(CI10) -> 0 | CQ10: =SUM(CK10:CP10) -> 0 | CX10: =SUM(CR10:CW10) -> 0 | DE10: =SUM(CY10:DD10) -> 0 | DL10: =SUM(DF10:DK10) -> 0 | DS10: =SUM(DM10:DR10) -> 0 | DT10: =SUM(CR10,CY10,DF10,DM10) -> 0 | DU10: =SUM(CS10,CZ10,DG10,DN10) -> 0 | DV10: =SUM(CT10,DA10,DH10,DO10) -> 0 | DW10: =SUM(CU10,DB10,DI10,DP10) -> 0 | DX10: =SUM(CV10,DC10,DJ10,DQ10) -> 0 | DY10: =SUM(CW10,DD10,DK10,DR10) -> 0 | DZ10: =SUM(DT10:DY10) -> 0 | EF10: =SUM(EA10:EE10) -> 0 | EL10: =SUM(EG10:EK10) -> 0 | ER10: =SUM(EM10:EQ10) -> 0 | EX10: =SUM(ES10:EW10) -> 0 | FD10: =SUM(EY10:FC10) -> 0 | FJ10: =SUM(FE10:FI10) -> 0 | FP10: =SUM(FK10:FO10) -> 0 | FQ10: =SUM(EA10,EG10,EM10,ES10,EY10,FE10,FK10) -> 0 | FR10: =SUM(EB10,EH10,EN10,ET10,EZ10,FF10,FL10) -> 0 | FS10: =SUM(EC10,EI10,EO10,EU10,FA10,FG10,FM10) -> 0 | FT10: =SUM(ED10,EJ10,EP10,EV10,FB10,FH10,FN10) -> 0 | FU10: =SUM(EE10,EK10,EQ10,EW10,FC10,FI10,FO10) -> 0 | FV10: =SUM(FQ10:FU10) -> 0 | GB10: =SUM(FW10:GA10) -> 0 | GH10: =SUM(GC10:GG10) -> 0 | GN10: =SUM(GI10:GM10) -> 0 | GT10: =SUM(GO10:GS10) -> 0 | GZ10: =SUM(GU10:GY10) -> 0 | HF10: =SUM(HA10:HE10) -> 0 | HL10: =SUM(HG10:HK10) -> 0 | HM10: =SUM(FW10,GC10,GI10,GO10,GU10,HA10,HG10) -> 0 | HN10: =SUM(FX10,GD10,GJ10,GP10,GV10,HB10,HH10) -> 0 | HO10: =SUM(FY10,GE10,GK10,GQ10,GW10,HC10,HI10) -> 0 | HP10: =SUM(FZ10,GF10,GL10,GR10,GX10,HD10,HJ10) -> 0 | HQ10: =SUM(GA10,GG10,GM10,GS10,GY10,HE10,HK10) -> 0 | HR10: =SUM(HM10:HQ10) -> 0 | HX10: =SUM(HS10:HW10) -> 0 | ID10: =SUM(HY10:IC10) -> 0 | IJ10: =SUM(IE10:II10) -> 0 | IK10: =SUM(HS10,HY10,IE10) -> 0 | IL10: =SUM(HT10,HZ10,IF10) -> 0 | IM10: =SUM(HU10,IA10,IG10) -> 0 | IN10: =SUM(HV10,IB10,IH10) -> 0 | IO10: =SUM(HW10,IC10,II10) -> 0 | IP10: =SUM(IK10:IO10) -> 0 | IV10: =SUM(IQ10:IU10) -> 0 | JB10: =SUM(IW10:JA10) -> 0 | JH10: =SUM(JC10:JG10) -> 0 | JI10: =SUM(IQ10,IW10,JC10) -> 0 | JJ10: =SUM(IR10,IX10,JD10) -> 0 | JK10: =SUM(IS10,IY10,JE10) -> 0 | JL10: =SUM(IT10,IZ10,JF10) -> 0 | JM10: =SUM(IU10,JA10,JG10) -> 0 | JN10: =SUM(JI10:JM10) -> 0 | JP10: =SUM(N10,AL10,BK10,CK10,DT10,FQ10,HM10,IK10,JI10) -> 0 | JQ10: =SUM(O10,AM10,BL10,CL10,DU10,FR10,HN10,IL10,JJ10) -> 0 | JR10: =SUM(P10,AN10,BM10,CM10,DV10,FS10,HO10,IM10,JK10) -> 0 | JS10: =SUM(Q10,AO10,BN10,CN10,DW10,FT10,HP10,IN10,JL10) -> 0 | JT10: =SUM(R10,AP10,BO10,CO10,DX10,FU10,HQ10,IO10,JM10) -> 0 | JU10: =SUM(BP10,CP10,DY10) -> 0 | JV10: =SUM(JP10:JU10) -> 0
A11: IBP = Twig Beetle | G11: =SUM(B11:F11) -> 0 | M11: =SUM(H11:L11) -> 0 | N11: =SUM(B11,H11) -> 0 | O11: =SUM(C11,I11) -> 0 | P11: =SUM(D11,J11) -> 0 | Q11: =SUM(E11,K11) -> 0 | R11: =SUM(F11,L11) -> 0 | S11: =SUM(N11:R11) -> 0 | Y11: =SUM(T11:X11) -> 0 | AE11: =SUM(Z11:AD11) -> 0 | AK11: =SUM(AF11:AJ11) -> 0 | AL11: =SUM(T11,Z11,AF11) -> 0 | AM11: =SUM(U11,AA11,AG11) -> 0 | AN11: =SUM(V11,AB11,AH11) -> 0 | AO11: =SUM(W11,AC11,AI11) -> 0 | AP11: =SUM(X11,AD11,AJ11) -> 0 | AQ11: =SUM(AL11:AP11) -> 0 | AW11: =SUM(AR11:AV11) -> 0 | BD11: =SUM(AX11:BC11) -> 0 | BJ11: =SUM(BE11:BI11) -> 0 | BK11: =SUM(AR11,AX11,BE11) -> 0 | BL11: =SUM(AS11,AY11,BF11) -> 0 | BM11: =SUM(AT11,AZ11,BG11) -> 0 | BN11: =SUM(AU11,BA11,BH11) -> 0 | BO11: =SUM(AV11,BB11,BI11) -> 0 | BP11: =SUM(BC11) -> 0 | BQ11: =SUM(BK11:BP11) -> 0 | BW11: =SUM(BR11:BV11) -> 0 | CC11: =SUM(BX11:CB11) -> 0 | CJ11: =SUM(CD11:CI11) -> 0 | CK11: =SUM(BR11,BX11,CD11) -> 0 | CL11: =SUM(BS11,BY11,CE11) -> 0 | CM11: =SUM(BT11,BZ11,CF11) -> 0 | CN11: =SUM(BU11,CA11,CG11) -> 0 | CO11: =SUM(BV11,CB11,CH11) -> 0 | CP11: =SUM(CI11) -> 0 | CQ11: =SUM(CK11:CP11) -> 0 | CX11: =SUM(CR11:CW11) -> 0 | DE11: =SUM(CY11:DD11) -> 0 | DL11: =SUM(DF11:DK11) -> 0 | DS11: =SUM(DM11:DR11) -> 0 | DT11: =SUM(CR11,CY11,DF11,DM11) -> 0 | DU11: =SUM(CS11,CZ11,DG11,DN11) -> 0 | DV11: =SUM(CT11,DA11,DH11,DO11) -> 0 | DW11: =SUM(CU11,DB11,DI11,DP11) -> 0 | DX11: =SUM(CV11,DC11,DJ11,DQ11) -> 0 | DY11: =SUM(CW11,DD11,DK11,DR11) -> 0 | DZ11: =SUM(DT11:DY11) -> 0 | EF11: =SUM(EA11:EE11) -> 0 | EL11: =SUM(EG11:EK11) -> 0 | ER11: =SUM(EM11:EQ11) -> 0 | EX11: =SUM(ES11:EW11) -> 0 | FD11: =SUM(EY11:FC11) -> 0 | FJ11: =SUM(FE11:FI11) -> 0 | FP11: =SUM(FK11:FO11) -> 0 | FQ11: =SUM(EA11,EG11,EM11,ES11,EY11,FE11,FK11) -> 0 | FR11: =SUM(EB11,EH11,EN11,ET11,EZ11,FF11,FL11) -> 0 | FS11: =SUM(EC11,EI11,EO11,EU11,FA11,FG11,FM11) -> 0 | FT11: =SUM(ED11,EJ11,EP11,EV11,FB11,FH11,FN11) -> 0 | FU11: =SUM(EE11,EK11,EQ11,EW11,FC11,FI11,FO11) -> 0 | FV11: =SUM(FQ11:FU11) -> 0 | GB11: =SUM(FW11:GA11) -> 0 | GH11: =SUM(GC11:GG11) -> 0 | GN11: =SUM(GI11:GM11) -> 0 | GT11: =SUM(GO11:GS11) -> 0 | GZ11: =SUM(GU11:GY11) -> 0 | HF11: =SUM(HA11:HE11) -> 0 | HL11: =SUM(HG11:HK11) -> 0 | HM11: =SUM(FW11,GC11,GI11,GO11,GU11,HA11,HG11) -> 0 | HN11: =SUM(FX11,GD11,GJ11,GP11,GV11,HB11,HH11) -> 0 | HO11: =SUM(FY11,GE11,GK11,GQ11,GW11,HC11,HI11) -> 0 | HP11: =SUM(FZ11,GF11,GL11,GR11,GX11,HD11,HJ11) -> 0 | HQ11: =SUM(GA11,GG11,GM11,GS11,GY11,HE11,HK11) -> 0 | HR11: =SUM(HM11:HQ11) -> 0 | HX11: =SUM(HS11:HW11) -> 0 | ID11: =SUM(HY11:IC11) -> 0 | IJ11: =SUM(IE11:II11) -> 0 | IK11: =SUM(HS11,HY11,IE11) -> 0 | IL11: =SUM(HT11,HZ11,IF11) -> 0 | IM11: =SUM(HU11,IA11,IG11) -> 0 | IN11: =SUM(HV11,IB11,IH11) -> 0 | IO11: =SUM(HW11,IC11,II11) -> 0 | IP11: =SUM(IK11:IO11) -> 0 | IV11: =SUM(IQ11:IU11) -> 0 | JB11: =SUM(IW11:JA11) -> 0 | JH11: =SUM(JC11:JG11) -> 0 | JI11: =SUM(IQ11,IW11,JC11) -> 0 | JJ11: =SUM(IR11,IX11,JD11) -> 0 | JK11: =SUM(IS11,IY11,JE11) -> 0 | JL11: =SUM(IT11,IZ11,JF11) -> 0 | JM11: =SUM(IU11,JA11,JG11) -> 0 | JN11: =SUM(JI11:JM11) -> 0 | JP11: =SUM(N11,AL11,BK11,CK11,DT11,FQ11,HM11,IK11,JI11) -> 0 | JQ11: =SUM(O11,AM11,BL11,CL11,DU11,FR11,HN11,IL11,JJ11) -> 0 | JR11: =SUM(P11,AN11,BM11,CM11,DV11,FS11,HO11,IM11,JK11) -> 0 | JS11: =SUM(Q11,AO11,BN11,CN11,DW11,FT11,HP11,IN11,JL11) -> 0 | JT11: =SUM(R11,AP11,BO11,CO11,DX11,FU11,HQ11,IO11,JM11) -> 0 | JU11: =SUM(BP11,CP11,DY11) -> 0 | JV11: =SUM(JP11:JU11) -> 0
A12: IBI=Engraver Beetle (Ips species) | G12: =SUM(B12:F12) -> 0 | M12: =SUM(H12:L12) -> 0 | N12: =SUM(B12,H12) -> 0 | O12: =SUM(C12,I12) -> 0 | P12: =SUM(D12,J12) -> 0 | Q12: =SUM(E12,K12) -> 0 | R12: =SUM(F12,L12) -> 0 | S12: =SUM(N12:R12) -> 0 | Y12: =SUM(T12:X12) -> 0 | AE12: =SUM(Z12:AD12) -> 0 | AK12: =SUM(AF12:AJ12) -> 0 | AL12: =SUM(T12,Z12,AF12) -> 0 | AM12: =SUM(U12,AA12,AG12) -> 0 | AN12: =SUM(V12,AB12,AH12) -> 0 | AO12: =SUM(W12,AC12,AI12) -> 0 | AP12: =SUM(X12,AD12,AJ12) -> 0 | AQ12: =SUM(AL12:AP12) -> 0 | AW12: =SUM(AR12:AV12) -> 0 | BD12: =SUM(AX12:BC12) -> 0 | BJ12: =SUM(BE12:BI12) -> 0 | BK12: =SUM(AR12,AX12,BE12) -> 0 | BL12: =SUM(AS12,AY12,BF12) -> 0 | BM12: =SUM(AT12,AZ12,BG12) -> 0 | BN12: =SUM(AU12,BA12,BH12) -> 0 | BO12: =SUM(AV12,BB12,BI12) -> 0 | BP12: =SUM(BC12) -> 0 | BQ12: =SUM(BK12:BP12) -> 0 | BW12: =SUM(BR12:BV12) -> 0 | CC12: =SUM(BX12:CB12) -> 0 | CJ12: =SUM(CD12:CI12) -> 0 | CK12: =SUM(BR12,BX12,CD12) -> 0 | CL12: =SUM(BS12,BY12,CE12) -> 0 | CM12: =SUM(BT12,BZ12,CF12) -> 0 | CN12: =SUM(BU12,CA12,CG12) -> 0 | CO12: =SUM(BV12,CB12,CH12) -> 0 | CP12: =SUM(CI12) -> 0 | CQ12: =SUM(CK12:CP12) -> 0 | CX12: =SUM(CR12:CW12) -> 0 | DE12: =SUM(CY12:DD12) -> 0 | DL12: =SUM(DF12:DK12) -> 0 | DS12: =SUM(DM12:DR12) -> 0 | DT12: =SUM(CR12,CY12,DF12,DM12) -> 0 | DU12: =SUM(CS12,CZ12,DG12,DN12) -> 0 | DV12: =SUM(CT12,DA12,DH12,DO12) -> 0 | DW12: =SUM(CU12,DB12,DI12,DP12) -> 0 | DX12: =SUM(CV12,DC12,DJ12,DQ12) -> 0 | DY12: =SUM(CW12,DD12,DK12,DR12) -> 0 | DZ12: =SUM(DT12:DY12) -> 0 | EF12: =SUM(EA12:EE12) -> 0 | EL12: =SUM(EG12:EK12) -> 0 | ER12: =SUM(EM12:EQ12) -> 0 | EX12: =SUM(ES12:EW12) -> 0 | FD12: =SUM(EY12:FC12) -> 0 | FJ12: =SUM(FE12:FI12) -> 0 | FP12: =SUM(FK12:FO12) -> 0 | FQ12: =SUM(EA12,EG12,EM12,ES12,EY12,FE12,FK12) -> 0 | FR12: =SUM(EB12,EH12,EN12,ET12,EZ12,FF12,FL12) -> 0 | FS12: =SUM(EC12,EI12,EO12,EU12,FA12,FG12,FM12) -> 0 | FT12: =SUM(ED12,EJ12,EP12,EV12,FB12,FH12,FN12) -> 0 | FU12: =SUM(EE12,EK12,EQ12,EW12,FC12,FI12,FO12) -> 0 | FV12: =SUM(FQ12:FU12) -> 0 | GB12: =SUM(FW12:GA12) -> 0 | GH12: =SUM(GC12:GG12) -> 0 | GN12: =SUM(GI12:GM12) -> 0 | GT12: =SUM(GO12:GS12) -> 0 | GZ12: =SUM(GU12:GY12) -> 0 | HF12: =SUM(HA12:HE12) -> 0 | HL12: =SUM(HG12:HK12) -> 0 | HM12: =SUM(FW12,GC12,GI12,GO12,GU12,HA12,HG12) -> 0 | HN12: =SUM(FX12,GD12,GJ12,GP12,GV12,HB12,HH12) -> 0 | HO12: =SUM(FY12,GE12,GK12,GQ12,GW12,HC12,HI12) -> 0 | HP12: =SUM(FZ12,GF12,GL12,GR12,GX12,HD12,HJ12) -> 0 | HQ12: =SUM(GA12,GG12,GM12,GS12,GY12,HE12,HK12) -> 0 | HR12: =SUM(HM12:HQ12) -> 0 | HX12: =SUM(HS12:HW12) -> 0 | ID12: =SUM(HY12:IC12) -> 0 | IJ12: =SUM(IE12:II12) -> 0 | IK12: =SUM(HS12,HY12,IE12) -> 0 | IL12: =SUM(HT12,HZ12,IF12) -> 0 | IM12: =SUM(HU12,IA12,IG12) -> 0 | IN12: =SUM(HV12,IB12,IH12) -> 0 | IO12: =SUM(HW12,IC12,II12) -> 0 | IP12: =SUM(IK12:IO12) -> 0 | IV12: =SUM(IQ12:IU12) -> 0 | JB12: =SUM(IW12:JA12) -> 0 | JH12: =SUM(JC12:JG12) -> 0 | JI12: =SUM(IQ12,IW12,JC12) -> 0 | JJ12: =SUM(IR12,IX12,JD12) -> 0 | JK12: =SUM(IS12,IY12,JE12) -> 0 | JL12: =SUM(IT12,IZ12,JF12) -> 0 | JM12: =SUM(IU12,JA12,JG12) -> 0 | JN12: =SUM(JI12:JM12) -> 0 | JP12: =SUM(N12,AL12,BK12,CK12,DT12,FQ12,HM12,IK12,JI12) -> 0 | JQ12: =SUM(O12,AM12,BL12,CL12,DU12,FR12,HN12,IL12,JJ12) -> 0 | JR12: =SUM(P12,AN12,BM12,CM12,DV12,FS12,HO12,IM12,JK12) -> 0 | JS12: =SUM(Q12,AO12,BN12,CN12,DW12,FT12,HP12,IN12,JL12) -> 0 | JT12: =SUM(R12,AP12,BO12,CO12,DX12,FU12,HQ12,IO12,JM12) -> 0 | JU12: =SUM(BP12,CP12,DY12) -> 0 | JV12: =SUM(JP12:JU12) -> 0
A13: IBW=Western Pine Beetle | G13: =SUM(B13:F13) -> 0 | M13: =SUM(H13:L13) -> 0 | N13: =SUM(B13,H13) -> 0 | O13: =SUM(C13,I13) -> 0 | P13: =SUM(D13,J13) -> 0 | Q13: =SUM(E13,K13) -> 0 | R13: =SUM(F13,L13) -> 0 | S13: =SUM(N13:R13) -> 0 | Y13: =SUM(T13:X13) -> 0 | AE13: =SUM(Z13:AD13) -> 0 | AK13: =SUM(AF13:AJ13) -> 0 | AL13: =SUM(T13,Z13,AF13) -> 0 | AM13: =SUM(U13,AA13,AG13) -> 0 | AN13: =SUM(V13,AB13,AH13) -> 0 | AO13: =SUM(W13,AC13,AI13) -> 0 | AP13: =SUM(X13,AD13,AJ13) -> 0 | AQ13: =SUM(AL13:AP13) -> 0 | AW13: =SUM(AR13:AV13) -> 0 | BD13: =SUM(AX13:BC13) -> 0 | BJ13: =SUM(BE13:BI13) -> 0 | BK13: =SUM(AR13,AX13,BE13) -> 0 | BL13: =SUM(AS13,AY13,BF13) -> 0 | BM13: =SUM(AT13,AZ13,BG13) -> 0 | BN13: =SUM(AU13,BA13,BH13) -> 0 | BO13: =SUM(AV13,BB13,BI13) -> 0 | BP13: =SUM(BC13) -> 0 | BQ13: =SUM(BK13:BP13) -> 0 | BW13: =SUM(BR13:BV13) -> 0 | CC13: =SUM(BX13:CB13) -> 0 | CJ13: =SUM(CD13:CI13) -> 0 | CK13: =SUM(BR13,BX13,CD13) -> 0 | CL13: =SUM(BS13,BY13,CE13) -> 0 | CM13: =SUM(BT13,BZ13,CF13) -> 0 | CN13: =SUM(BU13,CA13,CG13) -> 0 | CO13: =SUM(BV13,CB13,CH13) -> 0 | CP13: =SUM(CI13) -> 0 | CQ13: =SUM(CK13:CP13) -> 0 | CX13: =SUM(CR13:CW13) -> 0 | DE13: =SUM(CY13:DD13) -> 0 | DL13: =SUM(DF13:DK13) -> 0 | DS13: =SUM(DM13:DR13) -> 0 | DT13: =SUM(CR13,CY13,DF13,DM13) -> 0 | DU13: =SUM(CS13,CZ13,DG13,DN13) -> 0 | DV13: =SUM(CT13,DA13,DH13,DO13) -> 0 | DW13: =SUM(CU13,DB13,DI13,DP13) -> 0 | DX13: =SUM(CV13,DC13,DJ13,DQ13) -> 0 | DY13: =SUM(CW13,DD13,DK13,DR13) -> 0 | DZ13: =SUM(DT13:DY13) -> 0 | ED13: 1.5 | EF13: =SUM(EA13:EE13) -> 1.5 | EJ13: 2 | EL13: =SUM(EG13:EK13) -> 2 | EM13: 6.3312793 | EP13: 2 | ER13: =SUM(EM13:EQ13) -> 8.3312793 | EX13: =SUM(ES13:EW13) -> 0 | FB13: 0.5 | FD13: =SUM(EY13:FC13) -> 0.5 | FE13: 14.929916 | FH13: 1.75 | FJ13: =SUM(FE13:FI13) -> 16.679916 | FP13: =SUM(FK13:FO13) -> 0 | FQ13: =SUM(EA13,EG13,EM13,ES13,EY13,FE13,FK13) -> 21.261195 | FR13: =SUM(EB13,EH13,EN13,ET13,EZ13,FF13,FL13) -> 0 | FS13: =SUM(EC13,EI13,EO13,EU13,FA13,FG13,FM13) -> 0 | FT13: =SUM(ED13,EJ13,EP13,EV13,FB13,FH13,FN13) -> 7.75 | FU13: =SUM(EE13,EK13,EQ13,EW13,FC13,FI13,FO13) -> 0 | FV13: =SUM(FQ13:FU13) -> 29.011195 | GB13: =SUM(FW13:GA13) -> 0 | GH13: =SUM(GC13:GG13) -> 0 | GN13: =SUM(GI13:GM13) -> 0 | GT13: =SUM(GO13:GS13) -> 0 | GZ13: =SUM(GU13:GY13) -> 0 | HF13: =SUM(HA13:HE13) -> 0 | HL13: =SUM(HG13:HK13) -> 0 | HM13: =SUM(FW13,GC13,GI13,GO13,GU13,HA13,HG13) -> 0 | HN13: =SUM(FX13,GD13,GJ13,GP13,GV13,HB13,HH13) -> 0 | HO13: =SUM(FY13,GE13,GK13,GQ13,GW13,HC13,HI13) -> 0 | HP13: =SUM(FZ13,GF13,GL13,GR13,GX13,HD13,HJ13) -> 0 | HQ13: =SUM(GA13,GG13,GM13,GS13,GY13,HE13,HK13) -> 0 | HR13: =SUM(HM13:HQ13) -> 0 | HX13: =SUM(HS13:HW13) -> 0 | ID13: =SUM(HY13:IC13) -> 0 | IJ13: =SUM(IE13:II13) -> 0 | IK13: =SUM(HS13,HY13,IE13) -> 0 | IL13: =SUM(HT13,HZ13,IF13) -> 0 | IM13: =SUM(HU13,IA13,IG13) -> 0 | IN13: =SUM(HV13,IB13,IH13) -> 0 | IO13: =SUM(HW13,IC13,II13) -> 0 | IP13: =SUM(IK13:IO13) -> 0 | IV13: =SUM(IQ13:IU13) -> 0 | JB13: =SUM(IW13:JA13) -> 0 | JH13: =SUM(JC13:JG13) -> 0 | JI13: =SUM(IQ13,IW13,JC13) -> 0 | JJ13: =SUM(IR13,IX13,JD13) -> 0 | JK13: =SUM(IS13,IY13,JE13) -> 0 | JL13: =SUM(IT13,IZ13,JF13) -> 0 | JM13: =SUM(IU13,JA13,JG13) -> 0 | JN13: =SUM(JI13:JM13) -> 0 | JP13: =SUM(N13,AL13,BK13,CK13,DT13,FQ13,HM13,IK13,JI13) -> 21.261195 | JQ13: =SUM(O13,AM13,BL13,CL13,DU13,FR13,HN13,IL13,JJ13) -> 0 | JR13: =SUM(P13,AN13,BM13,CM13,DV13,FS13,HO13,IM13,JK13) -> 0 | JS13: =SUM(Q13,AO13,BN13,CN13,DW13,FT13,HP13,IN13,JL13) -> 7.75 | JT13: =SUM(R13,AP13,BO13,CO13,DX13,FU13,HQ13,IO13,JM13) -> 0 | JU13: =SUM(BP13,CP13,DY13) -> 0 | JV13: =SUM(JP13:JU13) -> 29.011195
A14: IBL=Lodgepole Pine Beetle | G14: =SUM(B14:F14) -> 0 | M14: =SUM(H14:L14) -> 0 | N14: =SUM(B14,H14) -> 0 | O14: =SUM(C14,I14) -> 0 | P14: =SUM(D14,J14) -> 0 | Q14: =SUM(E14,K14) -> 0 | R14: =SUM(F14,L14) -> 0 | S14: =SUM(N14:R14) -> 0 | Y14: =SUM(T14:X14) -> 0 | AE14: =SUM(Z14:AD14) -> 0 | AK14: =SUM(AF14:AJ14) -> 0 | AL14: =SUM(T14,Z14,AF14) -> 0 | AM14: =SUM(U14,AA14,AG14) -> 0 | AN14: =SUM(V14,AB14,AH14) -> 0 | AO14: =SUM(W14,AC14,AI14) -> 0 | AP14: =SUM(X14,AD14,AJ14) -> 0 | AQ14: =SUM(AL14:AP14) -> 0 | AW14: =SUM(AR14:AV14) -> 0 | BD14: =SUM(AX14:BC14) -> 0 | BJ14: =SUM(BE14:BI14) -> 0 | BK14: =SUM(AR14,AX14,BE14) -> 0 | BL14: =SUM(AS14,AY14,BF14) -> 0 | BM14: =SUM(AT14,AZ14,BG14) -> 0 | BN14: =SUM(AU14,BA14,BH14) -> 0 | BO14: =SUM(AV14,BB14,BI14) -> 0 | BP14: =SUM(BC14) -> 0 | BQ14: =SUM(BK14:BP14) -> 0 | BW14: =SUM(BR14:BV14) -> 0 | CC14: =SUM(BX14:CB14) -> 0 | CJ14: =SUM(CD14:CI14) -> 0 | CK14: =SUM(BR14,BX14,CD14) -> 0 | CL14: =SUM(BS14,BY14,CE14) -> 0 | CM14: =SUM(BT14,BZ14,CF14) -> 0 | CN14: =SUM(BU14,CA14,CG14) -> 0 | CO14: =SUM(BV14,CB14,CH14) -> 0 | CP14: =SUM(CI14) -> 0 | CQ14: =SUM(CK14:CP14) -> 0 | CX14: =SUM(CR14:CW14) -> 0 | DE14: =SUM(CY14:DD14) -> 0 | DL14: =SUM(DF14:DK14) -> 0 | DS14: =SUM(DM14:DR14) -> 0 | DT14: =SUM(CR14,CY14,DF14,DM14) -> 0 | DU14: =SUM(CS14,CZ14,DG14,DN14) -> 0 | DV14: =SUM(CT14,DA14,DH14,DO14) -> 0 | DW14: =SUM(CU14,DB14,DI14,DP14) -> 0 | DX14: =SUM(CV14,DC14,DJ14,DQ14) -> 0 | DY14: =SUM(CW14,DD14,DK14,DR14) -> 0 | DZ14: =SUM(DT14:DY14) -> 0 | EF14: =SUM(EA14:EE14) -> 0 | EL14: =SUM(EG14:EK14) -> 0 | ER14: =SUM(EM14:EQ14) -> 0 | EX14: =SUM(ES14:EW14) -> 0 | FD14: =SUM(EY14:FC14) -> 0 | FJ14: =SUM(FE14:FI14) -> 0 | FP14: =SUM(FK14:FO14) -> 0 | FQ14: =SUM(EA14,EG14,EM14,ES14,EY14,FE14,FK14) -> 0 | FR14: =SUM(EB14,EH14,EN14,ET14,EZ14,FF14,FL14) -> 0 | FS14: =SUM(EC14,EI14,EO14,EU14,FA14,FG14,FM14) -> 0 | FT14: =SUM(ED14,EJ14,EP14,EV14,FB14,FH14,FN14) -> 0 | FU14: =SUM(EE14,EK14,EQ14,EW14,FC14,FI14,FO14) -> 0 | FV14: =SUM(FQ14:FU14) -> 0 | GB14: =SUM(FW14:GA14) -> 0 | GH14: =SUM(GC14:GG14) -> 0 | GN14: =SUM(GI14:GM14) -> 0 | GT14: =SUM(GO14:GS14) -> 0 | GZ14: =SUM(GU14:GY14) -> 0 | HF14: =SUM(HA14:HE14) -> 0 | HL14: =SUM(HG14:HK14) -> 0 | HM14: =SUM(FW14,GC14,GI14,GO14,GU14,HA14,HG14) -> 0 | HN14: =SUM(FX14,GD14,GJ14,GP14,GV14,HB14,HH14) -> 0 | HO14: =SUM(FY14,GE14,GK14,GQ14,GW14,HC14,HI14) -> 0 | HP14: =SUM(FZ14,GF14,GL14,GR14,GX14,HD14,HJ14) -> 0 | HQ14: =SUM(GA14,GG14,GM14,GS14,GY14,HE14,HK14) -> 0 | HR14: =SUM(HM14:HQ14) -> 0 | HX14: =SUM(HS14:HW14) -> 0 | ID14: =SUM(HY14:IC14) -> 0 | IJ14: =SUM(IE14:II14) -> 0 | IK14: =SUM(HS14,HY14,IE14) -> 0 | IL14: =SUM(HT14,HZ14,IF14) -> 0 | IM14: =SUM(HU14,IA14,IG14) -> 0 | IN14: =SUM(HV14,IB14,IH14) -> 0 | IO14: =SUM(HW14,IC14,II14) -> 0 | IP14: =SUM(IK14:IO14) -> 0 | IV14: =SUM(IQ14:IU14) -> 0 | JB14: =SUM(IW14:JA14) -> 0 | JH14: =SUM(JC14:JG14) -> 0 | JI14: =SUM(IQ14,IW14,JC14) -> 0 | JJ14: =SUM(IR14,IX14,JD14) -> 0 | JK14: =SUM(IS14,IY14,JE14) -> 0 | JL14: =SUM(IT14,IZ14,JF14) -> 0 | JM14: =SUM(IU14,JA14,JG14) -> 0 | JN14: =SUM(JI14:JM14) -> 0 | JP14: =SUM(N14,AL14,BK14,CK14,DT14,FQ14,HM14,IK14,JI14) -> 0 | JQ14: =SUM(O14,AM14,BL14,CL14,DU14,FR14,HN14,IL14,JJ14) -> 0 | JR14: =SUM(P14,AN14,BM14,CM14,DV14,FS14,HO14,IM14,JK14) -> 0 | JS14: =SUM(Q14,AO14,BN14,CN14,DW14,FT14,HP14,IN14,JL14) -> 0 | JT14: =SUM(R14,AP14,BO14,CO14,DX14,FU14,HQ14,IO14,JM14) -> 0 | JU14: =SUM(BP14,CP14,DY14) -> 0 | JV14: =SUM(JP14:JU14) -> 0
A15: IBT=Red Turpentine Beetle | G15: =SUM(B15:F15) -> 0 | M15: =SUM(H15:L15) -> 0 | N15: =SUM(B15,H15) -> 0 | O15: =SUM(C15,I15) -> 0 | P15: =SUM(D15,J15) -> 0 | Q15: =SUM(E15,K15) -> 0 | R15: =SUM(F15,L15) -> 0 | S15: =SUM(N15:R15) -> 0 | Y15: =SUM(T15:X15) -> 0 | AE15: =SUM(Z15:AD15) -> 0 | AK15: =SUM(AF15:AJ15) -> 0 | AL15: =SUM(T15,Z15,AF15) -> 0 | AM15: =SUM(U15,AA15,AG15) -> 0 | AN15: =SUM(V15,AB15,AH15) -> 0 | AO15: =SUM(W15,AC15,AI15) -> 0 | AP15: =SUM(X15,AD15,AJ15) -> 0 | AQ15: =SUM(AL15:AP15) -> 0 | AW15: =SUM(AR15:AV15) -> 0 | BD15: =SUM(AX15:BC15) -> 0 | BJ15: =SUM(BE15:BI15) -> 0 | BK15: =SUM(AR15,AX15,BE15) -> 0 | BL15: =SUM(AS15,AY15,BF15) -> 0 | BM15: =SUM(AT15,AZ15,BG15) -> 0 | BN15: =SUM(AU15,BA15,BH15) -> 0 | BO15: =SUM(AV15,BB15,BI15) -> 0 | BP15: =SUM(BC15) -> 0 | BQ15: =SUM(BK15:BP15) -> 0 | BW15: =SUM(BR15:BV15) -> 0 | CC15: =SUM(BX15:CB15) -> 0 | CJ15: =SUM(CD15:CI15) -> 0 | CK15: =SUM(BR15,BX15,CD15) -> 0 | CL15: =SUM(BS15,BY15,CE15) -> 0 | CM15: =SUM(BT15,BZ15,CF15) -> 0 | CN15: =SUM(BU15,CA15,CG15) -> 0 | CO15: =SUM(BV15,CB15,CH15) -> 0 | CP15: =SUM(CI15) -> 0 | CQ15: =SUM(CK15:CP15) -> 0 | CX15: =SUM(CR15:CW15) -> 0 | DE15: =SUM(CY15:DD15) -> 0 | DL15: =SUM(DF15:DK15) -> 0 | DS15: =SUM(DM15:DR15) -> 0 | DT15: =SUM(CR15,CY15,DF15,DM15) -> 0 | DU15: =SUM(CS15,CZ15,DG15,DN15) -> 0 | DV15: =SUM(CT15,DA15,DH15,DO15) -> 0 | DW15: =SUM(CU15,DB15,DI15,DP15) -> 0 | DX15: =SUM(CV15,DC15,DJ15,DQ15) -> 0 | DY15: =SUM(CW15,DD15,DK15,DR15) -> 0 | DZ15: =SUM(DT15:DY15) -> 0 | EF15: =SUM(EA15:EE15) -> 0 | EL15: =SUM(EG15:EK15) -> 0 | ER15: =SUM(EM15:EQ15) -> 0 | EX15: =SUM(ES15:EW15) -> 0 | FD15: =SUM(EY15:FC15) -> 0 | FJ15: =SUM(FE15:FI15) -> 0 | FP15: =SUM(FK15:FO15) -> 0 | FQ15: =SUM(EA15,EG15,EM15,ES15,EY15,FE15,FK15) -> 0 | FR15: =SUM(EB15,EH15,EN15,ET15,EZ15,FF15,FL15) -> 0 | FS15: =SUM(EC15,EI15,EO15,EU15,FA15,FG15,FM15) -> 0 | FT15: =SUM(ED15,EJ15,EP15,EV15,FB15,FH15,FN15) -> 0 | FU15: =SUM(EE15,EK15,EQ15,EW15,FC15,FI15,FO15) -> 0 | FV15: =SUM(FQ15:FU15) -> 0 | GB15: =SUM(FW15:GA15) -> 0 | GH15: =SUM(GC15:GG15) -> 0 | GN15: =SUM(GI15:GM15) -> 0 | GT15: =SUM(GO15:GS15) -> 0 | GZ15: =SUM(GU15:GY15) -> 0 | HF15: =SUM(HA15:HE15) -> 0 | HL15: =SUM(HG15:HK15) -> 0 | HM15: =SUM(FW15,GC15,GI15,GO15,GU15,HA15,HG15) -> 0 | HN15: =SUM(FX15,GD15,GJ15,GP15,GV15,HB15,HH15) -> 0 | HO15: =SUM(FY15,GE15,GK15,GQ15,GW15,HC15,HI15) -> 0 | HP15: =SUM(FZ15,GF15,GL15,GR15,GX15,HD15,HJ15) -> 0 | HQ15: =SUM(GA15,GG15,GM15,GS15,GY15,HE15,HK15) -> 0 | HR15: =SUM(HM15:HQ15) -> 0 | HX15: =SUM(HS15:HW15) -> 0 | ID15: =SUM(HY15:IC15) -> 0 | IJ15: =SUM(IE15:II15) -> 0 | IK15: =SUM(HS15,HY15,IE15) -> 0 | IL15: =SUM(HT15,HZ15,IF15) -> 0 | IM15: =SUM(HU15,IA15,IG15) -> 0 | IN15: =SUM(HV15,IB15,IH15) -> 0 | IO15: =SUM(HW15,IC15,II15) -> 0 | IP15: =SUM(IK15:IO15) -> 0 | IV15: =SUM(IQ15:IU15) -> 0 | JB15: =SUM(IW15:JA15) -> 0 | JH15: =SUM(JC15:JG15) -> 0 | JI15: =SUM(IQ15,IW15,JC15) -> 0 | JJ15: =SUM(IR15,IX15,JD15) -> 0 | JK15: =SUM(IS15,IY15,JE15) -> 0 | JL15: =SUM(IT15,IZ15,JF15) -> 0 | JM15: =SUM(IU15,JA15,JG15) -> 0 | JN15: =SUM(JI15:JM15) -> 0 | JP15: =SUM(N15,AL15,BK15,CK15,DT15,FQ15,HM15,IK15,JI15) -> 0 | JQ15: =SUM(O15,AM15,BL15,CL15,DU15,FR15,HN15,IL15,JJ15) -> 0 | JR15: =SUM(P15,AN15,BM15,CM15,DV15,FS15,HO15,IM15,JK15) -> 0 | JS15: =SUM(Q15,AO15,BN15,CN15,DW15,FT15,HP15,IN15,JL15) -> 0 | JT15: =SUM(R15,AP15,BO15,CO15,DX15,FU15,HQ15,IO15,JM15) -> 0 | JU15: =SUM(BP15,CP15,DY15) -> 0 | JV15: =SUM(JP15:JU15) -> 0
