Workbook
Name fhdata_Query: #REF!
Name PARKS_Query: #REF!
Name sum_data: #REF!

Sheet Annual Report
A1: 2018 Aerial Overview Summary for British Columbia
B2: Great Bear Rainforest | C2: Regions | K2: Provincial
C3: South Coast | D3: West Coast | E3: Cariboo | F3: Thompson/ Okanagan | G3: Kootenay/ Boundary | H3: Skeena | I3: Omineca | J3: Northeast | K3: Total
A5: Bark Beetles
A6: IBM=Mountain Pine Beetle | B6: =Master!S6 -> 1961.2041 | C6: =Master!AQ6 -> 304.91515 | D6: =Master!BQ6 -> 0 | E6: =Master!CQ6 -> 14792.037 | F6: =Master!DZ6 -> 7994.2506 | G6: =Master!FV6 -> 14614.829 | H6: =Master!HR6 -> 2924.1036 | I6: =Master!IP6 -> 57896.214 | J6: =Master!JN6 -> 13293.894 | K6: =SUM(B6:J6) -> 113781.45
A7: IBS=Spruce Beetle | B7: =Master!S7 -> 1571.4649 | C7: =Master!AQ7 -> 4125.8427 | D7: =Master!BQ7 -> 135.39003 | E7: =Master!CQ7 -> 3300.0677 | F7: =Master!DZ7 -> 12971.833 | G7: =Master!FV7 -> 8237.3716 | H7: =Master!HR7 -> 27249.359 | I7: =Master!IP7 -> 242702.84 | J7: =Master!JN7 -> 40110.778 | K7: =SUM(B7:J7) -> 340404.94
A8: IBB=Western Balsam Bark Beetle | B8: =Master!S8 -> 87837.534 | C8: =Master!AQ8 -> 27864.413 | D8: =Master!BQ8 -> 1967.0636 | E8: =Master!CQ8 -> 127705.57 | F8: =Master!DZ8 -> 147076.54 | G8: =Master!FV8 -> 48192.494 | H8: =Master!HR8 -> 1210330.6 | I8: =Master!IP8 -> 1736817.4 | J8: =Master!JN8 -> 261165.06 | K8: =SUM(B8:J8) -> 3648956.7
A9: IBD=Douglas-fir Beetle | B9: =Master!S9 -> 3331.4721 | C9: =Master!AQ9 -> 4867.269 | D9: =Master!BQ9 -> 2212.8159 | E9: =Master!CQ9 -> 67586.048 | F9: =Master!DZ9 -> 5709.5216 | G9: =Master!FV9 -> 6625.6819 | H9: =Master!HR9 -> 518.72798 | I9: =Master!IP9 -> 12865.142 | J9: =Master!JN9 -> 0 | K9: =SUM(B9:J9) -> 103716.68
A10: IBF=Fir engraver beetle | B10: =Master!S10 -> 0 | C10: =Master!AQ10 -> 0 | D10: =Master!BQ10 -> 0 | E10: =Master!CQ10 -> 0 | F10: =Master!DZ10 -> 0 | G10: =Master!FV10 -> 0 | H10: =Master!HR10 -> 0 | I10: =Master!IP10 -> 0 | J10: =Master!JN10 -> 0 | K10: =SUM(B10:J10) -> 0
A11: IBP=Twig beetle | B11: =Master!S11 -> 0 | C11: =Master!AQ11 -> 0 | D11: =Master!BQ11 -> 0 | E11: =Master!CQ11 -> 0 | F11: =Master!DZ11 -> 0 | G11: =Master!FV11 -> 0 | H11: =Master!HR11 -> 0 | I11: =Master!IP11 -> 0 | J11: =Master!JN11 -> 0 | K11: =SUM(B11:J11) -> 0
A12: IBI=Engraver Beetle (Ips species) | B12: =Master!S12 -> 0 | C12: =Master!AQ12 -> 0 | D12: =Master!BQ12 -> 0 | E12: =Master!CQ12 -> 0 | F12: =Master!DZ12 -> 0 | G12: =Master!FV12 -> 0 | H12: =Master!HR12 -> 0 | I12: =Master!IP12 -> 0 | J12: =Master!JN12 -> 0 | K12: =SUM(B12:J12) -> 0
A13: IBW=Western Pine Beetle | B13: =Master!S13 -> 0 | C13: =Master!AQ13 -> 0 | D13: =Master!BQ13 -> 0 | E13: =Master!CQ13 -> 0 | F13: =Master!DZ13 -> 0 | G13: =Master!FV13 -> 29.011195 | H13: =Master!HR13 -> 0 | I13: =Master!IP13 -> 0 | J13: =Master!JN13 -> 0 | K13: =SUM(B13:J13) -> 29.011195
A14: IBL=Lodgepole Pine Beetle | B14: =Master!S14 -> 0 | C14: =Master!AQ14 -> 0 | D14: =Master!BQ14 -> 0 | E14: =Master!CQ14 -> 0 | F14: =Master!DZ14 -> 0 | G14: =Master!FV14 -> 0 | H14: =Master!HR14 -> 0 | I14: =Master!IP14 -> 0 | J14: =Master!JN14 -> 0 | K14: =SUM(B14:J14) -> 0
A15: IBT=Red Turpentine Beetle | B15: =Master!S15 -> 0 | C15: =Master!AQ15 -> 0 | D15: =Master!BQ15 -> 0 | E15: =Master!CQ15 -> 0 | F15: =Master!DZ15 -> 0 | G15: =Master!FV15 -> 0 | H15: =Master!HR15 -> 0 | I15: =Master!IP15 -> 0 | J15: =Master!JN15 -> 0 | K15: =SUM(B15:J15) -> 0
A16: IB?=Young pine mortality | B16: =Master!S16 -> 0 | C16: =Master!AQ16 -> 0 | D16: =Master!BQ16 -> 0 | E16: =Master!CQ16 -> 20.871177 | F16: =Master!DZ16 -> 0 | G16: =Master!FV16 -> 0 | H16: =Master!HR16 -> 0 | I16: =Master!IP16 -> 0.5 | J16: =Master!JN16 -> 0 | K16: =SUM(B16:J16) -> 21.371177
A17: IWW=Warrens Root Collar Weevil | B17: =Master!S17 -> 0 | C17: =Master!AQ17 -> 0 | D17: =Master!BQ17 -> 0 | E17: =Master!CQ17 -> 0 | F17: =Master!DZ17 -> 0 | G17: =Master!FV17 -> 0 | H17: =Master!HR17 -> 0 | I17: =Master!IP17 -> 0 | J17: =Master!JN17 -> 0 | K17: =SUM(B17:J17) -> 0
A18: Total All BB= | B18: =Master!S18 -> 94701.676 | C18: =Master!AQ18 -> 37162.44 | D18: =Master!BQ18 -> 4315.2696 | E18: =Master!CQ18 -> 213404.59 | F18: =Master!DZ18 -> 173752.15 | G18: =Master!FV18 -> 77699.388 | H18: =Master!HR18 -> 1241022.8 | I18: =Master!IP18 -> 2050282.1 | J18: =Master!JN18 -> 314569.73 | K18: =SUM(B18:J18) -> 4206910.1
A20: Defoliators
A21: ID=Defoliators | B21: =Master!S21 -> 0 | C21: =Master!AQ21 -> 0 | D21: =Master!BQ21 -> 0 | E21: =Master!CQ21 -> 86.606517 | F21: =Master!DZ21 -> 0 | G21: =Master!FV21 -> 16.889052 | H21: =Master!HR21 -> 0 | I21: =Master!IP21 -> 68.891698 | J21: =Master!JN21 -> 35.444523 | K21: =SUM(B21:J21) -> 207.83179
A22: IAB=Balsam Woolly Adelgid | B22: =Master!S22 -> 0 | C22: =Master!AQ22 -> 0 | D22: =Master!BQ22 -> 34.865 | E22: =Master!CQ22 -> 0 | F22: =Master!DZ22 -> 0 | G22: =Master!FV22 -> 0 | H22: =Master!HR22 -> 0 | I22: =Master!IP22 -> 0 | J22: =Master!JN22 -> 0 | K22: =SUM(B22:J22) -> 34.865
A23: IAS=Green Spruce Aphid | B23: =Master!S23 -> 0 | C23: =Master!AQ23 -> 0 | D23: =Master!BQ23 -> 0 | E23: =Master!CQ23 -> 0 | F23: =Master!DZ23 -> 0 | G23: =Master!FV23 -> 0 | H23: =Master!HR23 -> 0 | I23: =Master!IP23 -> 0 | J23: =Master!JN23 -> 0 | K23: =SUM(B23:J23) -> 0
A24: ID1=Leaf Beetles | B24: =Master!S24 -> 0 | C24: =Master!AQ24 -> 0 | D24: =Master!BQ24 -> 0 | E24: =Master!CQ24 -> 0 | F24: =Master!DZ24 -> 0 | G24: =Master!FV24 -> 0 | H24: =Master!HR24 -> 0 | I24: =Master!IP24 -> 0 | J24: =Master!JN24 -> 0 | K24: =SUM(B24:J24) -> 0
A25: ID2=Bruce spanworm | B25: =Master!S25 -> 0 | C25: =Master!AQ25 -> 0 | D25: =Master!BQ25 -> 0 | E25: =Master!CQ25 -> 0 | F25: =Master!DZ25 -> 0 | G25: =Master!FV25 -> 0 | H25: =Master!HR25 -> 0 | I25: =Master!IP25 -> 0 | J25: =Master!JN25 -> 8490.7726 | K25: =SUM(B25:J25) -> 8490.7726
A26: ID6=Aspen Leaf Miner | B26: =Master!S26 -> 7104.1212 | C26: =Master!AQ26 -> 0 | D26: =Master!BQ26 -> 0 | E26: =Master!CQ26 -> 175656.14 | F26: =Master!DZ26 -> 21634.218 | G26: =Master!FV26 -> 25240.645 | H26: =Master!HR26 -> 603837.9 | I26: =Master!IP26 -> 404639.15 | J26: =Master!JN26 -> 78928.331 | K26: =SUM(B26:J26) -> 1317040.5
A27: IDA=Black Army Cutworm | B27: =Master!S27 -> 0 | C27: =Master!AQ27 -> 0 | D27: =Master!BQ27 -> 0 | E27: =Master!CQ27 -> 0 | F27: =Master!DZ27 -> 0 | G27: =Master!FV27 -> 0 | H27: =Master!HR27 -> 0 | I27: =Master!IP27 -> 0 | J27: =Master!JN27 -> 0 | K27: =SUM(B27:J27) -> 0
A28: IDB=2-Year Budworm | B28: =Master!S28 -> 0 | C28: =Master!AQ28 -> 0 | D28: =Master!BQ28 -> 0 | E28: =Master!CQ28 -> 76704.435 | F28: =Master!DZ28 -> 31475.073 | G28: =Master!FV28 -> 0 | H28: =Master!HR28 -> 66880.841 | I28: =Master!IP28 -> 239258.89 | J28: =Master!JN28 -> 0 | K28: =SUM(B28:J28) -> 414319.24
A29: IDC=Larch casebearer | B29: =Master!S29 -> 0 | C29: =Master!AQ29 -> 0 | D29: =Master!BQ29 -> 0 | E29: =Master!CQ29 -> 0 | F29: =Master!DZ29 -> 0 | G29: =Master!FV29 -> 0 | H29: =Master!HR29 -> 0 | I29: =Master!IP29 -> 0 | J29: =Master!JN29 -> 0 | K29: =SUM(B29:J29) -> 0
A30: IDD=Western Winter Moth | B30: =Master!S30 -> 0 | C30: =Master!AQ30 -> 0 | D30: =Master!BQ30 -> 0 | E30: =Master!CQ30 -> 142.95392 | F30: =Master!DZ30 -> 0 | G30: =Master!FV30 -> 0 | H30: =Master!HR30 -> 0 | I30: =Master!IP30 -> 0 | J30: =Master!JN30 -> 0 | K30: =SUM(B30:J30) -> 142.95392
A31: IDE=Eastern Spruce Budworm | B31: =Master!S31 -> 0 | C31: =Master!AQ31 -> 0 | D31: =Master!BQ31 -> 0 | E31: =Master!CQ31 -> 0 | F31: =Master!DZ31 -> 0 | G31: =Master!FV31 -> 0 | H31: =Master!HR31 -> 0 | I31: =Master!IP31 -> 0 | J31: =Master!JN31 -> 35752.613 | K31: =SUM(B31:J31) -> 35752.613
A32: IDF=Forest Tent Caterpillar | B32: =Master!S32 -> 0 | C32: =Master!AQ32 -> 0 | D32: =Master!BQ32 -> 0 | E32: =Master!CQ32 -> 0 | F32: =Master!DZ32 -> 0 | G32: =Master!FV32 -> 0 | H32: =Master!HR32 -> 0 | I32: =Master!IP32 -> 0 | J32: =Master!JN32 -> 0 | K32: =SUM(B32:J32) -> 0
... A49: Total Defoliators= | B49: =Master!S49 -> 7104.1212 | C49: =Master!AQ49 -> 0 | D49: =Master!BQ49 -> 120.965 | E49: =Master!CQ49 -> 271936.93 | F49: =Master!DZ49 -> 61302.132 | G49: =Master!FV49 -> 28539.516 | H49: =Master!HR49 -> 684096.45 | I49: =Master!IP49 -> 845283.21 | J49: =Master!JN49 -> 123295.65 | K49: =SUM(B49:J49) -> 2021679
A51: Other
A52: N | B52: =Master!S52 -> 70.95248 | C52: =Master!AQ52 -> 0 | D52: =Master!BQ52 -> 0 | E52: =Master!CQ52 -> 0 | F52: =Master!DZ52 -> 0 | G52: =Master!FV52 -> 0 | H52: =Master!HR52 -> 0 | I52: =Master!IP52 -> 31.706993 | J52: =Master!JN52 -> 2486.7476 | K52: =SUM(B52:J52) -> 2589.4071
A53: NAV=Avalanche or snow slide | B53: =Master!S53 -> 0 | C53: =Master!AQ53 -> 0 | D53: =Master!BQ53 -> 0 | E53: =Master!CQ53 -> 0 | F53: =Master!DZ53 -> 49.305977 | G53: =Master!FV53 -> 0 | H53: =Master!HR53 -> 0 | I53: =Master!IP53 -> 0 | J53: =Master!JN53 -> 0 | K53: =SUM(B53:J53) -> 49.305977
A54: NB=Fire | B54: =Master!S54 -> 186249.64 | C54: =Master!AQ54 -> 12928.934 | D54: =Master!BQ54 -> 6593.9962 | E54: =Master!CQ54 -> 80613.578 | F54: =Master!DZ54 -> 53046.222 | G54: =Master!FV54 -> 60177.93 | H54: =Master!HR54 -> 620340.82 | I54: =Master!IP54 -> 156667.3 | J54: =Master!JN54 -> 175219.02 | K54: =SUM(B54:J54) -> 1351837.4
A55: NBP=Post Fire | B55: =Master!S55 -> 1193.0281 | C55: =Master!AQ55 -> 0 | D55: =Master!BQ55 -> 0 | E55: =Master!CQ55 -> 4430.273 | F55: =Master!DZ55 -> 58.193015 | G55: =Master!FV55 -> 742.30016 | H55: =Master!HR55 -> 2746.083 | I55: =Master!IP55 -> 3007.9235 | J55: =Master!JN55 -> 5684.2794 | K55: =SUM(B55:J55) -> 17862.08
A56: NCA=Aspen decline | B56: =Master!S56 -> 0 | C56: =Master!AQ56 -> 0 | D56: =Master!BQ56 -> 0 | E56: =Master!CQ56 -> 1591.7119 | F56: =Master!DZ56 -> 231.10768 | G56: =Master!FV56 -> 0 | H56: =Master!HR56 -> 0 | I56: =Master!IP56 -> 204.52242 | J56: =Master!JN56 -> 66190.902 | K56: =SUM(B56:J56) -> 68218.244
A57: NCB=Birch decline | B57: =Master!S57 -> 0 | C57: =Master!AQ57 -> 0 | D57: =Master!BQ57 -> 0 | E57: =Master!CQ57 -> 0 | F57: =Master!DZ57 -> 0 | G57: =Master!FV57 -> 0 | H57: =Master!HR57 -> 0 | I57: =Master!IP57 -> 0 | J57: =Master!JN57 -> 0 | K57: =SUM(B57:J57) -> 0
A58: NCF=Douglas-fir decline | B58: =Master!S58 -> 0 | C58: =Master!AQ58 -> 0 | D58: =Master!BQ58 -> 0 | E58: =Master!CQ58 -> 0 | F58: =Master!DZ58 -> 0 | G58: =Master!FV58 -> 0 | H58: =Master!HR58 -> 0 | I58: =Master!IP58 -> 0 | J58: =Master!JN58 -> 0 | K58: =SUM(B58:J58) -> 0
A59: NCY=Yellow cedar decline | B59: =Master!S59 -> 21182.039 | C59: =Master!AQ59 -> 0 | D59: =Master!BQ59 -> 3247.0307 | E59: =Master!CQ59 -> 0 | F59: =Master!DZ59 -> 0 | G59: =Master!FV59 -> 0 | H59: =Master!HR59 -> 2549.2744 | I59: =Master!IP59 -> 0 | J59: =Master!JN59 -> 0 | K59: =SUM(B59:J59) -> 26978.344
A60: NDM=Drought (Mortality) | B60: =Master!S60 -> 1436.2169 | C60: =Master!AQ60 -> 13640.24 | D60: =Master!BQ60 -> 4050.5182 | E60: =Master!CQ60 -> 1135.9219 | F60: =Master!DZ60 -> 56017.553 | G60: =Master!FV60 -> 35910.935 | H60: =Master!HR60 -> 6557.912 | I60: =Master!IP60 -> 48.989575 | J60: =Master!JN60 -> 0 | K60: =SUM(B60:J60) -> 118798.29
A61: NDF=Drought (Foliage) | B61: =Master!S61 -> 0 | C61: =Master!AQ61 -> 0 | D61: =Master!BQ61 -> 0 | E61: =Master!CQ61 -> 0 | F61: =Master!DZ61 -> 1089.6896 | G61: =Master!FV61 -> 0 | H61: =Master!HR61 -> 0 | I61: =Master!IP61 -> 0 | J61: =Master!JN61 -> 0 | K61: =SUM(B61:J61) -> 1089.6896
A62: NF=Flooding | B62: =Master!S62 -> 418.64174 | C62: =Master!AQ62 -> 8.6133686 | D62: =Master!BQ62 -> 184.84609 | E62: =Master!CQ62 -> 1002.0681 | F62: =Master!DZ62 -> 23.166832 | G62: =Master!FV62 -> 183.66894 | H62: =Master!HR62 -> 405.44904 | I62: =Master!IP62 -> 286.7716 | J62: =Master!JN62 -> 15704.627 | K62: =SUM(B62:J62) -> 18217.853
A63: NGK=Shoot/Bud Frost Kill | B63: =Master!S63 -> 0 | C63: =Master!AQ63 -> 0 | D63: =Master!BQ63 -> 0 | E63: =Master!CQ63 -> 0 | F63: =Master!DZ63 -> 0 | G63: =Master!FV63 -> 0 | H63: =Master!HR63 -> 0 | I63: =Master!IP63 -> 0 | J63: =Master!JN63 -> 0 | K63: =SUM(B63:J63) -> 0
... A72: TM=Treatment Mechanical | B72: =Master!S72 -> 0 | C72: =Master!AQ72 -> 0 | D72: =Master!BQ72 -> 0 | E72: =Master!CQ72 -> 0 | F72: =Master!DZ72 -> 0 | G72: =Master!FV72 -> 0 | H72: =Master!HR72 -> 83.333306 | I72: =Master!IP72 -> 0 | J72: =Master!JN72 -> 0 | K72: =SUM(B72:J72) -> 83.333306
A73: Total Abiotics= | B73: =Master!S73 -> 211333.44 | C73: =Master!AQ73 -> 26612.777 | D73: =Master!BQ73 -> 15279.45 | E73: =Master!CQ73 -> 88860.577 | F73: =Master!DZ73 -> 110618.88 | G73: =Master!FV73 -> 98742.911 | H73: =Master!HR73 -> 632870.34 | I73: =Master!IP73 -> 160410.44 | J73: =Master!JN73 -> 266144.08 | K73: =SUM(K52:K72) -> 1610956.2
A75: Diseases
A76: DF=Diseases | B76: =Master!S76 -> 0 | C76: =Master!AQ76 -> 0 | D76: =Master!BQ76 -> 0 | E76: =Master!CQ76 -> 0 | F76: =Master!DZ76 -> 0 | G76: =Master!FV76 -> 0 | H76: =Master!HR76 -> 0 | I76: =Master!IP76 -> 0 | J76: =Master!JN76 -> 1486.5646 | K76: =SUM(B76:J76) -> 1486.5646
A77: DFB=Delphinella needle cast | B77: =Master!S77 -> 0 | C77: =Master!AQ77 -> 0 | D77: =Master!BQ77 -> 0 | E77: =Master!CQ77 -> 0 | F77: =Master!DZ77 -> 0 | G77: =Master!FV77 -> 0 | H77: =Master!HR77 -> 0 | I77: =Master!IP77 -> 0 | J77: =Master!JN77 -> 0 | K77: =SUM(B77:J77) -> 0
A78: DFC=Large-spored Spruce-labrador Tea Rust | B78: =Master!S78 -> 0 | C78: =Master!AQ78 -> 0 | D78: =Master!BQ78 -> 0 | E78: =Master!CQ78 -> 0 | F78: =Master!DZ78 -> 0 | G78: =Master!FV78 -> 0 | H78: =Master!HR78 -> 0 | I78: =Master!IP78 -> 0 | J78: =Master!JN78 -> 0 | K78: =SUM(B78:J78) -> 0
A79: DFE=Elytroderma Needle Cast | B79: =Master!S79 -> 0 | C79: =Master!AQ79 -> 0 | D79: =Master!BQ79 -> 0 | E79: =Master!CQ79 -> 0 | F79: =Master!DZ79 -> 0 | G79: =Master!FV79 -> 0 | H79: =Master!HR79 -> 0 | I79: =Master!IP79 -> 0 | J79: =Master!JN79 -> 1336.0874 | K79: =SUM(B79:J79) -> 1336.0874
A80: DFG=Cottonwood Leaf Rust | B80: =Master!S80 -> 0 | C80: =Master!AQ80 -> 0 | D80: =Master!BQ80 -> 0 | E80: =Master!CQ80 -> 0 | F80: =Master!DZ80 -> 10.385102 | G80: =Master!FV80 -> 0 | H80: =Master!HR80 -> 0 | I80: =Master!IP80 -> 0 | J80: =Master!JN80 -> 0 | K80: =SUM(B80:J80) -> 10.385102
A81: DFH=Larch Needle Blight | B81: =Master!S81 -> 0 | C81: =Master!AQ81 -> 0 | D81: =Master!BQ81 -> 0 | E81: =Master!CQ81 -> 0 | F81: =Master!DZ81 -> 4.7183115 | G81: =Master!FV81 -> 2506.3604 | H81: =Master!HR81 -> 0 | I81: =Master!IP81 -> 0 | J81: =Master!JN81 -> 0 | K81: =SUM(B81:J81) -> 2511.0787
A82: DFK=Septoria Leaf Spot | B82: =Master!S82 -> 0 | C82: =Master!AQ82 -> 0 | D82: =Master!BQ82 -> 0 | E82: =Master!CQ82 -> 0 | F82: =Master!DZ82 -> 0 | G82: =Master!FV82 -> 0 | H82: =Master!HR82 -> 0 | I82: =Master!IP82 -> 0 | J82: =Master!JN82 -> 0 | K82: =SUM(B82:J82) -> 0
A83: DFL=Lophodermella Needle Cast | B83: =Master!S83 -> 0 | C83: =Master!AQ83 -> 0 | D83: =Master!BQ83 -> 0 | E83: =Master!CQ83 -> 0 | F83: =Master!DZ83 -> 0 | G83: =Master!FV83 -> 0 | H83: =Master!HR83 -> 0 | I83: =Master!IP83 -> 210.90156 | J83: =Master!JN83 -> 0 | K83: =SUM(B83:J83) -> 210.90156
A84: DFM=Larch Needle Cast | B84: =Master!S84 -> 0 | C84: =Master!AQ84 -> 0 | D84: =Master!BQ84 -> 0 | E84: =Master!CQ84 -> 0 | F84: =Master!DZ84 -> 0 | G84: =Master!FV84 -> 0 | H84: =Master!HR84 -> 0 | I84: =Master!IP84 -> 0 | J84: =Master!JN84 -> 0 | K84: =SUM(B84:J84) -> 0
A85: DFO=Lophodermium Needle Cast | B85: =Master!S85 -> 0 | C85: =Master!AQ85 -> 0 | D85: =Master!BQ85 -> 0 | E85: =Master!CQ85 -> 0 | F85: =Master!DZ85 -> 0 | G85: =Master!FV85 -> 0 | H85: =Master!HR85 -> 0 | I85: =Master!IP85 -> 0 | J85: =Master!JN85 -> 0 | K85: =SUM(B85:J85) -> 0
A86: DFW=Swiss Needle Cast | B86: =Master!S86 -> 0 | C86: =Master!AQ86 -> 0 | D86: =Master!BQ86 -> 0 | E86: =Master!CQ86 -> 0 | F86: =Master!DZ86 -> 0 | G86: =Master!FV86 -> 0 | H86: =Master!HR86 -> 0 | I86: =Master!IP86 -> 0 | J86: =Master!JN86 -> 0 | K86: =SUM(B86:J86) -> 0
A87: DFS=Dothistroma Needle Blight | B87: =Master!S87 -> 0 | C87: =Master!AQ87 -> 0 | D87: =Master!BQ87 -> 0 | E87: =Master!CQ87 -> 528.94335 | F87: =Master!DZ87 -> 572.66578 | G87: =Master!FV87 -> 186.21971 | H87: =Master!HR87 -> 946.02525 | I87: =Master!IP87 -> 2292.6439 | J87: =Master!JN87 -> 18417.257 | K87: =SUM(B87:J87) -> 22943.755
... A101: Total Diseases= | B101: =Master!S101 -> 744.31428 | C101: =Master!AQ101 -> 2282.5817 | D101: =Master!BQ101 -> 11942.401 | E101: =Master!CQ101 -> 574.87462 | F101: =Master!DZ101 -> 1549.4015 | G101: =Master!FV101 -> 2692.5801 | H101: =Master!HR101 -> 5204.0626 | I101: =Master!IP101 -> 2525.5793 | J101: =Master!JN101 -> 21396.959 | K101: =SUM(B101:J101) -> 48912.754
A103: Animals
A104: A=Animals | B104: =Master!S104 -> 0 | C104: =Master!AQ104 -> 0 | D104: =Master!BQ104 -> 0.75 | E104: =Master!CQ104 -> 0 | F104: =Master!DZ104 -> 0 | G104: =Master!FV104 -> 0 | H104: =Master!HR104 -> 0 | I104: =Master!IP104 -> 0 | J104: =Master!JN104 -> 96.688139 | K104: =SUM(B104:J104) -> 97.438139
A105: AB=Bear | B105: =Master!S105 -> 20.589634 | C105: =Master!AQ105 -> 42.659408 | D105: =Master!BQ105 -> 170.48364 | E105: =Master!CQ105 -> 1907.823 | F105: =Master!DZ105 -> 293.60469 | G105: =Master!FV105 -> 1191.7421 | H105: =Master!HR105 -> 0.5 | I105: =Master!IP105 -> 8.2408696 | J105: =Master!JN105 -> 21.5 | K105: =SUM(B105:J105) -> 3657.1433
A106: AD=Deer | B106: =Master!S106 -> 0 | C106: =Master!AQ106 -> 0 | D106: =Master!BQ106 -> 0 | E106: =Master!CQ106 -> 0 | F106: =Master!DZ106 -> 0 | G106: =Master!FV106 -> 0 | H106: =Master!HR106 -> 0 | I106: =Master!IP106 -> 0 | J106: =Master!JN106 -> 0 | K106: =SUM(B106:J106) -> 0
A107: AH=Hare | B107: =Master!S107 -> 0 | C107: =Master!AQ107 -> 0 | D107: =Master!BQ107 -> 0 | E107: =Master!CQ107 -> 21.804828 | F107: =Master!DZ107 -> 0 | G107: =Master!FV107 -> 0 | H107: =Master!HR107 -> 808.62099 | I107: =Master!IP107 -> 14.330684 | J107: =Master!JN107 -> 0 | K107: =SUM(B107:J107) -> 844.7565
A108: AP=Porcupine | B108: =Master!S108 -> 0 | C108: =Master!AQ108 -> 0 | D108: =Master!BQ108 -> 0 | E108: =Master!CQ108 -> 0 | F108: =Master!DZ108 -> 0 | G108: =Master!FV108 -> 0 | H108: =Master!HR108 -> 0 | I108: =Master!IP108 -> 0 | J108: =Master!JN108 -> 1462.0187 | K108: =SUM(B108:J108) -> 1462.0187
A109: Total Animals= | B109: =Master!S109 -> 20.589634 | C109: =Master!AQ109 -> 42.659408 | D109: =Master!BQ109 -> 171.23364 | E109: =Master!CQ109 -> 1929.6278 | F109: =Master!DZ109 -> 293.60469 | G109: =Master!FV109 -> 1191.7421 | H109: =Master!HR109 -> 809.12099 | I109: =Master!IP109 -> 22.571554 | J109: =Master!JN109 -> 1580.2069 | K109: =SUM(B109:J109) -> 6061.3567
A111: Total Other= | B111: =Master!S111 -> 212098.34 | C111: =Master!AQ111 -> 28938.018 | D111: =Master!BQ111 -> 27393.085 | E111: =Master!CQ111 -> 91365.08 | F111: =Master!DZ111 -> 112461.89 | G111: =Master!FV111 -> 102627.23 | H111: =Master!HR111 -> 638883.52 | I111: =Master!IP111 -> 162958.59 | J111: =Master!JN111 -> 289121.25 | K111: =SUM(B111:J111) -> 1665847
A113: Total = | B113: =Master!S113 -> 313904.14 | C113: =Master!AQ113 -> 66100.458 | D113: =Master!BQ113 -> 31829.319 | E113: =Master!CQ113 -> 576706.6 | F113: =Master!DZ113 -> 347516.17 | G113: =Master!FV113 -> 208866.14 | H113: =Master!HR113 -> 2564002.8 | I113: =Master!IP113 -> 3058523.9 | J113: =Master!JN113 -> 726986.63 | K113: =Master!$JV$113 -> 7894519.4

Sheet Master
A1: 2018 Aerial Overview Summary for British Columbia by TSA's
T2: South Coast Forest Region | AR2: West Coast Forest Region | BR2: Cariboo Forest Region | CR2: Thompson Okanagan Forest Region | EA2: Kootenay/Boundary Forest Region | FW2: Skeena Forest Region | HS2: Omineca Forest Region | IQ2: Northeast Forest Region
A3: TSA's | B3: Great Bear Rainforest North TSA (TGBN) | H3: Great Bear Rainforest South TSA (TGBS) | N3: GREAT BEAR RAINFOREST TOTAL | T3: Fraser | U3: (TFR) | Z3: Soo | AA3: (TSO) | AF3: Sunshine Coast | AH3: (TSC) | AL3: SOUTH COAST FOREST REGION TOTAL | AR3: Arrowsmith | AT3: (TAS) | AX3: Haida Gwaii | AZ3: (THG) | BE3: North Island (TNI) | BK3: WEST COAST FOREST REGION TOTAL | BR3: 100 Mile House | BT3: (TMH) | BX3: Quesnel | BY3: (TQU) | CD3: Williams Lake | CE3: (TWL) | CK3: CARIBOO FOREST REGION TOTAL | CR3: Kamloops | CS3: (TKA) | CY3: Lillooet | CZ3: (TLI) | DF3: Merritt | DG3: (TME) | DM3: Okanagan | DN3: (TOK) | DT3: THOMPSON/OKANAGAN FOREST REGION TOTAL | EA3: Arrow | EB3: (TAR) | EG3: Boundary | EH3: (TBO) | EM3: Cranbrook | EN3: (TCB) | ES3: Golden | ET3: (TGO) | EY3: Invermere | EZ3: (TIN) | FE3: Kootenay Lake | FF3: (TKL) | FK3: Revelstoke | FL3: (TRE) | FQ3: KOOTENAY/BOUNDRY FOREST REGION | FW3: Bulkley | FX3: (TBU) | GC3: Cassiar | GD3: (TCA) | GI3: Kalum | GJ3: (TKM) | GO3: Kispiox | GP3: (TKI) | GU3: Lakes | GV3: (TLA) | HA3: Morice | HB3: (TMO) | HG3: Nass | HH3: (TNA) | HM3: SKEENA FOREST REGION | HS3: MacKenzie | HT3: (TMK) | HY3: Robson Valley | IA3: (TRV) | IE3: Prince George | IG3: (TPG) | IK3: OMINECA FOREST REGION | IQ3: Dawson Creek | IS3: (TDC) | IW3: Fort Nelson | IX3: (TFN) | JC3: Fort St. John | JE3: (TJO) | JI3: NORTHEAST FOREST REGION | JP3: GRAND TOTAL
B4: Trace | C4: Light | D4: Moderate | E4: Severe | F4: Very Sev | G4: Total | H4: Trace | I4: Light | J4: Moderate | K4: Severe | L4: Very Sev | M4: Total | N4: Trace | O4: Light | P4: Moderate | Q4: Severe | R4: Ver Sev | S4: Total | T4: Trace | U4: Light | V4: Moderate | W4: Severe | X4: Very Sev | Y4: Total | Z4: Trace | AA4: Light | AB4: Moderate | AC4: Severe | AD4: Very Sev | AE4: Total | AF4: Trace | AG4: Light | AH4: Moderate | AI4: Severe | AJ4: Very Sev | AK4: Total | AL4: Trace | AM4: Light | AN4: Moderate | AO4: Severe | AP4: Ver Sev | AQ4: Total | AR4: Trace | AS4: Light | AT4: Moderate | AU4: Severe | AV4: Very Sev | AW4: Total | AX4: Trace | AY4: Light | AZ4: Moderate | BA4: Severe | BB4: Very Sev | BC4: Grey | BD4: Total | BE4: Trace | BF4: Light | BG4: Moderate | BH4: Severe | BI4: Very Sev | BJ4: Total | BK4: Trace | BL4: Light | BM4: Moderate | BN4: Severe | BO4: Ver Sev | BP4: Grey | BQ4: Total | BR4: Trace | BS4: Light | BT4: Moderate | BU4: Severe | BV4: Very Sev | BW4: Total | BX4: Trace | BY4: Light | BZ4: Moderate | CA4: Severe | CB4: Very Sev | CC4: Total | CD4: Trace | CE4: Light | CF4: Moderate | CG4: Severe | CH4: Very Sev | CI4: Grey | CJ4: Total | CK4: Trace | CL4: Light | CM4: Moderate | CN4: Severe | CO4: Ver Sev | CP4: Grey | CQ4: Total | CR4: Trace | CS4: Light | CT4: Moderate | CU4: Severe | CV4: Very Sev | CW4: Grey | CX4: Total | CY4: Trace | CZ4: Light | DA4: Moderate | DB4: Severe | DC4: Very Sev | DD4: Grey | DE4: Total | DF4: Trace | DG4: Light | DH4: Moderate | DI4: Severe | DJ4: Very Sev | DK4: Grey | DL4: Total | DM4: Trace | DN4: Light | DO4: Moderate | DP4: Severe | DQ4: Very Sev | DR4: Grey | DS4: Total | DT4: Trace | DU4: Light | DV4: Moderate | DW4: Severe | DX4: Ver Sev | DY4: Grey | DZ4: Total | EA4: Trace | EB4: Light | EC4: Moderate | ED4: Severe | EE4: Very Sev | EF4: Total | EG4: Trace | EH4: Light | EI4: Moderate | EJ4: Severe | EK4: Very Sev | EL4: Total | EM4: Trace | EN4: Light | EO4: Moderate | EP4: Severe | EQ4: Very Sev | ER4: Total | ES4: Trace | ET4: Light | EU4: Moderate | EV4: Severe | EW4: Very Sev | EX4: Total | EY4: Trace | EZ4: Light | FA4: Moderate | FB4: Severe | FC4: Very Sev | FD4: Total | FE4: Trace | FF4: Light | FG4: Moderate | FH4: Severe | FI4: Very Sev | FJ4: Total | FK4: Trace | FL4: Light | FM4: Moderate | FN4: Severe | FO4: Very Sev | FP4: Total | FQ4: Trace | FR4: Light | FS4: Moderate | FT4: Severe | FU4: Very Sev | FV4: TOTAL | FW4: Trace | FX4: Light | FY4: Moderate | FZ4: Severe | GA4: Very Sev | GB4: Total | GC4: Trace | GD4: Light | GE4: Moderate | GF4: Severe | GG4: Very Sev | GH4: Total | GI4: Trace | GJ4: Light | GK4: Moderate | GL4: Severe | GM4: Very Sev | GN4: Total | GO4: Trace | GP4: Light | GQ4: Moderate | GR4: Severe | GS4: Very Sev | GT4: Total | GU4: Trace | GV4: Light | GW4: Moderate | GX4: Severe | GY4: Very Sev | GZ4: Total | HA4: Trace | HB4: Light | HC4: Moderate | HD4: Severe | HE4: Very Sev | HF4: Total | HG4: Trace | HH4: Light | HI4: Moderate | HJ4: Severe | HK4: Very Sev | HL4: Total | HM4: Trace | HN4: Light | HO4: Moderate | HP4: Severe | HQ4: Very Sev | HR4: TOTAL | HS4: Trace | HT4: Light | HU4: Moderate | HV4: Severe | HW4: Very Sev | HX4: Total | HY4: Trace | HZ4: Light | IA4: Moderate | IB4: Severe | IC4: Very Sev | ID4: Total | IE4: Trace | IF4: Light | IG4: Moderate | IH4: Severe | II4: Very Sev | IJ4: Total | IK4: Trace | IL4: Light | IM4: Moderate | IN4: Severe | IO4: Very Sev | IP4: TOTAL | IQ4: Trace | IR4: Light | IS4: Moderate | IT4: Severe | IU4: Very Sev | IV4: Total | IW4: Trace | IX4: Light | IY4: Moderate | IZ4: Severe | JA4: Very Sev | JB4: Total | JC4: Trace | JD4: Light | JE4: Moderate | JF4: Severe | JG4: Very Sev | JH4: Total | JI4: Trace | JJ4: Light | JK4: Moderate | JL4: Severe | JM4: Very Sev | JN4: TOTAL | JP4: Trace | JQ4: Light | JR4: Moderate | JS4: Severe | JT4: Very Sev | JU4: Grey | JV4: TOTAL
A5: Bark Beetles
A6: IBM=Mountain Pine Beetle | B6: 856.41278 | C6: 725.07412 | D6: 375.7172 | E6: 4 | G6: =SUM(B6:F6) -> 1961.2041 | M6: =SUM(H6:L6) -> 0 | N6: =SUM(B6,H6) -> 856.41278 | O6: =SUM(C6,I6) -> 725.07412 | P6: =SUM(D6,J6) -> 375.7172 | Q6: =SUM(E6,K6) -> 4 | R6: =SUM(F6,L6) -> 0 | S6: =SUM(N6:R6) -> 1961.2041 | T6: 7.155872 | U6: 24.026229 | W6: 0.25 | Y6: =SUM(T6:X6) -> 31.432101 | Z6: 133.27022 | AA6: 130.34389 | AB6: 6.3689341 | AC6: 3.5 | AE6: =SUM(Z6:AD6) -> 273.48305 | AK6: =SUM(AF6:AJ6) -> 0 | AL6: =SUM(T6,Z6,AF6) -> 140.4261 | AM6: =SUM(U6,AA6,AG6) -> 154.37012 | AN6: =SUM(V6,AB6,AH6) -> 6.3689341 | AO6: =SUM(W6,AC6,AI6) -> 3.75 | AP6: =SUM(X6,AD6,AJ6) -> 0 | AQ6: =SUM(AL6:AP6) -> 304.91515 | AW6: =SUM(AR6:AV6) -> 0 | BD6: =SUM(AX6:BC6) -> 0 | BJ6: =SUM(BE6:BI6) -> 0 | BK6: =SUM(AR6,AX6,BE6) -> 0 | BL6: =SUM(AS6,AY6,BF6) -> 0 | BM6: =SUM(AT6,AZ6,BG6) -> 0 | BN6: =SUM(AU6,BA6,BH6) -> 0 | BO6: =SUM(AV6,BB6,BI6) -> 0 | BP6: =SUM(BC6) -> 0 | BQ6: =SUM(BK6:BP6) -> 0 | BW6: =SUM(BR6:BV6) -> 0 | CA6: 1 | CC6: =SUM(BX6:CB6) -> 1 | CD6: 1285.9387 | CE6: 8852.8881 | CF6: 3436.3314 | CG6: 1215.8785 | CJ6: =SUM(CD6:CI6) -> 14791.037 | CK6: =SUM(BR6,BX6,CD6) -> 1285.9387 | CL6: =SUM(BS6,BY6,CE6) -> 8852.8881 | CM6: =SUM(BT6,BZ6,CF6) -> 3436.3314 | CN6: =SUM(BU6,CA6,CG6) -> 1216.8785 | CO6: =SUM(BV6,CB6,CH6) -> 0 | CP6: =SUM(CI6) -> 0 | CQ6: =SUM(CK6:CP6) -> 14792.037 | CU6: 0.25 | CX6: =SUM(CR6:CW6) -> 0.25 | CY6: 457.26703 | CZ6: 3796.5166 | DA6: 3074.0239 | DB6: 498.28932 | DC6: 134.21133 | DE6: =SUM(CY6:DD6) -> 7960.3082 | DI6: 2 | DL6: =SUM(DF6:DK6) -> 2 | DN6: 30.44235 | DP6: 1.25 | DS6: =SUM(DM6:DR6) -> 31.69235 | DT6: =SUM(CR6,CY6,DF6,DM6) -> 457.26703 | DU6: =SUM(CS6,CZ6,DG6,DN6) -> 3826.959 | DV6: =SUM(CT6,DA6,DH6,DO6) -> 3074.0239 | DW6: =SUM(CU6,DB6,DI6,DP6) -> 501.78932 | DX6: =SUM(CV6,DC6,DJ6,DQ6) -> 134.21133 | DY6: =SUM(CW6,DD6,DK6,DR6) -> 0 | DZ6: =SUM(DT6:DY6) -> 7994.2506 | EA6: 98.971257 | EB6: 236.2507 | EC6: 252.96959 | ED6: 10.25 | EF6: =SUM(EA6:EE6) -> 598.44154 | EG6: 595.27969 | EH6: 143.6824 | EJ6: 8.75 | EL6: =SUM(EG6:EK6) -> 747.71208 | EM6: 391.80031 | EN6: 251.77892 | EO6: 276.29231 | EP6: 18 | ER6: =SUM(EM6:EQ6) -> 937.87154 | ES6: 467.48446 | ET6: 474.44915 | EU6: 188.4526 | EV6: 10.14089 | EX6: =SUM(ES6:EW6) -> 1140.5271 | EY6: 2567.2728 | EZ6: 2342.1449 | FA6: 2272.7832 | FB6: 213.67692 | FC6: 31.272462 | FD6: =SUM(EY6:FC6) -> 7427.1503 | FE6: 560.65468 | FF6: 1376.2146 | FG6: 1216.9318 | FH6: 208.91478 | FI6: 196.80485 | FJ6: =SUM(FE6:FI6) -> 3559.5207 | FK6: 22.912252 | FL6: 10.720508 | FM6: 167.47337 | FN6: 2.5 | FP6: =SUM(FK6:FO6) -> 203.60613 | FQ6: =SUM(EA6,EG6,EM6,ES6,EY6,FE6,FK6) -> 4704.3754 | FR6: =SUM(EB6,EH6,EN6,ET6,EZ6,FF6,FL6) -> 4835.2411 | FS6: =SUM(EC6,EI6,EO6,EU6,FA6,FG6,FM6) -> 4374.9029 | FT6: =SUM(ED6,EJ6,EP6,EV6,FB6,FH6,FN6) -> 472.23259 | FU6: =SUM(EE6,EK6,EQ6,EW6,FC6,FI6,FO6) -> 228.07732 | FV6: =SUM(FQ6:FU6) -> 14614.829 | FW6: 1480.968 | FX6: 501.95732 | FY6: 162.88541 | FZ6: 24.645194 | GB6: =SUM(FW6:GA6) -> 2170.4559 | GF6: 1.5 | GH6: =SUM(GC6:GG6) -> 1.5 | GL6: 1.25 | GN6: =SUM(GI6:GM6) -> 1.25 | GR6: 2 | GT6: =SUM(GO6:GS6) -> 2 | GV6: 37.92681 | GW6: 28.935542 | GX6: 6.25 | GZ6: =SUM(GU6:GY6) -> 73.112352 | HA6: 414.51413 | HB6: 162.82988 | HC6: 58.813938 | HD6: 39.627402 | HF6: =SUM(HA6:HE6) -> 675.78536 | HL6: =SUM(HG6:HK6) -> 0 | HM6: =SUM(FW6,GC6,GI6,GO6,GU6,HA6,HG6) -> 1895.4821 | HN6: =SUM(FX6,GD6,GJ6,GP6,GV6,HB6,HH6) -> 702.71401 | HO6: =SUM(FY6,GE6,GK6,GQ6,GW6,HC6,HI6) -> 250.63489 | HP6: =SUM(FZ6,GF6,GL6,GR6,GX6,HD6,HJ6) -> 75.272596 | HQ6: =SUM(GA6,GG6,GM6,GS6,GY6,HE6,HK6) -> 0 | HR6: =SUM(HM6:HQ6) -> 2924.1036 | HS6: 4051.1259 | HT6: 26.986018 | HV6: 20.25 | HX6: =SUM(HS6:HW6) -> 4098.3619 | HY6: 7010.23 | HZ6: 9662.6564 | IA6: 19617.921 | IB6: 1965.0065 | ID6: =SUM(HY6:IC6) -> 38255.814 | IE6: 11273.812 | IF6: 4245.2266 | IH6: 23 | IJ6: =SUM(IE6:II6) -> 15542.039 | IK6: =SUM(HS6,HY6,IE6) -> 22335.168 | IL6: =SUM(HT6,HZ6,IF6) -> 13934.869 | IM6: =SUM(HU6,IA6,IG6) -> 19617.921 | IN6: =SUM(HV6,IB6,IH6) -> 2008.2565 | IO6: =SUM(HW6,IC6,II6) -> 0 | IP6: =SUM(IK6:IO6) -> 57896.214 | IQ6: 1412.0065 | IR6: 1611.4132 | IS6: 298.00261 | IT6: 17.75 | IV6: =SUM(IQ6:IU6) -> 3339.1723 | IW6: 9796.4693 | IX6: 104.75196 | IZ6: 51 | JB6: =SUM(IW6:JA6) -> 9952.2213 | JF6: 2.5 | JH6: =SUM(JC6:JG6) -> 2.5 | JI6: =SUM(IQ6,IW6,JC6) -> 11208.476 | JJ6: =SUM(IR6,IX6,JD6) -> 1716.1652 | JK6: =SUM(IS6,IY6,JE6) -> 298.00261 | JL6: =SUM(IT6,IZ6,JF6) -> 71.25 | JM6: =SUM(IU6,JA6,JG6) -> 0 | JN6: =SUM(JI6:JM6) -> 13293.894 | JP6: =SUM(N6,AL6,BK6,CK6,DT6,FQ6,HM6,IK6,JI6) -> 42883.546 | JQ6: =SUM(O6,AM6,BL6,CL6,DU6,FR6,HN6,IL6,JJ6) -> 34748.281 | JR6: =SUM(P6,AN6,BM6,CM6,DV6,FS6,HO6,IM6,JK6) -> 31433.902 | JS6: =SUM(Q6,AO6,BN6,CN6,DW6,FT6,HP6,IN6,JL6) -> 4353.4295 | JT6: =SUM(R6,AP6,BO6,CO6,DX6,FU6,HQ6,IO6,JM6) -> 362.28865 | JU6: =SUM(BP6,CP6,DY6) -> 0 | JV6: =SUM(JP6:JU6) -> 113781.45
A7: IBS=Spruce Beetle | B7: 1038.0923 | C7: 258.31359 | D7: 82.992965 | E7: 22.963497 | G7: =SUM(B7:F7) -> 1402.3624 | H7: 135.64896 | I7: 33.453516 | M7: =SUM(H7:L7) -> 169.10247 | N7: =SUM(B7,H7) -> 1173.7413 | O7: =SUM(C7,I7) -> 291.76711 | P7: =SUM(D7,J7) -> 82.992965 | Q7: =SUM(E7,K7) -> 22.963497 | R7: =SUM(F7,L7) -> 0 | S7: =SUM(N7:R7) -> 1571.4649 | T7: 133.19056 | U7: 444.82097 | V7: 1429.0828 | W7: 505.57657 | Y7: =SUM(T7:X7) -> 2512.6709 | Z7: 48.811566 | AA7: 45.704269 | AB7: 29.715468 | AC7: 5.0990218 | AE7: =SUM(Z7:AD7) -> 129.33033 | AF7: 1457.3134 | AG7: 26.278171 | AI7: 0.25 | AK7: =SUM(AF7:AJ7) -> 1483.8415 | AL7: =SUM(T7,Z7,AF7) -> 1639.3155 | AM7: =SUM(U7,AA7,AG7) -> 516.80341 | AN7: =SUM(V7,AB7,AH7) -> 1458.7982 | AO7: =SUM(W7,AC7,AI7) -> 510.92559 | AP7: =SUM(X7,AD7,AJ7) -> 0 | AQ7: =SUM(AL7:AP7) -> 4125.8427 | AR7: 101.95012 | AS7: 31.689908 | AU7: 0.75 | AW7: =SUM(AR7:AV7) -> 134.39003 | BD7: =SUM(AX7:BC7) -> 0 | BH7: 1 | BJ7: =SUM(BE7:BI7) -> 1 | BK7: =SUM(AR7,AX7,BE7) -> 101.95012 | BL7: =SUM(AS7,AY7,BF7) -> 31.689908 | BM7: =SUM(AT7,AZ7,BG7) -> 0 | BN7: =SUM(AU7,BA7,BH7) -> 1.75 | BO7: =SUM(AV7,BB7,BI7) -> 0 | BP7: =SUM(BC7) -> 0 | BQ7: =SUM(BK7:BP7) -> 135.39003 | BU7: 0.25 | BW7: =SUM(BR7:BV7) -> 0.25 | BX7: 252.59834 | BY7: 217.86851 | BZ7: 34.840446 | CA7: 4 | CC7: =SUM(BX7:CB7) -> 509.3073 | CD7: 1079.8034 | CE7: 1094.1667 | CF7: 522.32496 | CG7: 94.215402 | CJ7: =SUM(CD7:CI7) -> 2790.5104 | CK7: =SUM(BR7,BX7,CD7) -> 1332.4018 | CL7: =SUM(BS7,BY7,CE7) -> 1312.0352 | CM7: =SUM(BT7,BZ7,CF7) -> 557.16541 | CN7: =SUM(BU7,CA7,CG7) -> 98.465402 | CO7: =SUM(BV7,CB7,CH7) -> 0 | CP7: =SUM(CI7) -> 0 | CQ7: =SUM(CK7:CP7) -> 3300.0677 | CS7: 2084.6991 | CT7: 3315.6 | CU7: 1473.7549 | CV7: 44.673887 | CX7: =SUM(CR7:CW7) -> 6918.7279 | CY7: 212.09894 | CZ7: 1553.6419 | DA7: 3146.1064 | DB7: 952.14666 | DC7: 152.73428 | DE7: =SUM(CY7:DD7) -> 6016.7282 | DG7: 3.7288398 | DH7: 16.933863 | DI7: 7.596212 | DL7: =SUM(DF7:DK7) -> 28.258915 | DO7: 8.1177367 | DS7: =SUM(DM7:DR7) -> 8.1177367 | DT7: =SUM(CR7,CY7,DF7,DM7) -> 212.09894 | DU7: =SUM(CS7,CZ7,DG7,DN7) -> 3642.0699 | DV7: =SUM(CT7,DA7,DH7,DO7) -> 6486.758 | DW7: =SUM(CU7,DB7,DI7,DP7) -> 2433.4978 | DX7: =SUM(CV7,DC7,DJ7,DQ7) -> 197.40817 | DY7: =SUM(CW7,DD7,DK7,DR7) -> 0 | DZ7: =SUM(DT7:DY7) -> 12971.833 | EB7: 67.817906 | EC7: 138.15766 | ED7: 0.75 | EF7: =SUM(EA7:EE7) -> 206.72557 | EG7: 18.170653 | EL7: =SUM(EG7:EK7) -> 18.170653 | EM7: 50.114103 | EN7: 913.42351 | EO7: 776.71653 | EP7: 382.66494 | ER7: =SUM(EM7:EQ7) -> 2122.9191 | ES7: 1281.6499 | ET7: 187.5342 | EU7: 344.70977 | EV7: 0.25 | EX7: =SUM(ES7:EW7) -> 1814.1439 | EY7: 851.69002 | EZ7: 1187.1702 | FA7: 1399.6898 | FB7: 213.06908 | FD7: =SUM(EY7:FC7) -> 3651.6191 | FE7: 127.90124 | FG7: 99.412088 | FJ7: =SUM(FE7:FI7) -> 227.31333 | FK7: 148.20953 | FL7: 17.488647 | FM7: 30.281783 | FN7: 0.5 | FP7: =SUM(FK7:FO7) -> 196.47996 | FQ7: =SUM(EA7,EG7,EM7,ES7,EY7,FE7,FK7) -> 2477.7355 | FR7: =SUM(EB7,EH7,EN7,ET7,EZ7,FF7,FL7) -> 2373.4345 | FS7: =SUM(EC7,EI7,EO7,EU7,FA7,FG7,FM7) -> 2788.9676 | FT7: =SUM(ED7,EJ7,EP7,EV7,FB7,FH7,FN7) -> 597.23403 | FU7: =SUM(EE7,EK7,EQ7,EW7,FC7,FI7,FO7) -> 0 | FV7: =SUM(FQ7:FU7) -> 8237.3716 | FW7: 261.36196 | FX7: 1252.8049 | FY7: 665.29941 | FZ7: 1030.2546 | GB7: =SUM(FW7:GA7) -> 3209.7209 | GD7: 159.78 | GH7: =SUM(GC7:GG7) -> 159.78 | GI7: 5331.1986 | GJ7: 952.05346 | GK7: 822.02652 | GL7: 347.25474 | GN7: =SUM(GI7:GM7) -> 7452.5333 | GO7: 1419.9662 | GP7: 335.95902 | GQ7: 30.689186 | GR7: 534.36224 | GT7: =SUM(GO7:GS7) -> 2320.9767 | GU7: 3968.6049 | GV7: 2823.5386 | GX7: 8.25 | GZ7: =SUM(GU7:GY7) -> 6800.3935 | HA7: 5640.9998 | HB7: 846.79803 | HC7: 457.44984 | HD7: 63.929342 | HF7: =SUM(HA7:HE7) -> 7009.177 | HG7: 251.46003 | HI7: 24.932826 | HJ7: 20.384484 | HL7: =SUM(HG7:HK7) -> 296.77734 | HM7: =SUM(FW7,GC7,GI7,GO7,GU7,HA7,HG7) -> 16873.591 | HN7: =SUM(FX7,GD7,GJ7,GP7,GV7,HB7,HH7) -> 6370.9341 | HO7: =SUM(FY7,GE7,GK7,GQ7,GW7,HC7,HI7) -> 2000.3978 | HP7: =SUM(FZ7,GF7,GL7,GR7,GX7,HD7,HJ7) -> 2004.4354 | HQ7: =SUM(GA7,GG7,GM7,GS7,GY7,HE7,HK7) -> 0 | HR7: =SUM(HM7:HQ7) -> 27249.359 | HS7: 27378.737 | HT7: 5848.3139 | HU7: 67.27523 | HV7: 16 | HX7: =SUM(HS7:HW7) -> 33310.326 | HY7: 3776.367 | HZ7: 2639.7236 | IA7: 2016.1745 | IB7: 1304.9939 | ID7: =SUM(HY7:IC7) -> 9737.259 | IE7: 133961.9 | IF7: 57475.947 | IG7: 8157.9004 | IH7: 59.5 | IJ7: =SUM(IE7:II7) -> 199655.25 | IK7: =SUM(HS7,HY7,IE7) -> 165117.01 | IL7: =SUM(HT7,HZ7,IF7) -> 65963.985 | IM7: =SUM(HU7,IA7,IG7) -> 10241.35 | IN7: =SUM(HV7,IB7,IH7) -> 1380.4939 | IO7: =SUM(HW7,IC7,II7) -> 0 | IP7: =SUM(IK7:IO7) -> 242702.84 | IQ7: 21069.559 | IR7: 6137.3513 | IT7: 26 | IV7: =SUM(IQ7:IU7) -> 27232.911 | IW7: 6909.0402 | IX7: 1144.1883 | IZ7: 28 | JB7: =SUM(IW7:JA7) -> 8081.2285 | JC7: 4288.5982 | JD7: 464.54047 | JF7: 43.5 | JH7: =SUM(JC7:JG7) -> 4796.6387 | JI7: =SUM(IQ7,IW7,JC7) -> 32267.198 | JJ7: =SUM(IR7,IX7,JD7) -> 7746.08 | JK7: =SUM(IS7,IY7,JE7) -> 0 | JL7: =SUM(IT7,IZ7,JF7) -> 97.5 | JM7: =SUM(IU7,JA7,JG7) -> 0 | JN7: =SUM(JI7:JM7) -> 40110.778 | JP7: =SUM(N7,AL7,BK7,CK7,DT7,FQ7,HM7,IK7,JI7) -> 221195.04 | JQ7: =SUM(O7,AM7,BL7,CL7,DU7,FR7,HN7,IL7,JJ7) -> 88248.799 | JR7: =SUM(P7,AN7,BM7,CM7,DV7,FS7,HO7,IM7,JK7) -> 23616.43 | JS7: =SUM(Q7,AO7,BN7,CN7,DW7,FT7,HP7,IN7,JL7) -> 7147.2656 | JT7: =SUM(R7,AP7,BO7,CO7,DX7,FU7,HQ7,IO7,JM7) -> 197.40817 | JU7: =SUM(BP7,CP7,DY7) -> 0 | JV7: =SUM(JP7:JU7) -> 340404.94
A8: IBB=Western Balsam Bark Beetle | B8: 70192.279 | C8: 13880.565 | E8: 9.5 | G8: =SUM(B8:F8) -> 84082.344 | H8: 2006.2045 | I8: 64.785079 | J8: 1681.7009 | K8: 2.5 | M8: =SUM(H8:L8) -> 3755.1904 | N8: =SUM(B8,H8) -> 72198.484 | O8: =SUM(C8,I8) -> 13945.35 | P8: =SUM(D8,J8) -> 1681.7009 | Q8: =SUM(E8,K8) -> 12 | R8: =SUM(F8,L8) -> 0 | S8: =SUM(N8:R8) -> 87837.534 | T8: 4550.6971 | U8: 1667.8436 | V8: 158.91152 | W8: 26.75 | Y8: =SUM(T8:X8) -> 6404.2022 | Z8: 17596.342 | AA8: 2291.3471 | AB8: 241.36807 | AC8: 20.25 | AE8: =SUM(Z8:AD8) -> 20149.307 | AF8: 399.03897 | AG8: 249.5102 | AH8: 659.35474 | AI8: 3 | AK8: =SUM(AF8:AJ8) -> 1310.9039 | AL8: =SUM(T8,Z8,AF8) -> 22546.078 | AM8: =SUM(U8,AA8,AG8) -> 4208.7009 | AN8: =SUM(V8,AB8,AH8) -> 1059.6343 | AO8: =SUM(W8,AC8,AI8) -> 50 | AP8: =SUM(X8,AD8,AJ8) -> 0 | AQ8: =SUM(AL8:AP8) -> 27864.413 | AR8: 1339.5497 | AS8: 156.4621 | AU8: 8 | AW8: =SUM(AR8:AV8) -> 1504.0118 | BD8: =SUM(AX8:BC8) -> 0 | BE8: 400.36346 | BF8: 52.188323 | BH8: 10.5 | BJ8: =SUM(BE8:BI8) -> 463.05178 | BK8: =SUM(AR8,AX8,BE8) -> 1739.9132 | BL8: =SUM(AS8,AY8,BF8) -> 208.65043 | BM8: =SUM(AT8,AZ8,BG8) -> 0 | BN8: =SUM(AU8,BA8,BH8) -> 18.5 | BO8: =SUM(AV8,BB8,BI8) -> 0 | BP8: =SUM(BC8) -> 0 | BQ8: =SUM(BK8:BP8) -> 1967.0636 | BR8: 5005.5174 | BS8: 500.70017 | BU8: 4.5 | BW8: =SUM(BR8:BV8) -> 5510.7176 | BX8: 53846.371 | BY8: 2025.115 | CA8: 13.75 | CC8: =SUM(BX8:CB8) -> 55885.236 | CD8: 44383.659 | CE8: 18891.231 | CF8: 2011.9508 | CG8: 1022.7721 | CJ8: =SUM(CD8:CI8) -> 66309.612 | CK8: =SUM(BR8,BX8,CD8) -> 103235.55 | CL8: =SUM(BS8,BY8,CE8) -> 21417.046 | CM8: =SUM(BT8,BZ8,CF8) -> 2011.9508 | CN8: =SUM(BU8,CA8,CG8) -> 1041.0221 | CO8: =SUM(BV8,CB8,CH8) -> 0 | CP8: =SUM(CI8) -> 0 | CQ8: =SUM(CK8:CP8) -> 127705.57 | CR8: 61512.419 | CS8: 6822.0041 | CT8: 627.70734 | CU8: 0.25 | CX8: =SUM(CR8:CW8) -> 68962.38 | CY8: 11254.518 | CZ8: 484.74099 | DA8: 89.104714 | DE8: =SUM(CY8:DD8) -> 11828.364 | DF8: 8906.8399 | DG8: 399.24794 | DL8: =SUM(DF8:DK8) -> 9306.0878 | DM8: 56262.884 | DN8: 716.57837 | DP8: 0.25 | DS8: =SUM(DM8:DR8) -> 56979.713 | DT8: =SUM(CR8,CY8,DF8,DM8) -> 137936.66 | DU8: =SUM(CS8,CZ8,DG8,DN8) -> 8422.5714 | DV8: =SUM(CT8,DA8,DH8,DO8) -> 716.81205 | DW8: =SUM(CU8,DB8,DI8,DP8) -> 0.5 | DX8: =SUM(CV8,DC8,DJ8,DQ8) -> 0 | DY8: =SUM(CW8,DD8,DK8,DR8) -> 0 | DZ8: =SUM(DT8:DY8) -> 147076.54 | EA8: 4672.1297 | EB8: 459.56422 | ED8: 8.25 | EF8: =SUM(EA8:EE8) -> 5139.9439 | EG8: 1847.0557 | EH8: 24.416994 | EJ8: 4.25 | EL8: =SUM(EG8:EK8) -> 1875.7227 | EM8: 4789.6077 | EN8: 1209.2408 | EO8: 121.15628 | EP8: 19.75 | ER8: =SUM(EM8:EQ8) -> 6139.7548 | ES8: 7310.6208 | ET8: 1604.9677 | EU8: 843.39358 | EV8: 15.5 | EX8: =SUM(ES8:EW8) -> 9774.4821 | EY8: 10395.855 | EZ8: 4616.3828 | FA8: 325.80907 | FB8: 11 | FD8: =SUM(EY8:FC8) -> 15349.047 | FE8: 5076.4995 | FF8: 495.56167 | FH8: 11 | FJ8: =SUM(FE8:FI8) -> 5583.0612 | FK8: 4229.9521 | FL8: 70.068906 | FM8: 28.711608 | FN8: 1.75 | FP8: =SUM(FK8:FO8) -> 4330.4826 | FQ8: =SUM(EA8,EG8,EM8,ES8,EY8,FE8,FK8) -> 38321.721 | FR8: =SUM(EB8,EH8,EN8,ET8,EZ8,FF8,FL8) -> 8480.2032 | FS8: =SUM(EC8,EI8,EO8,EU8,FA8,FG8,FM8) -> 1319.0705 | FT8: =SUM(ED8,EJ8,EP8,EV8,FB8,FH8,FN8) -> 71.5 | FU8: =SUM(EE8,EK8,EQ8,EW8,FC8,FI8,FO8) -> 0 | FV8: =SUM(FQ8:FU8) -> 48192.494 | FW8: 299884.06 | FX8: 3156.5003 | FZ8: 7 | GB8: =SUM(FW8:GA8) -> 303047.56 | GC8: 1690.7626 | GD8: 67.839902 | GF8: 12.5 | GH8: =SUM(GC8:GG8) -> 1771.1026 | GI8: 44048.371 | GJ8: 20.069905 | GL8: 22.273077 | GN8: =SUM(GI8:GM8) -> 44090.714 | GO8: 325594.81 | GP8: 57.611315 | GQ8: 364.73913 | GR8: 226.83397 | GT8: =SUM(GO8:GS8) -> 326244 | GU8: 144569.27 | GV8: 14725.659 | GW8: 1040.9483 | GX8: 42.552929 | GZ8: =SUM(GU8:GY8) -> 160378.43 | HA8: 334084.9 | HB8: 15716.818 | HC8: 13041.998 | HD8: 211.18387 | HF8: =SUM(HA8:HE8) -> 363054.9 | HG8: 11740.419 | HJ8: 3.5 | HL8: =SUM(HG8:HK8) -> 11743.919 | HM8: =SUM(FW8,GC8,GI8,GO8,GU8,HA8,HG8) -> 1161612.6 | HN8: =SUM(FX8,GD8,GJ8,GP8,GV8,HB8,HH8) -> 33744.498 | HO8: =SUM(FY8,GE8,GK8,GQ8,GW8,HC8,HI8) -> 14447.685 | HP8: =SUM(FZ8,GF8,GL8,GR8,GX8,HD8,HJ8) -> 525.84384 | HQ8: =SUM(GA8,GG8,GM8,GS8,GY8,HE8,HK8) -> 0 | HR8: =SUM(HM8:HQ8) -> 1210330.6 | HS8: 557991.11 | HT8: 75433.016 | HU8: 2674.6459 | HV8: 217.25 | HX8: =SUM(HS8:HW8) -> 636316.02 | HY8: 94299.862 | HZ8: 26248.261 | IA8: 78.197277 | IB8: 17.75 | ID8: =SUM(HY8:IC8) -> 120644.07 | IE8: 863393.85 | IF8: 115019.83 | IG8: 1217.6089 | IH8: 226 | IJ8: =SUM(IE8:II8) -> 979857.29 | IK8: =SUM(HS8,HY8,IE8) -> 1515684.8 | IL8: =SUM(HT8,HZ8,IF8) -> 216701.11 | IM8: =SUM(HU8,IA8,IG8) -> 3970.4521 | IN8: =SUM(HV8,IB8,IH8) -> 461 | IO8: =SUM(HW8,IC8,II8) -> 0 | IP8: =SUM(IK8:IO8) -> 1736817.4 | IQ8: 170380.78 | IR8: 8832.052 | IT8: 61.75 | IV8: =SUM(IQ8:IU8) -> 179274.59 | IW8: 62546.743 | IX8: 12930.236 | IZ8: 79.75 | JB8: =SUM(IW8:JA8) -> 75556.729 | JC8: 6105.5005 | JD8: 207.49326 | JF8: 20.75 | JH8: =SUM(JC8:JG8) -> 6333.7438 | JI8: =SUM(IQ8,IW8,JC8) -> 239033.03 | JJ8: =SUM(IR8,IX8,JD8) -> 21969.781 | JK8: =SUM(IS8,IY8,JE8) -> 0 | JL8: =SUM(IT8,IZ8,JF8) -> 162.25 | JM8: =SUM(IU8,JA8,JG8) -> 0 | JN8: =SUM(JI8:JM8) -> 261165.06 | JP8: =SUM(N8,AL8,BK8,CK8,DT8,FQ8,HM8,IK8,JI8) -> 3292308.9 | JQ8: =SUM(O8,AM8,BL8,CL8,DU8,FR8,HN8,IL8,JJ8) -> 329097.91 | JR8: =SUM(P8,AN8,BM8,CM8,DV8,FS8,HO8,IM8,JK8) -> 25207.306 | JS8: =SUM(Q8,AO8,BN8,CN8,DW8,FT8,HP8,IN8,JL8) -> 2342.6159 | JT8: =SUM(R8,AP8,BO8,CO8,DX8,FU8,HQ8,IO8,JM8) -> 0 | JU8: =SUM(BP8,CP8,DY8) -> 0 | JV8: =SUM(JP8:JU8) -> 3648956.7
A9: IBD=Douglas-fir Beetle | B9: 217.00534 | C9: 1278.9374 | D9: 77.609031 | E9: 60.085099 | G9: =SUM(B9:F9) -> 1633.6368 | H9: 1641.1133 | J9: 44.224986 | K9: 12.497023 | M9: =SUM(H9:L9) -> 1697.8353 | N9: =SUM(B9,H9) -> 1858.1186 | O9: =SUM(C9,I9) -> 1278.9374 | P9: =SUM(D9,J9) -> 121.83402 | Q9: =SUM(E9,K9) -> 72.582122 | R9: =SUM(F9,L9) -> 0 | S9: =SUM(N9:R9) -> 3331.4721 | T9: 2389.7029 | U9: 981.57522 | V9: 161.90646 | W9: 70.25 | Y9: =SUM(T9:X9) -> 3603.4345 | Z9: 136.27092 | AA9: 91.15177 | AB9: 28.266389 | AC9: 17 | AE9: =SUM(Z9:AD9) -> 272.68908 | AF9: 713.31674 | AG9: 82.52545 | AH9: 176.5532 | AI9: 18.75 | AK9: =SUM(AF9:AJ9) -> 991.14539 | AL9: =SUM(T9,Z9,AF9) -> 3239.2905 | AM9: =SUM(U9,AA9,AG9) -> 1155.2524 | AN9: =SUM(V9,AB9,AH9) -> 366.72605 | AO9: =SUM(W9,AC9,AI9) -> 106 | AP9: =SUM(X9,AD9,AJ9) -> 0 | AQ9: =SUM(AL9:AP9) -> 4867.269 | AR9: 636.45779 | AS9: 490.2128 | AT9: 23.727176 | AU9: 35.678181 | AW9: =SUM(AR9:AV9) -> 1186.0759 | BD9: =SUM(AX9:BC9) -> 0 | BE9: 1000.0052 | BG9: 22.484742 | BH9: 4.25 | BJ9: =SUM(BE9:BI9) -> 1026.7399 | BK9: =SUM(AR9,AX9,BE9) -> 1636.463 | BL9: =SUM(AS9,AY9,BF9) -> 490.2128 | BM9: =SUM(AT9,AZ9,BG9) -> 46.211918 | BN9: =SUM(AU9,BA9,BH9) -> 39.928181 | BO9: =SUM(AV9,BB9,BI9) -> 0 | BP9: =SUM(BC9) -> 0 | BQ9: =SUM(BK9:BP9) -> 2212.8159 | BR9: 471.7606 | BS9: 5495.4822 | BT9: 328.99134 | BU9: 224.32413 | BW9: =SUM(BR9:BV9) -> 6520.5583 | BX9: 395.74379 | BY9: 5491.5612 | BZ9: 3205.8085 | CA9: 1408.6549 | CC9: =SUM(BX9:CB9) -> 10501.768 | CD9: 2641.9533 | CE9: 40458.19 | CF9: 6955.6474 | CG9: 501.28316 | CH9: 6.6465971 | CJ9: =SUM(CD9:CI9) -> 50563.721 | CK9: =SUM(BR9,BX9,CD9) -> 3509.4577 | CL9: =SUM(BS9,BY9,CE9) -> 51445.234 | CM9: =SUM(BT9,BZ9,CF9) -> 10490.447 | CN9: =SUM(BU9,CA9,CG9) -> 2134.2622 | CO9: =SUM(BV9,CB9,CH9) -> 6.6465971 | CP9: =SUM(CI9) -> 0 | CQ9: =SUM(CK9:CP9) -> 67586.048 | CS9: 591.57171 | CT9: 907.06305 | CU9: 608.55661 | CV9: 119.87705 | CX9: =SUM(CR9:CW9) -> 2227.0684 | CZ9: 103.86101 | DA9: 290.63723 | DB9: 111.59901 | DC9: 128.19762 | DE9: =SUM(CY9:DD9) -> 634.29486 | DG9: 98.248183 | DH9: 372.0386 | DI9: 135.19619 | DJ9: 47.883254 | DL9: =SUM(DF9:DK9) -> 653.36622 | DN9: 601.41595 | DO9: 895.56843 | DP9: 585.23654 | DQ9: 112.57121 | DS9: =SUM(DM9:DR9) -> 2194.7921 | DT9: =SUM(CR9,CY9,DF9,DM9) -> 0 | DU9: =SUM(CS9,CZ9,DG9,DN9) -> 1395.0968 | DV9: =SUM(CT9,DA9,DH9,DO9) -> 2465.3073 | DW9: =SUM(CU9,DB9,DI9,DP9) -> 1440.5883 | DX9: =SUM(CV9,DC9,DJ9,DQ9) -> 408.52913 | DY9: =SUM(CW9,DD9,DK9,DR9) -> 0 | DZ9: =SUM(DT9:DY9) -> 5709.5216 | EA9: 417.45322 | EB9: 963.30221 | EC9: 1141.5655 | ED9: 127.58897 | EF9: =SUM(EA9:EE9) -> 2649.9099 | EG9: 121.23409 | EH9: 142.34612 | EI9: 209.60188 | EJ9: 38.5 | EL9: =SUM(EG9:EK9) -> 511.68209 | EM9: 345.94072 | EN9: 171.48869 | EO9: 141.80885 | EP9: 43.75 | ER9: =SUM(EM9:EQ9) -> 702.98826 | ES9: 26.773967 | EU9: 43.881761 | EV9: 7.75 | EX9: =SUM(ES9:EW9) -> 78.405728 | EY9: 27.317901 | EZ9: 224.03296 | FA9: 900.46787 | FB9: 284.39824 | FD9: =SUM(EY9:FC9) -> 1436.217 | FE9: 155.99618 | FF9: 247.10516 | FG9: 238.56926 | FH9: 61.75 | FJ9: =SUM(FE9:FI9) -> 703.42061 | FK9: 198.21754 | FL9: 287.71919 | FM9: 44.371567 | FN9: 12.75 | FP9: =SUM(FK9:FO9) -> 543.0583 | FQ9: =SUM(EA9,EG9,EM9,ES9,EY9,FE9,FK9) -> 1292.9336 | FR9: =SUM(EB9,EH9,EN9,ET9,EZ9,FF9,FL9) -> 2035.9943 | FS9: =SUM(EC9,EI9,EO9,EU9,FA9,FG9,FM9) -> 2720.2667 | FT9: =SUM(ED9,EJ9,EP9,EV9,FB9,FH9,FN9) -> 576.48721 | FU9: =SUM(EE9,EK9,EQ9,EW9,FC9,FI9,FO9) -> 0 | FV9: =SUM(FQ9:FU9) -> 6625.6819 | GB9: =SUM(FW9:GA9) -> 0 | GH9: =SUM(GC9:GG9) -> 0 | GN9: =SUM(GI9:GM9) -> 0 | GT9: =SUM(GO9:GS9) -> 0 | GW9: 518.22798 | GX9: 0.5 | GZ9: =SUM(GU9:GY9) -> 518.72798 | HF9: =SUM(HA9:HE9) -> 0 | HL9: =SUM(HG9:HK9) -> 0 | HM9: =SUM(FW9,GC9,GI9,GO9,GU9,HA9,HG9) -> 0 | HN9: =SUM(FX9,GD9,GJ9,GP9,GV9,HB9,HH9) -> 0 | HO9: =SUM(FY9,GE9,GK9,GQ9,GW9,HC9,HI9) -> 518.22798 | HP9: =SUM(FZ9,GF9,GL9,GR9,GX9,HD9,HJ9) -> 0.5 | HQ9: =SUM(GA9,GG9,GM9,GS9,GY9,HE9,HK9) -> 0 | HR9: =SUM(HM9:HQ9) -> 518.72798 | HX9: =SUM(HS9:HW9) -> 0 | HY9: 394.9251 | HZ9: 204.87863 | IA9: 34.297026 | IB9: 9 | ID9: =SUM(HY9:IC9) -> 643.10076 | IE9: 5025.6953 | IF9: 4753.4933 | IG9: 2234.4675 | IH9: 208.38547 | IJ9: =SUM(IE9:II9) -> 12222.042 | IK9: =SUM(HS9,HY9,IE9) -> 5420.6204 | IL9: =SUM(HT9,HZ9,IF9) -> 4958.372 | IM9: =SUM(HU9,IA9,IG9) -> 2268.7645 | IN9: =SUM(HV9,IB9,IH9) -> 217.38547 | IO9: =SUM(HW9,IC9,II9) -> 0 | IP9: =SUM(IK9:IO9) -> 12865.142 | IV9: =SUM(IQ9:IU9) -> 0 | JB9: =SUM(IW9:JA9) -> 0 | JH9: =SUM(JC9:JG9) -> 0 | JI9: =SUM(IQ9,IW9,JC9) -> 0 | JJ9: =SUM(IR9,IX9,JD9) -> 0 | JK9: =SUM(IS9,IY9,JE9) -> 0 | JL9: =SUM(IT9,IZ9,JF9) -> 0 | JM9: =SUM(IU9,JA9,JG9) -> 0 | JN9: =SUM(JI9:JM9) -> 0 | JP9: =SUM(N9,AL9,BK9,CK9,DT9,FQ9,HM9,IK9,JI9) -> 16956.884 | JQ9: =SUM(O9,AM9,BL9,CL9,DU9,FR9,HN9,IL9,JJ9) -> 62759.1 | JR9: =SUM(P9,AN9,BM9,CM9,DV9,FS9,HO9,IM9,JK9) -> 18997.786 | JS9: =SUM(Q9,AO9,BN9,CN9,DW9,FT9,HP9,IN9,JL9) -> 4587.7335 | JT9: =SUM(R9,AP9,BO9,CO9,DX9,FU9,HQ9,IO9,JM9) -> 415.17573 | JU9: =SUM(BP9,CP9,DY9) -> 0 | JV9: =SUM(JP9:JU9) -> 103716.68
A10: IBF = Fir engraver Beetle | G10: =SUM(B10:F10) -> 0 | M10: =SUM(H10:L10) -> 0 | N10: =SUM(B10,H10) -> 0 | O10: =SUM(C10,I10) -> 0 | P10: =SUM(D10,J10) -> 0 | Q10: =SUM(E10,K10) -> 0 | R10: =SUM(F10,L10) -> 0 | S10: =SUM(N10:R10) -> 0 | Y10: =SUM(T10:X10) -> 0 | AE10: =SUM(Z10:AD10) -> 0 | AK10: =SUM(AF10:AJ10) -> 0 | AL10: =SUM(T10,Z10,AF10) -> 0 | AM10: =SUM(U10,AA10,AG10) -> 0 | AN10: =SUM(V10,AB10,AH10) -> 0 | AO10: =SUM(W10,AC10,AI10) -> 0 | AP10: =SUM(X10,AD10,AJ10) -> 0 | AQ10: =SUM(AL10:AP10) -> 0 | AW10: =SUM(AR10:AV10) -> 0 | BD10: =SUM(AX10:BC10) -> 0 | BJ10: =SUM(BE10:BI10) -> 0 | BK10: =SUM(AR10,AX10,BE10) -> 0 | BL10: =SUM(AS10,AY10,BF10) -> 0 | BM10: =SUM(AT10,AZ10,BG10) -> 0 | BN10: =SUM(AU10,BA10,BH10) -> 0 | BO10: =SUM(AV10,BB10,BI10) -> 0 | BP10: =SUM(BC10) -> 0 | BQ10: =SUM(BK10:BP10) -> 0 | BW10: =SUM(BR10:BV10) -> 0 | CC10: =SUM(BX10:CB10) -> 0 | CJ10: =SUM(CD10:CI10) -> 0 | CK10: =SUM(BR10,BX10,CD10) -> 0 | CL10: =SUM(BS10,BY10,CE10) -> 0 | CM10: =SUM(BT10,BZ10,CF10) -> 0 | CN10: =SUM(BU10,CA10,CG10) -> 0 | CO10: =SUM(BV10,CB10,CH10) -> 0 | CP10: =SUM(CI10) -> 0 | CQ10: =SUM(CK10:CP10) -> 0 | CX10: =SUM(CR10:CW10) -> 0 | DE10: =SUM(CY10:DD10) -> 0 | DL10: =SUM(DF10:DK10) -> 0 | DS10: =SUM(DM10:DR10) -> 0 | DT10: =SUM(CR10,CY10,DF10,DM10) -> 0 | DU10: =SUM(CS10,CZ10,DG10,DN10) -> 0 | DV10: =SUM(CT10,DA10,DH10,DO10) -> 0 | DW10: =SUM(CU10,DB10,DI10,DP10) -> 0 | DX10: =SUM(CV10,DC10,DJ10,DQ10) -> 0 | DY10: =SUM(CW10,DD10,DK10,DR10) -> 0 | DZ10: =SUM(DT10:DY10) -> 0 | EF10: =SUM(EA10:EE10) -> 0 | EL10: =SUM(EG10:EK10) -> 0 | ER10: =SUM(EM10:EQ10) -> 0 | EX10: =SUM(ES10:EW10) -> 0 | FD10: =SUM(EY10:FC10) -> 0 | FJ10: =SUM(FE10:FI10) -> 0 | FP10: =SUM(FK10:FO10) -> 0 | FQ10: =SUM(EA10,EG10,EM10,ES10,EY10,FE10,FK10) -> 0 | FR10: =SUM(EB10,EH10,EN10,ET10,EZ10,FF10,FL10) -> 0 | FS10: =SUM(EC10,EI10,EO10,EU10,FA10,FG10,FM10) -> 0 | FT10: =SUM(ED10,EJ10,EP10,EV10,FB10,FH10,FN10) -> 0 | FU10: =SUM(EE10,EK10,EQ10,EW10,FC10,FI10,FO10) -> 0 | FV10: =SUM(FQ10:FU10) -> 0 | GB10: =SUM(FW10:GA10) -> 0 | GH10: =SUM(GC10:GG10) -> 0 | GN10: =SUM(GI10:GM10) -> 0 | GT10: =SUM(GO10:GS10) -> 0 | GZ10: =SUM(GU10:GY10) -> 0 | HF10: =SUM(HA10:HE10) -> 0 | HL10: =SUM(HG10:HK10) -> 0 | HM10: =SUM(FW10,GC10,GI10,GO10,GU10,HA10,HG10) -> 0 | HN10: =SUM(FX10,GD10,GJ10,GP10,GV10,HB10,HH10) -> 0 | HO10: =SUM(FY10,GE10,GK10,GQ10,GW10,HC10,HI10) -> 0 | HP10: =SUM(FZ10,GF10,GL10,GR10,GX10,HD10,HJ10) -> 0 | HQ10: =SUM(GA10,GG10,GM10,GS10,GY10,HE10,HK10) -> 0 | HR10: =SUM(HM10:HQ10) -> 0 | HX10: =SUM(HS10:HW10) -> 0 | ID10: =SUM(HY10:IC10) -> 0 | IJ10: =SUM(IE10:II10) -> 0 | IK10: =SUM(HS10,HY10,IE10) -> 0 | IL10: =SUM(HT10,HZ10,IF10) -> 0 | IM10: =SUM(HU10,IA10,IG10) -> 0 | IN10: =SUM(HV10,IB10,IH10) -> 0 | IO10: =SUM(HW10,IC10,II10) -> 0 | IP10: =SUM(IK10:IO10) -> 0 | IV10: =SUM(IQ10:IU10) -> 0 | JB10: =SUM(IW10:JA10) -> 0 | JH10: =SUM(JC10:JG10) -> 0 | JI10: =SUM(IQ10,IW10,JC10) -> 0 | JJ10: =SUM(IR10,IX10,JD10) -> 0 | JK10: =SUM(IS10,IY10,JE10) -> 0 | JL10: =SUM(IT10,IZ10,JF10) -> 0 | JM10: =SUM(IU10,JA10,JG10) -> 0 | JN10: =SUM(JI10:JM10) -> 0 | JP10: =SUM(N10,AL10,BK10,CK10,DT10,FQ10,HM10,IK10,JI10) -> 0 | JQ10: =SUM(O10,AM10,BL10,CL10,DU10,FR10,HN10,IL10,JJ10) -> 0 | JR10: =SUM(P10,AN10,BM10,CM10,DV10,FS10,HO10,IM10,JK10) -> 0 | JS10: =SUM(Q10,AO10,BN10,CN10,DW10,FT10,HP10,IN10,JL10) -> 0 | JT10: =SUM(R10,AP10,BO10,CO10,DX10,FU10,HQ10,IO10,JM10) -> 0 | JU10: =SUM(BP10,CP10,DY10) -> 0 | JV10: =SUM(JP10:JU10) -> 0
A11: IBP = Twig Beetle | G11: =SUM(B11:F11) -> 0 | M11: =SUM(H11:L11) -> 0 | N11: =SUM(B11,H11) -> 0 | O11: =SUM(C11,I11) -> 0 | P11: =SUM(D11,J11) -> 0 | Q11: =SUM(E11,K11) -> 0 | R11: =SUM(F11,L11) -> 0 | S11: =SUM(N11:R11) -> 0 | Y11: =SUM(T11:X11) -> 0 | AE11: =SUM(Z11:AD11) -> 0 | AK11: =SUM(AF11:AJ11) -> 0 | AL11: =SUM(T11,Z11,AF11) -> 0 | AM11: =SUM(U11,AA11,AG11) -> 0 | AN11: =SUM(V11,AB11,AH11) -> 0 | AO11: =SUM(W11,AC11,AI11) -> 0 | AP11: =SUM(X11,AD11,AJ11) -> 0 | AQ11: =SUM(AL11:AP11) -> 0 | AW11: =SUM(AR11:AV11) -> 0 | BD11: =SUM(AX11:BC11) -> 0 | BJ11: =SUM(BE11:BI11) -> 0 | BK11: =SUM(AR11,AX11,BE11) -> 0 | BL11: =SUM(AS11,AY11,BF11) -> 0 | BM11: =SUM(AT11,AZ11,BG11) -> 0 | BN11: =SUM(AU11,BA11,BH11) -> 0 | BO11: =SUM(AV11,BB11,BI11) -> 0 | BP11: =SUM(BC11) -> 0 | BQ11: =SUM(BK11:BP11) -> 0 | BW11: =SUM(BR11:BV11) -> 0 | CC11: =SUM(BX11:CB11) -> 0 | CJ11: =SUM(CD11:CI11) -> 0 | CK11: =SUM(BR11,BX11,CD11) -> 0 | CL11: =SUM(BS11,BY11,CE11) -> 0 | CM11: =SUM(BT11,BZ11,CF11) -> 0 | CN11: =SUM(BU11,CA11,CG11) -> 0 | CO11: =SUM(BV11,CB11,CH11) -> 0 | CP11: =SUM(CI11) -> 0 | CQ11: =SUM(CK11:CP11) -> 0 | CX11: =SUM(CR11:CW11) -> 0 | DE11: =SUM(CY11:DD11) -> 0 | DL11: =SUM(DF11:DK11) -> 0 | DS11: =SUM(DM11:DR11) -> 0 | DT11: =SUM(CR11,CY11,DF11,DM11) -> 0 | DU11: =SUM(CS11,CZ11,DG11,DN11) -> 0 | DV11: =SUM(CT11,DA11,DH11,DO11) -> 0 | DW11: =SUM(CU11,DB11,DI11,DP11) -> 0 | DX11: =SUM(CV11,DC11,DJ11,DQ11) -> 0 | DY11: =SUM(CW11,DD11,DK11,DR11) -> 0 | DZ11: =SUM(DT11:DY11) -> 0 | EF11: =SUM(EA11:EE11) -> 0 | EL11: =SUM(EG11:EK11) -> 0 | ER11: =SUM(EM11:EQ11) -> 0 | EX11: =SUM(ES11:EW11) -> 0 | FD11: =SUM(EY11:FC11) -> 0 | FJ11: =SUM(FE11:FI11) -> 0 | FP11: =SUM(FK11:FO11) -> 0 | FQ11: =SUM(EA11,EG11,EM11,ES11,EY11,FE11,FK11) -> 0 | FR11: =SUM(EB11,EH11,EN11,ET11,EZ11,FF11,FL11) -> 0 | FS11: =SUM(EC11,EI11,EO11,EU11,FA11,FG11,FM11) -> 0 | FT11: =SUM(ED11,EJ11,EP11,EV11,FB11,FH11,FN11) -> 0 | FU11: =SUM(EE11,EK11,EQ11,EW11,FC11,FI11,FO11) -> 0 | FV11: =SUM(FQ11:FU11) -> 0 | GB11: =SUM(FW11:GA11) -> 0 | GH11: =SUM(GC11:GG11) -> 0 | GN11: =SUM(GI11:GM11) -> 0 | GT11: =SUM(GO11:GS11) -> 0 | GZ11: =SUM(GU11:GY11) -> 0 | HF11: =SUM(HA11:HE11) -> 0 | HL11: =SUM(HG11:HK11) -> 0 | HM11: =SUM(FW11,GC11,GI11,GO11,GU11,HA11,HG11) -> 0 | HN11: =SUM(FX11,GD11,GJ11,GP11,GV11,HB11,HH11) -> 0 | HO11: =SUM(FY11,GE11,GK11,GQ11,GW11,HC11,HI11) -> 0 | HP11: =SUM(FZ11,GF11,GL11,GR11,GX11,HD11,HJ11) -> 0 | HQ11: =SUM(GA11,GG11,GM11,GS11,GY11,HE11,HK11) -> 0 | HR11: =SUM(HM11:HQ11) -> 0 | HX11: =SUM(HS11:HW11) -> 0 | ID11: =SUM(HY11:IC11) -> 0 | IJ11: =SUM(IE11:II11) -> 0 | IK11: =SUM(HS11,HY11,IE11) -> 0 | IL11: =SUM(HT11,HZ11,IF11) -> 0 | IM11: =SUM(HU11,IA11,IG11) -> 0 | IN11: =SUM(HV11,IB11,IH11) -> 0 | IO11: =SUM(HW11,IC11,II11) -> 0 | IP11: =SUM(IK11:IO11) -> 0 | IV11: =SUM(IQ11:IU11) -> 0 | JB11: =SUM(IW11:JA11) -> 0 | JH11: =SUM(JC11:JG11) -> 0 | JI11: =SUM(IQ11,IW11,JC11) -> 0 | JJ11: =SUM(IR11,IX11,JD11) -> 0 | JK11: =SUM(IS11,IY11,JE11) -> 0 | JL11: =SUM(IT11,IZ11,JF11) -> 0 | JM11: =SUM(IU11,JA11,JG11) -> 0 | JN11: =SUM(JI11:JM11) -> 0 | JP11: =SUM(N11,AL11,BK11,CK11,DT11,FQ11,HM11,IK11,JI11) -> 0 | JQ11: =SUM(O11,AM11,BL11,CL11,DU11,FR11,HN11,IL11,JJ11) -> 0 | JR11: =SUM(P11,AN11,BM11,CM11,DV11,FS11,HO11,IM11,JK11) -> 0 | JS11: =SUM(Q11,AO11,BN11,CN11,DW11,FT11,HP11,IN11,JL11) -> 0 | JT11: =SUM(R11,AP11,BO11,CO11,DX11,FU11,HQ11,IO11,JM11) -> 0 | JU11: =SUM(BP11,CP11,DY11) -> 0 | JV11: =SUM(JP11:JU11) -> 0
A12: IBI=Engraver Beetle (Ips species) | G12: =SUM(B12:F12) -> 0 | M12: =SUM(H12:L12) -> 0 | N12: =SUM(B12,H12) -> 0 | O12: =SUM(C12,I12) -> 0 | P12: =SUM(D12,J12) -> 0 | Q12: =SUM(E12,K12) -> 0 | R12: =SUM(F12,L12) -> 0 | S12: =SUM(N12:R12) -> 0 | Y12: =SUM(T12:X12) -> 0 | AE12: =SUM(Z12:AD12) -> 0 | AK12: =SUM(AF12:AJ12) -> 0 | AL12: =SUM(T12,Z12,AF12) -> 0 | AM12: =SUM(U12,AA12,AG12) -> 0 | AN12: =SUM(V12,AB12,AH12) -> 0 | AO12: =SUM(W12,AC12,AI12) -> 0 | AP12: =SUM(X12,AD12,AJ12) -> 0 | AQ12: =SUM(AL12:AP12) -> 0 | AW12: =SUM(AR12:AV12) -> 0 | BD12: =SUM(AX12:BC12) -> 0 | BJ12: =SUM(BE12:BI12) -> 0 | BK12: =SUM(AR12,AX12,BE12) -> 0 | BL12: =SUM(AS12,AY12,BF12) -> 0 | BM12: =SUM(AT12,AZ12,BG12) -> 0 | BN12: =SUM(AU12,BA12,BH12) -> 0 | BO12: =SUM(AV12,BB12,BI12) -> 0 | BP12: =SUM(BC12) -> 0 | BQ12: =SUM(BK12:BP12) -> 0 | BW12: =SUM(BR12:BV12) -> 0 | CC12: =SUM(BX12:CB12) -> 0 | CJ12: =SUM(CD12:CI12) -> 0 | CK12: =SUM(BR12,BX12,CD12) -> 0 | CL12: =SUM(BS12,BY12,CE12) -> 0 | CM12: =SUM(BT12,BZ12,CF12) -> 0 | CN12: =SUM(BU12,CA12,CG12) -> 0 | CO12: =SUM(BV12,CB12,CH12) -> 0 | CP12: =SUM(CI12) -> 0 | CQ12: =SUM(CK12:CP12) -> 0 | CX12: =SUM(CR12:CW12) -> 0 | DE12: =SUM(CY12:DD12) -> 0 | DL12: =SUM(DF12:DK12) -> 0 | DS12: =SUM(DM12:DR12) -> 0 | DT12: =SUM(CR12,CY12,DF12,DM12) -> 0 | DU12: =SUM(CS12,CZ12,DG12,DN12) -> 0 | DV12: =SUM(CT12,DA12,DH12,DO12) -> 0 | DW12: =SUM(CU12,DB12,DI12,DP12) -> 0 | DX12: =SUM(CV12,DC12,DJ12,DQ12) -> 0 | DY12: =SUM(CW12,DD12,DK12,DR12) -> 0 | DZ12: =SUM(DT12:DY12) -> 0 | EF12: =SUM(EA12:EE12) -> 0 | EL12: =SUM(EG12:EK12) -> 0 | ER12: =SUM(EM12:EQ12) -> 0 | EX12: =SUM(ES12:EW12) -> 0 | FD12: =SUM(EY12:FC12) -> 0 | FJ12: =SUM(FE12:FI12) -> 0 | FP12: =SUM(FK12:FO12) -> 0 | FQ12: =SUM(EA12,EG12,EM12,ES12,EY12,FE12,FK12) -> 0 | FR12: =SUM(EB12,EH12,EN12,ET12,EZ12,FF12,FL12) -> 0 | FS12: =SUM(EC12,EI12,EO12,EU12,FA12,FG12,FM12) -> 0 | FT12: =SUM(ED12,EJ12,EP12,EV12,FB12,FH12,FN12) -> 0 | FU12: =SUM(EE12,EK12,EQ12,EW12,FC12,FI12,FO12) -> 0 | FV12: =SUM(FQ12:FU12) -> 0 | GB12: =SUM(FW12:GA12) -> 0 | GH12: =SUM(GC12:GG12) -> 0 | GN12: =SUM(GI12:GM12) -> 0 | GT12: =SUM(GO12:GS12) -> 0 | GZ12: =SUM(GU12:GY12) -> 0 | HF12: =SUM(HA12:HE12) -> 0 | HL12: =SUM(HG12:HK12) -> 0 | HM12: =SUM(FW12,GC12,GI12,GO12,GU12,HA12,HG12) -> 0 | HN12: =SUM(FX12,GD12,GJ12,GP12,GV12,HB12,HH12) -> 0 | HO12: =SUM(FY12,GE12,GK12,GQ12,GW12,HC12,HI12) -> 0 | HP12: =SUM(FZ12,GF12,GL12,GR12,GX12,HD12,HJ12) -> 0 | HQ12: =SUM(GA12,GG12,GM12,GS12,GY12,HE12,HK12) -> 0 | HR12: =SUM(HM12:HQ12) -> 0 | HX12: =SUM(HS12:HW12) -> 0 | ID12: =SUM(HY12:IC12) -> 0 | IJ12: =SUM(IE12:II12) -> 0 | IK12: =SUM(HS12,HY12,IE12) -> 0 | IL12: =SUM(HT12,HZ12,IF12) -> 0 | IM12: =SUM(HU12,IA12,IG12) -> 0 | IN12: =SUM(HV12,IB12,IH12) -> 0 | IO12: =SUM(HW12,IC12,II12) -> 0 | IP12: =SUM(IK12:IO12) -> 0 | IV12: =SUM(IQ12:IU12) -> 0 | JB12: =SUM(IW12:JA12) -> 0 | JH12: =SUM(JC12:JG12) -> 0 | JI12: =SUM(IQ12,IW12,JC12) -> 0 | JJ12: =SUM(IR12,IX12,JD12) -> 0 | JK12: =SUM(IS12,IY12,JE12) -> 0 | JL12: =SUM(IT12,IZ12,JF12) -> 0 | JM12: =SUM(IU12,JA12,JG12) -> 0 | JN12: =SUM(JI12:JM12) -> 0 | JP12: =SUM(N12,AL12,BK12,CK12,DT12,FQ12,HM12,IK12,JI12) -> 0 | JQ12: =SUM(O12,AM12,BL12,CL12,DU12,FR12,HN12,IL12,JJ12) -> 0 | JR12: =SUM(P12,AN12,BM12,CM12,DV12,FS12,HO12,IM12,JK12) -> 0 | JS12: =SUM(Q12,AO12,BN12,CN12,DW12,FT12,HP12,IN12,JL12) -> 0 | JT12: =SUM(R12,AP12,BO12,CO12,DX12,FU12,HQ12,IO12,JM12) -> 0 | JU12: =SUM(BP12,CP12,DY12) -> 0 | JV12: =SUM(JP12:JU12) -> 0
A13: IBW=Western Pine Beetle | G13: =SUM(B13:F13) -> 0 | M13: =SUM(H13:L13) -> 0 | N13: =SUM(B13,H13) -> 0 | O13: =SUM(C13,I13) -> 0 | P13: =SUM(D13,J13) -> 0 | Q13: =SUM(E13,K13) -> 0 | R13: =SUM(F13,L13) -> 0 | S13: =SUM(N13:R13) -> 0 | Y13: =SUM(T13:X13) -> 0 | AE13: =SUM(Z13:AD13) -> 0 | AK13: =SUM(AF13:AJ13) -> 0 | AL13: =SUM(T13,Z13,AF13) -> 0 | AM13: =SUM(U13,AA13,AG13) -> 0 | AN13: =SUM(V13,AB13,AH13) -> 0 | AO13: =SUM(W13,AC13,AI13) -> 0 | AP13: =SUM(X13,AD13,AJ13) -> 0 | AQ13: =SUM(AL13:AP13) -> 0 | AW13: =SUM(AR13:AV13) -> 0 | BD13: =SUM(AX13:BC13) -> 0 | BJ13: =SUM(BE13:BI13) -> 0 | BK13: =SUM(AR13,AX13,BE13) -> 0 | BL13: =SUM(AS13,AY13,BF13) -> 0 | BM13: =SUM(AT13,AZ13,BG13) -> 0 | BN13: =SUM(AU13,BA13,BH13) -> 0 | BO13: =SUM(AV13,BB13,BI13) -> 0 | BP13: =SUM(BC13) -> 0 | BQ13: =SUM(BK13:BP13) -> 0 | BW13: =SUM(BR13:BV13) -> 0 | CC13: =SUM(BX13:CB13) -> 0 | CJ13: =SUM(CD13:CI13) -> 0 | CK13: =SUM(BR13,BX13,CD13) -> 0 | CL13: =SUM(BS13,BY13,CE13) -> 0 | CM13: =SUM(BT13,BZ13,CF13) -> 0 | CN13: =SUM(BU13,CA13,CG13) -> 0 | CO13: =SUM(BV13,CB13,CH13) -> 0 | CP13: =SUM(CI13) -> 0 | CQ13: =SUM(CK13:CP13) -> 0 | CX13: =SUM(CR13:CW13) -> 0 | DE13: =SUM(CY13:DD13) -> 0 | DL13: =SUM(DF13:DK13) -> 0 | DS13: =SUM(DM13:DR13) -> 0 | DT13: =SUM(CR13,CY13,DF13,DM13) -> 0 | DU13: =SUM(CS13,CZ13,DG13,DN13) -> 0 | DV13: =SUM(CT13,DA13,DH13,DO13) -> 0 | DW13: =SUM(CU13,DB13,DI13,DP13) -> 0 | DX13: =SUM(CV13,DC13,DJ13,DQ13) -> 0 | DY13: =SUM(CW13,DD13,DK13,DR13) -> 0 | DZ13: =SUM(DT13:DY13) -> 0 | ED13: 1.5 | EF13: =SUM(EA13:EE13) -> 1.5 | EJ13: 2 | EL13: =SUM(EG13:EK13) -> 2 | EM13: 6.3312793 | EP13: 2 | ER13: =SUM(EM13:EQ13) -> 8.3312793 | EX13: =SUM(ES13:EW13) -> 0 | FB13: 0.5 | FD13: =SUM(EY13:FC13) -> 0.5 | FE13: 14.929916 | FH13: 1.75 | FJ13: =SUM(FE13:FI13) -> 16.679916 | FP13: =SUM(FK13:FO13) -> 0 | FQ13: =SUM(EA13,EG13,EM13,ES13,EY13,FE13,FK13) -> 21.261195 | FR13: =SUM(EB13,EH13,EN13,ET13,EZ13,FF13,FL13) -> 0 | FS13: =SUM(EC13,EI13,EO13,EU13,FA13,FG13,FM13) -> 0 | FT13: =SUM(ED13,EJ13,EP13,EV13,FB13,FH13,FN13) -> 7.75 | FU13: =SUM(EE13,EK13,EQ13,EW13,FC13,FI13,FO13) -> 0 | FV13: =SUM(FQ13:FU13) -> 29.011195 | GB13: =SUM(FW13:GA13) -> 0 | GH13: =SUM(GC13:GG13) -> 0 | GN13: =SUM(GI13:GM13) -> 0 | GT13: =SUM(GO13:GS13) -> 0 | GZ13: =SUM(GU13:GY13) -> 0 | HF13: =SUM(HA13:HE13) -> 0 | HL13: =SUM(HG13:HK13) -> 0 | HM13: =SUM(FW13,GC13,GI13,GO13,GU13,HA13,HG13) -> 0 | HN13: =SUM(FX13,GD13,GJ13,GP13,GV13,HB13,HH13) -> 0 | HO13: =SUM(FY13,GE13,GK13,GQ13,GW13,HC13,HI13) -> 0 | HP13: =SUM(FZ13,GF13,GL13,GR13,GX13,HD13,HJ13) -> 0 | HQ13: =SUM(GA13,GG13,GM13,GS13,GY13,HE13,HK13) -> 0 | HR13: =SUM(HM13:HQ13) -> 0 | HX13: =SUM(HS13:HW13) -> 0 | ID13: =SUM(HY13:IC13) -> 0 | IJ13: =SUM(IE13:II13) -> 0 | IK13: =SUM(HS13,HY13,IE13) -> 0 | IL13: =SUM(HT13,HZ13,IF13) -> 0 | IM13: =SUM(HU13,IA13,IG13) -> 0 | IN13: =SUM(HV13,IB13,IH13) -> 0 | IO13: =SUM(HW13,IC13,II13) -> 0 | IP13: =SUM(IK13:IO13) -> 0 | IV13: =SUM(IQ13:IU13) -> 0 | JB13: =SUM(IW13:JA13) -> 0 | JH13: =SUM(JC13:JG13) -> 0 | JI13: =SUM(IQ13,IW13,JC13) -> 0 | JJ13: =SUM(IR13,IX13,JD13) -> 0 | JK13: =SUM(IS13,IY13,JE13) -> 0 | JL13: =SUM(IT13,IZ13,JF13) -> 0 | JM13: =SUM(IU13,JA13,JG13) -> 0 | JN13: =SUM(JI13:JM13) -> 0 | JP13: =SUM(N13,AL13,BK13,CK13,DT13,FQ13,HM13,IK13,JI13) -> 21.261195 | JQ13: =SUM(O13,AM13,BL13,CL13,DU13,FR13,HN13,IL13,JJ13) -> 0 | JR13: =SUM(P13,AN13,BM13,CM13,DV13,FS13,HO13,IM13,JK13) -> 0 | JS13: =SUM(Q13,AO13,BN13,CN13,DW13,FT13,HP13,IN13,JL13) -> 7.75 | JT13: =SUM(R13,AP13,BO13,CO13,DX13,FU13,HQ13,IO13,JM13) -> 0 | JU13: =SUM(BP13,CP13,DY13) -> 0 | JV13: =SUM(JP13:JU13) -> 29.011195
A14: IBL=Lodgepole Pine Beetle | G14: =SUM(B14:F14) -> 0 | M14: =SUM(H14:L14) -> 0 | N14: =SUM(B14,H14) -> 0 | O14: =SUM(C14,I14) -> 0 | P14: =SUM(D14,J14) -> 0 | Q14: =SUM(E14,K14) -> 0 | R14: =SUM(F14,L14) -> 0 | S14: =SUM(N14:R14) -> 0 | Y14: =SUM(T14:X14) -> 0 | AE14: =SUM(Z14:AD14) -> 0 | AK14: =SUM(AF14:AJ14) -> 0 | AL14: =SUM(T14,Z14,AF14) -> 0 | AM14: =SUM(U14,AA14,AG14) -> 0 | AN14: =SUM(V14,AB14,AH14) -> 0 | AO14: =SUM(W14,AC14,AI14) -> 0 | AP14: =SUM(X14,AD14,AJ14) -> 0 | AQ14: =SUM(AL14:AP14) -> 0 | AW14: =SUM(AR14:AV14) -> 0 | BD14: =SUM(AX14:BC14) -> 0 | BJ14: =SUM(BE14:BI14) -> 0 | BK14: =SUM(AR14,AX14,BE14) -> 0 | BL14: =SUM(AS14,AY14,BF14) -> 0 | BM14: =SUM(AT14,AZ14,BG14) -> 0 | BN14: =SUM(AU14,BA14,BH14) -> 0 | BO14: =SUM(AV14,BB14,BI14) -> 0 | BP14: =SUM(BC14) -> 0 | BQ14: =SUM(BK14:BP14) -> 0 | BW14: =SUM(BR14:BV14) -> 0 | CC14: =SUM(BX14:CB14) -> 0 | CJ14: =SUM(CD14:CI14) -> 0 | CK14: =SUM(BR14,BX14,CD14) -> 0 | CL14: =SUM(BS14,BY14,CE14) -> 0 | CM14: =SUM(BT14,BZ14,CF14) -> 0 | CN14: =SUM(BU14,CA14,CG14) -> 0 | CO14: =SUM(BV14,CB14,CH14) -> 0 | CP14: =SUM(CI14) -> 0 | CQ14: =SUM(CK14:CP14) -> 0 | CX14: =SUM(CR14:CW14) -> 0 | DE14: =SUM(CY14:DD14) -> 0 | DL14: =SUM(DF14:DK14) -> 0 | DS14: =SUM(DM14:DR14) -> 0 | DT14: =SUM(CR14,CY14,DF14,DM14) -> 0 | DU14: =SUM(CS14,CZ14,DG14,DN14) -> 0 | DV14: =SUM(CT14,DA14,DH14,DO14) -> 0 | DW14: =SUM(CU14,DB14,DI14,DP14) -> 0 | DX14: =SUM(CV14,DC14,DJ14,DQ14) -> 0 | DY14: =SUM(CW14,DD14,DK14,DR14) -> 0 | DZ14: =SUM(DT14:DY14) -> 0 | EF14: =SUM(EA14:EE14) -> 0 | EL14: =SUM(EG14:EK14) -> 0 | ER14: =SUM(EM14:EQ14) -> 0 | EX14: =SUM(ES14:EW14) -> 0 | FD14: =SUM(EY14:FC14) -> 0 | FJ14: =SUM(FE14:FI14) -> 0 | FP14: =SUM(FK14:FO14) -> 0 | FQ14: =SUM(EA14,EG14,EM14,ES14,EY14,FE14,FK14) -> 0 | FR14: =SUM(EB14,EH14,EN14,ET14,EZ14,FF14,FL14) -> 0 | FS14: =SUM(EC14,EI14,EO14,EU14,FA14,FG14,FM14) -> 0 | FT14: =SUM(ED14,EJ14,EP14,EV14,FB14,FH14,FN14) -> 0 | FU14: =SUM(EE14,EK14,EQ14,EW14,FC14,FI14,FO14) -> 0 | FV14: =SUM(FQ14:FU14) -> 0 | GB14: =SUM(FW14:GA14) -> 0 | GH14: =SUM(GC14:GG14) -> 0 | GN14: =SUM(GI14:GM14) -> 0 | GT14: =SUM(GO14:GS14) -> 0 | GZ14: =SUM(GU14:GY14) -> 0 | HF14: =SUM(HA14:HE14) -> 0 | HL14: =SUM(HG14:HK14) -> 0 | HM14: =SUM(FW14,GC14,GI14,GO14,GU14,HA14,HG14) -> 0 | HN14: =SUM(FX14,GD14,GJ14,GP14,GV14,HB14,HH14) -> 0 | HO14: =SUM(FY14,GE14,GK14,GQ14,GW14,HC14,HI14) -> 0 | HP14: =SUM(FZ14,GF14,GL14,GR14,GX14,HD14,HJ14) -> 0 | HQ14: =SUM(GA14,GG14,GM14,GS14,GY14,HE14,HK14) -> 0 | HR14: =SUM(HM14:HQ14) -> 0 | HX14: =SUM(HS14:HW14) -> 0 | ID14: =SUM(HY14:IC14) -> 0 | IJ14: =SUM(IE14:II14) -> 0 | IK14: =SUM(HS14,HY14,IE14) -> 0 | IL14: =SUM(HT14,HZ14,IF14) -> 0 | IM14: =SUM(HU14,IA14,IG14) -> 0 | IN14: =SUM(HV14,IB14,IH14) -> 0 | IO14: =SUM(HW14,IC14,II14) -> 0 | IP14: =SUM(IK14:IO14) -> 0 | IV14: =SUM(IQ14:IU14) -> 0 | JB14: =SUM(IW14:JA14) -> 0 | JH14: =SUM(JC14:JG14) -> 0 | JI14: =SUM(IQ14,IW14,JC14) -> 0 | JJ14: =SUM(IR14,IX14,JD14) -> 0 | JK14: =SUM(IS14,IY14,JE14) -> 0 | JL14: =SUM(IT14,IZ14,JF14) -> 0 | JM14: =SUM(IU14,JA14,JG14) -> 0 | JN14: =SUM(JI14:JM14) -> 0 | JP14: =SUM(N14,AL14,BK14,CK14,DT14,FQ14,HM14,IK14,JI14) -> 0 | JQ14: =SUM(O14,AM14,BL14,CL14,DU14,FR14,HN14,IL14,JJ14) -> 0 | JR14: =SUM(P14,AN14,BM14,CM14,DV14,FS14,HO14,IM14,JK14) -> 0 | JS14: =SUM(Q14,AO14,BN14,CN14,DW14,FT14,HP14,IN14,JL14) -> 0 | JT14: =SUM(R14,AP14,BO14,CO14,DX14,FU14,HQ14,IO14,JM14) -> 0 | JU14: =SUM(BP14,CP14,DY14) -> 0 | JV14: =SUM(JP14:JU14) -> 0
A15: IBT=Red Turpentine Beetle | G15: =SUM(B15:F15) -> 0 | M15: =SUM(H15:L15) -> 0 | N15: =SUM(B15,H15) -> 0 | O15: =SUM(C15,I15) -> 0 | P15: =SUM(D15,J15) -> 0 | Q15: =SUM(E15,K15) -> 0 | R15: =SUM(F15,L15) -> 0 | S15: =SUM(N15:R15) -> 0 | Y15: =SUM(T15:X15) -> 0 | AE15: =SUM(Z15:AD15) -> 0 | AK15: =SUM(AF15:AJ15) -> 0 | AL15: =SUM(T15,Z15,AF15) -> 0 | AM15: =SUM(U15,AA15,AG15) -> 0 | AN15: =SUM(V15,AB15,AH15) -> 0 | AO15: =SUM(W15,AC15,AI15) -> 0 | AP15: =SUM(X15,AD15,AJ15) -> 0 | AQ15: =SUM(AL15:AP15) -> 0 | AW15: =SUM(AR15:AV15) -> 0 | BD15: =SUM(AX15:BC15) -> 0 | BJ15: =SUM(BE15:BI15) -> 0 | BK15: =SUM(AR15,AX15,BE15) -> 0 | BL15: =SUM(AS15,AY15,BF15) -> 0 | BM15: =SUM(AT15,AZ15,BG15) -> 0 | BN15: =SUM(AU15,BA15,BH15) -> 0 | BO15: =SUM(AV15,BB15,BI15) -> 0 | BP15: =SUM(BC15) -> 0 | BQ15: =SUM(BK15:BP15) -> 0 | BW15: =SUM(BR15:BV15) -> 0 | CC15: =SUM(BX15:CB15) -> 0 | CJ15: =SUM(CD15:CI15) -> 0 | CK15: =SUM(BR15,BX15,CD15) -> 0 | CL15: =SUM(BS15,BY15,CE15) -> 0 | CM15: =SUM(BT15,BZ15,CF15) -> 0 | CN15: =SUM(BU15,CA15,CG15) -> 0 | CO15: =SUM(BV15,CB15,CH15) -> 0 | CP15: =SUM(CI15) -> 0 | CQ15: =SUM(CK15:CP15) -> 0 | CX15: =SUM(CR15:CW15) -> 0 | DE15: =SUM(CY15:DD15) -> 0 | DL15: =SUM(DF15:DK15) -> 0 | DS15: =SUM(DM15:DR15) -> 0 | DT15: =SUM(CR15,CY15,DF15,DM15) -> 0 | DU15: =SUM(CS15,CZ15,DG15,DN15) -> 0 | DV15: =SUM(CT15,DA15,DH15,DO15) -> 0 | DW15: =SUM(CU15,DB15,DI15,DP15) -> 0 | DX15: =SUM(CV15,DC15,DJ15,DQ15) -> 0 | DY15: =SUM(CW15,DD15,DK15,DR15) -> 0 | DZ15: =SUM(DT15:DY15) -> 0 | EF15: =SUM(EA15:EE15) -> 0 | EL15: =SUM(EG15:EK15) -> 0 | ER15: =SUM(EM15:EQ15) -> 0 | EX15: =SUM(ES15:EW15) -> 0 | FD15: =SUM(EY15:FC15) -> 0 | FJ15: =SUM(FE15:FI15) -> 0 | FP15: =SUM(FK15:FO15) -> 0 | FQ15: =SUM(EA15,EG15,EM15,ES15,EY15,FE15,FK15) -> 0 | FR15: =SUM(EB15,EH15,EN15,ET15,EZ15,FF15,FL15) -> 0 | FS15: =SUM(EC15,EI15,EO15,EU15,FA15,FG15,FM15) -> 0 | FT15: =SUM(ED15,EJ15,EP15,EV15,FB15,FH15,FN15) -> 0 | FU15: =SUM(EE15,EK15,EQ15,EW15,FC15,FI15,FO15) -> 0 | FV15: =SUM(FQ15:FU15) -> 0 | GB15: =SUM(FW15:GA15) -> 0 | GH15: =SUM(GC15:GG15) -> 0 | GN15: =SUM(GI15:GM15) -> 0 | GT15: =SUM(GO15:GS15) -> 0 | GZ15: =SUM(GU15:GY15) -> 0 | HF15: =SUM(HA15:HE15) -> 0 | HL15: =SUM(HG15:HK15) -> 0 | HM15: =SUM(FW15,GC15,GI15,GO15,GU15,HA15,HG15) -> 0 | HN15: =SUM(FX15,GD15,GJ15,GP15,GV15,HB15,HH15) -> 0 | HO15: =SUM(FY15,GE15,GK15,GQ15,GW15,HC15,HI15) -> 0 | HP15: =SUM(FZ15,GF15,GL15,GR15,GX15,HD15,HJ15) -> 0 | HQ15: =SUM(GA15,GG15,GM15,GS15,GY15,HE15,HK15) -> 0 | HR15: =SUM(HM15:HQ15) -> 0 | HX15: =SUM(HS15:HW15) -> 0 | ID15: =SUM(HY15:IC15) -> 0 | IJ15: =SUM(IE15:II15) -> 0 | IK15: =SUM(HS15,HY15,IE15) -> 0 | IL15: =SUM(HT15,HZ15,IF15) -> 0 | IM15: =SUM(HU15,IA15,IG15) -> 0 | IN15: =SUM(HV15,IB15,IH15) -> 0 | IO15: =SUM(HW15,IC15,II15) -> 0 | IP15: =SUM(IK15:IO15) -> 0 | IV15: =SUM(IQ15:IU15) -> 0 | JB15: =SUM(IW15:JA15) -> 0 | JH15: =SUM(JC15:JG15) -> 0 | JI15: =SUM(IQ15,IW15,JC15) -> 0 | JJ15: =SUM(IR15,IX15,JD15) -> 0 | JK15: =SUM(IS15,IY15,JE15) -> 0 | JL15: =SUM(IT15,IZ15,JF15) -> 0 | JM15: =SUM(IU15,JA15,JG15) -> 0 | JN15: =SUM(JI15:JM15) -> 0 | JP15: =SUM(N15,AL15,BK15,CK15,DT15,FQ15,HM15,IK15,JI15) -> 0 | JQ15: =SUM(O15,AM15,BL15,CL15,DU15,FR15,HN15,IL15,JJ15) -> 0 | JR15: =SUM(P15,AN15,BM15,CM15,DV15,FS15,HO15,IM15,JK15) -> 0 | JS15: =SUM(Q15,AO15,BN15,CN15,DW15,FT15,HP15,IN15,JL15) -> 0 | JT15: =SUM(R15,AP15,BO15,CO15,DX15,FU15,HQ15,IO15,JM15) -> 0 | JU15: =SUM(BP15,CP15,DY15) -> 0 | JV15: =SUM(JP15:JU15) -> 0
A16: IB?=Young pine mortality unknown | G16: =SUM(B16:F16) -> 0 | M16: =SUM(H16:L16) -> 0 | N16: =SUM(B16,H16) -> 0 | O16: =SUM(C16,I16) -> 0 | P16: =SUM(D16,J16) -> 0 | Q16: =SUM(E16,K16) -> 0 | R16: =SUM(F16,L16) -> 0 | S16: =SUM(N16:R16) -> 0 | Y16: =SUM(T16:X16) -> 0 | AE16: =SUM(Z16:AD16) -> 0 | AK16: =SUM(AF16:AJ16) -> 0 | AL16: =SUM(T16,Z16,AF16) -> 0 | AM16: =SUM(U16,AA16,AG16) -> 0 | AN16: =SUM(V16,AB16,AH16) -> 0 | AO16: =SUM(W16,AC16,AI16) -> 0 | AP16: =SUM(X16,AD16,AJ16) -> 0 | AQ16: =SUM(AL16:AP16) -> 0 | AW16: =SUM(AR16:AV16) -> 0 | BD16: =SUM(AX16:BC16) -> 0 | BJ16: =SUM(BE16:BI16) -> 0 | BK16: =SUM(AR16,AX16,BE16) -> 0 | BL16: =SUM(AS16,AY16,BF16) -> 0 | BM16: =SUM(AT16,AZ16,BG16) -> 0 | BN16: =SUM(AU16,BA16,BH16) -> 0 | BO16: =SUM(AV16,BB16,BI16) -> 0 | BP16: =SUM(BC16) -> 0 | BQ16: =SUM(BK16:BP16) -> 0 | BW16: =SUM(BR16:BV16) -> 0 | BX16: 20.871177 | CC16: =SUM(BX16:CB16) -> 20.871177 | CJ16: =SUM(CD16:CI16) -> 0 | CK16: =SUM(BR16,BX16,CD16) -> 20.871177 | CL16: =SUM(BS16,BY16,CE16) -> 0 | CM16: =SUM(BT16,BZ16,CF16) -> 0 | CN16: =SUM(BU16,CA16,CG16) -> 0 | CO16: =SUM(BV16,CB16,CH16) -> 0 | CP16: =SUM(CI16) -> 0 | CQ16: =SUM(CK16:CP16) -> 20.871177 | CX16: =SUM(CR16:CW16) -> 0 | DE16: =SUM(CY16:DD16) -> 0 | DL16: =SUM(DF16:DK16) -> 0 | DS16: =SUM(DM16:DR16) -> 0 | DT16: =SUM(CR16,CY16,DF16,DM16) -> 0 | DU16: =SUM(CS16,CZ16,DG16,DN16) -> 0 | DV16: =SUM(CT16,DA16,DH16,DO16) -> 0 | DW16: =SUM(CU16,DB16,DI16,DP16) -> 0 | DX16: =SUM(CV16,DC16,DJ16,DQ16) -> 0 | DY16: =SUM(CW16,DD16,DK16,DR16) -> 0 | DZ16: =SUM(DT16:DY16) -> 0 | EF16: =SUM(EA16:EE16) -> 0 | EL16: =SUM(EG16:EK16) -> 0 | ER16: =SUM(EM16:EQ16) -> 0 | EX16: =SUM(ES16:EW16) -> 0 | FD16: =SUM(EY16:FC16) -> 0 | FJ16: =SUM(FE16:FI16) -> 0 | FP16: =SUM(FK16:FO16) -> 0 | FQ16: =SUM(EA16,EG16,EM16,ES16,EY16,FE16,FK16) -> 0 | FR16: =SUM(EB16,EH16,EN16,ET16,EZ16,FF16,FL16) -> 0 | FS16: =SUM(EC16,EI16,EO16,EU16,FA16,FG16,FM16) -> 0 | FT16: =SUM(ED16,EJ16,EP16,EV16,FB16,FH16,FN16) -> 0 | FU16: =SUM(EE16,EK16,EQ16,EW16,FC16,FI16,FO16) -> 0 | FV16: =SUM(FQ16:FU16) -> 0 | GB16: =SUM(FW16:GA16) -> 0 | GH16: =SUM(GC16:GG16) -> 0 | GN16: =SUM(GI16:GM16) -> 0 | GT16: =SUM(GO16:GS16) -> 0 | GZ16: =SUM(GU16:GY16) -> 0 | HF16: =SUM(HA16:HE16) -> 0 | HL16: =SUM(HG16:HK16) -> 0 | HM16: =SUM(FW16,GC16,GI16,GO16,GU16,HA16,HG16) -> 0 | HN16: =SUM(FX16,GD16,GJ16,GP16,GV16,HB16,HH16) -> 0 | HO16: =SUM(FY16,GE16,GK16,GQ16,GW16,HC16,HI16) -> 0 | HP16: =SUM(FZ16,GF16,GL16,GR16,GX16,HD16,HJ16) -> 0 | HQ16: =SUM(GA16,GG16,GM16,GS16,GY16,HE16,HK16) -> 0 | HR16: =SUM(HM16:HQ16) -> 0 | HX16: =SUM(HS16:HW16) -> 0 | ID16: =SUM(HY16:IC16) -> 0 | IH16: 0.5 | IJ16: =SUM(IE16:II16) -> 0.5 | IK16: =SUM(HS16,HY16,IE16) -> 0 | IL16: =SUM(HT16,HZ16,IF16) -> 0 | IM16: =SUM(HU16,IA16,IG16) -> 0 | IN16: =SUM(HV16,IB16,IH16) -> 0.5 | IO16: =SUM(HW16,IC16,II16) -> 0 | IP16: =SUM(IK16:IO16) -> 0.5 | IV16: =SUM(IQ16:IU16) -> 0 | JB16: =SUM(IW16:JA16) -> 0 | JH16: =SUM(JC16:JG16) -> 0 | JI16: =SUM(IQ16,IW16,JC16) -> 0 | JJ16: =SUM(IR16,IX16,JD16) -> 0 | JK16: =SUM(IS16,IY16,JE16) -> 0 | JL16: =SUM(IT16,IZ16,JF16) -> 0 | JM16: =SUM(IU16,JA16,JG16) -> 0 | JN16: =SUM(JI16:JM16) -> 0 | JP16: =SUM(N16,AL16,BK16,CK16,DT16,FQ16,HM16,IK16,JI16) -> 20.871177 | JQ16: =SUM(O16,AM16,BL16,CL16,DU16,FR16,HN16,IL16,JJ16) -> 0 | JR16: =SUM(P16,AN16,BM16,CM16,DV16,FS16,HO16,IM16,JK16) -> 0 | JS16: =SUM(Q16,AO16,BN16,CN16,DW16,FT16,HP16,IN16,JL16) -> 0.5 | JT16: =SUM(R16,AP16,BO16,CO16,DX16,FU16,HQ16,IO16,JM16) -> 0 | JU16: =SUM(BP16,CP16,DY16) -> 0 | JV16: =SUM(JP16:JU16) -> 21.371177
A17: IWW=Warrens Root Collar Weevil | G17: =SUM(B17:F17) -> 0 | M17: =SUM(H17:L17) -> 0 | N17: =SUM(B17,H17) -> 0 | O17: =SUM(C17,I17) -> 0 | P17: =SUM(D17,J17) -> 0 | Q17: =SUM(E17,K17) -> 0 | R17: =SUM(F17,L17) -> 0 | S17: =SUM(N17:R17) -> 0 | Y17: =SUM(T17:X17) -> 0 | AE17: =SUM(Z17:AD17) -> 0 | AK17: =SUM(AF17:AJ17) -> 0 | AL17: =SUM(T17,Z17,AF17) -> 0 | AM17: =SUM(U17,AA17,AG17) -> 0 | AN17: =SUM(V17,AB17,AH17) -> 0 | AO17: =SUM(W17,AC17,AI17) -> 0 | AP17: =SUM(X17,AD17,AJ17) -> 0 | AQ17: =SUM(AL17:AP17) -> 0 | AW17: =SUM(AR17:AV17) -> 0 | BD17: =SUM(AX17:BC17) -> 0 | BJ17: =SUM(BE17:BI17) -> 0 | BK17: =SUM(AR17,AX17,BE17) -> 0 | BL17: =SUM(AS17,AY17,BF17) -> 0 | BM17: =SUM(AT17,AZ17,BG17) -> 0 | BN17: =SUM(AU17,BA17,BH17) -> 0 | BO17: =SUM(AV17,BB17,BI17) -> 0 | BP17: =SUM(BC17) -> 0 | BQ17: =SUM(BK17:BP17) -> 0 | BW17: =SUM(BR17:BV17) -> 0 | CC17: =SUM(BX17:CB17) -> 0 | CJ17: =SUM(CD17:CI17) -> 0 | CK17: =SUM(BR17,BX17,CD17) -> 0 | CL17: =SUM(BS17,BY17,CE17) -> 0 | CM17: =SUM(BT17,BZ17,CF17) -> 0 | CN17: =SUM(BU17,CA17,CG17) -> 0 | CO17: =SUM(BV17,CB17,CH17) -> 0 | CP17: =SUM(CI17) -> 0 | CQ17: =SUM(CK17:CP17) -> 0 | CX17: =SUM(CR17:CW17) -> 0 | DE17: =SUM(CY17:DD17) -> 0 | DL17: =SUM(DF17:DK17) -> 0 | DS17: =SUM(DM17:DR17) -> 0 | DT17: =SUM(CR17,CY17,DF17,DM17) -> 0 | DU17: =SUM(CS17,CZ17,DG17,DN17) -> 0 | DV17: =SUM(CT17,DA17,DH17,DO17) -> 0 | DW17: =SUM(CU17,DB17,DI17,DP17) -> 0 | DX17: =SUM(CV17,DC17,DJ17,DQ17) -> 0 | DY17: =SUM(CW17,DD17,DK17,DR17) -> 0 | DZ17: =SUM(DT17:DY17) -> 0 | EF17: =SUM(EA17:EE17) -> 0 | EL17: =SUM(EG17:EK17) -> 0 | ER17: =SUM(EM17:EQ17) -> 0 | EX17: =SUM(ES17:EW17) -> 0 | FD17: =SUM(EY17:FC17) -> 0 | FJ17: =SUM(FE17:FI17) -> 0 | FP17: =SUM(FK17:FO17) -> 0 | FQ17: =SUM(EA17,EG17,EM17,ES17,EY17,FE17,FK17) -> 0 | FR17: =SUM(EB17,EH17,EN17,ET17,EZ17,FF17,FL17) -> 0 | FS17: =SUM(EC17,EI17,EO17,EU17,FA17,FG17,FM17) -> 0 | FT17: =SUM(ED17,EJ17,EP17,EV17,FB17,FH17,FN17) -> 0 | FU17: =SUM(EE17,EK17,EQ17,EW17,FC17,FI17,FO17) -> 0 | FV17: =SUM(FQ17:FU17) -> 0 | GB17: =SUM(FW17:GA17) -> 0 | GH17: =SUM(GC17:GG17) -> 0 | GN17: =SUM(GI17:GM17) -> 0 | GT17: =SUM(GO17:GS17) -> 0 | GZ17: =SUM(GU17:GY17) -> 0 | HF17: =SUM(HA17:HE17) -> 0 | HL17: =SUM(HG17:HK17) -> 0 | HM17: =SUM(FW17,GC17,GI17,GO17,GU17,HA17,HG17) -> 0 | HN17: =SUM(FX17,GD17,GJ17,GP17,GV17,HB17,HH17) -> 0 | HO17: =SUM(FY17,GE17,GK17,GQ17,GW17,HC17,HI17) -> 0 | HP17: =SUM(FZ17,GF17,GL17,GR17,GX17,HD17,HJ17) -> 0 | HQ17: =SUM(GA17,GG17,GM17,GS17,GY17,HE17,HK17) -> 0 | HR17: =SUM(HM17:HQ17) -> 0 | HX17: =SUM(HS17:HW17) -> 0 | ID17: =SUM(HY17:IC17) -> 0 | IJ17: =SUM(IE17:II17) -> 0 | IK17: =SUM(HS17,HY17,IE17) -> 0 | IL17: =SUM(HT17,HZ17,IF17) -> 0 | IM17: =SUM(HU17,IA17,IG17) -> 0 | IN17: =SUM(HV17,IB17,IH17) -> 0 | IO17: =SUM(HW17,IC17,II17) -> 0 | IP17: =SUM(IK17:IO17) -> 0 | IV17: =SUM(IQ17:IU17) -> 0 | JB17: =SUM(IW17:JA17) -> 0 | JH17: =SUM(JC17:JG17) -> 0 | JI17: =SUM(IQ17,IW17,JC17) -> 0 | JJ17: =SUM(IR17,IX17,JD17) -> 0 | JK17: =SUM(IS17,IY17,JE17) -> 0 | JL17: =SUM(IT17,IZ17,JF17) -> 0 | JM17: =SUM(IU17,JA17,JG17) -> 0 | JN17: =SUM(JI17:JM17) -> 0 | JP17: =SUM(N17,AL17,BK17,CK17,DT17,FQ17,HM17,IK17,JI17) -> 0 | JQ17: =SUM(O17,AM17,BL17,CL17,DU17,FR17,HN17,IL17,JJ17) -> 0 | JR17: =SUM(P17,AN17,BM17,CM17,DV17,FS17,HO17,IM17,JK17) -> 0 | JS17: =SUM(Q17,AO17,BN17,CN17,DW17,FT17,HP17,IN17,JL17) -> 0 | JT17: =SUM(R17,AP17,BO17,CO17,DX17,FU17,HQ17,IO17,JM17) -> 0 | JU17: =SUM(BP17,CP17,DY17) -> 0 | JV17: =SUM(JP17:JU17) -> 0
A18: Total All BB= | B18: =SUM(B6:B17) -> 72303.79 | C18: =SUM(C6:C17) -> 16142.89 | D18: =SUM(D6:D17) -> 536.3192 | E18: =SUM(E6:E17) -> 96.548596 | F18: =SUM(F6:F17) -> 0 | G18: =SUM(G6:G17) -> 89079.547 | H18: =SUM(H6:H17) -> 3782.9667 | I18: =SUM(I6:I17) -> 98.238595 | ... JN18: =SUM(JN6:JN17) -> 314569.73 | JP18: =SUM(JP6:JP17) -> 3573386.5 | JQ18: =SUM(JQ6:JQ17) -> 514854.09 | JR18: =SUM(JR6:JR17) -> 99255.424 | JS18: =SUM(JS6:JS17) -> 18439.294 | JT18: =SUM(JT6:JT17) -> 974.87254 | JU18: =SUM(JU6:JU17) -> 0 | JV18: =SUM(JV6:JV17) -> 4206910.1
A20: Defoliators
A21: ID=Defoliators | G21: =SUM(B21:F21) -> 0 | M21: =SUM(H21:L21) -> 0 | N21: =SUM(B21,H21) -> 0 | O21: =SUM(C21,I21) -> 0 | P21: =SUM(D21,J21) -> 0 | Q21: =SUM(E21,K21) -> 0 | R21: =SUM(F21,L21) -> 0 | S21: =SUM(N21:R21) -> 0 | Y21: =SUM(T21:X21) -> 0 | AE21: =SUM(Z21:AD21) -> 0 | AK21: =SUM(AF21:AJ21) -> 0 | AL21: =SUM(T21,Z21,AF21) -> 0 | AM21: =SUM(U21,AA21,AG21) -> 0 | AN21: =SUM(V21,AB21,AH21) -> 0 | AO21: =SUM(W21,AC21,AI21) -> 0 | AP21: =SUM(X21,AD21,AJ21) -> 0 | AQ21: =SUM(AL21:AP21) -> 0 | AW21: =SUM(AR21:AV21) -> 0 | BD21: =SUM(AX21:BC21) -> 0 | BJ21: =SUM(BE21:BI21) -> 0 | BK21: =SUM(AR21,AX21,BE21) -> 0 | BL21: =SUM(AS21,AY21,BF21) -> 0 | BM21: =SUM(AT21,AZ21,BG21) -> 0 | BN21: =SUM(AU21,BA21,BH21) -> 0 | BO21: =SUM(AV21,BB21,BI21) -> 0 | BP21: =SUM(BC21) -> 0 | BQ21: =SUM(BK21:BP21) -> 0 | BW21: =SUM(BR21:BV21) -> 0 | CC21: =SUM(BX21:CB21) -> 0 | CE21: 86.606517 | CJ21: =SUM(CD21:CI21) -> 86.606517 | CK21: =SUM(BR21,BX21,CD21) -> 0 | CL21: =SUM(BS21,BY21,CE21) -> 86.606517 | CM21: =SUM(BT21,BZ21,CF21) -> 0 | CN21: =SUM(BU21,CA21,CG21) -> 0 | CO21: =SUM(BV21,CB21,CH21) -> 0 | CP21: =SUM(CI21) -> 0 | CQ21: =SUM(CK21:CP21) -> 86.606517 | CX21: =SUM(CR21:CW21) -> 0 | DE21: =SUM(CY21:DD21) -> 0 | DL21: =SUM(DF21:DK21) -> 0 | DS21: =SUM(DM21:DR21) -> 0 | DT21: =SUM(CR21,CY21,DF21,DM21) -> 0 | DU21: =SUM(CS21,CZ21,DG21,DN21) -> 0 | DV21: =SUM(CT21,DA21,DH21,DO21) -> 0 | DW21: =SUM(CU21,DB21,DI21,DP21) -> 0 | DX21: =SUM(CV21,DC21,DJ21,DQ21) -> 0 | DY21: =SUM(CW21,DD21,DK21,DR21) -> 0 | DZ21: =SUM(DT21:DY21) -> 0 | EF21: =SUM(EA21:EE21) -> 0 | EL21: =SUM(EG21:EK21) -> 0 | ER21: =SUM(EM21:EQ21) -> 0 | EX21: =SUM(ES21:EW21) -> 0 | FD21: =SUM(EY21:FC21) -> 0 | FJ21: =SUM(FE21:FI21) -> 0 | FM21: 16.889052 | FP21: =SUM(FK21:FO21) -> 16.889052 | FQ21: =SUM(EA21,EG21,EM21,ES21,EY21,FE21,FK21) -> 0 | FR21: =SUM(EB21,EH21,EN21,ET21,EZ21,FF21,FL21) -> 0 | FS21: =SUM(EC21,EI21,EO21,EU21,FA21,FG21,FM21) -> 16.889052 | FT21: =SUM(ED21,EJ21,EP21,EV21,FB21,FH21,FN21) -> 0 | FU21: =SUM(EE21,EK21,EQ21,EW21,FC21,FI21,FO21) -> 0 | FV21: =SUM(FQ21:FU21) -> 16.889052 | GB21: =SUM(FW21:GA21) -> 0 | GH21: =SUM(GC21:GG21) -> 0 | GN21: =SUM(GI21:GM21) -> 0 | GT21: =SUM(GO21:GS21) -> 0 | GZ21: =SUM(GU21:GY21) -> 0 | HF21: =SUM(HA21:HE21) -> 0 | HL21: =SUM(HG21:HK21) -> 0 | HM21: =SUM(FW21,GC21,GI21,GO21,GU21,HA21,HG21) -> 0 | HN21: =SUM(FX21,GD21,GJ21,GP21,GV21,HB21,HH21) -> 0 | HO21: =SUM(FY21,GE21,GK21,GQ21,GW21,HC21,HI21) -> 0 | HP21: =SUM(FZ21,GF21,GL21,GR21,GX21,HD21,HJ21) -> 0 | HQ21: =SUM(GA21,GG21,GM21,GS21,GY21,HE21,HK21) -> 0 | HR21: =SUM(HM21:HQ21) -> 0 | HX21: =SUM(HS21:HW21) -> 0 | IB21: 68.891698 | ID21: =SUM(HY21:IC21) -> 68.891698 | IJ21: =SUM(IE21:II21) -> 0 | IK21: =SUM(HS21,HY21,IE21) -> 0 | IL21: =SUM(HT21,HZ21,IF21) -> 0 | IM21: =SUM(HU21,IA21,IG21) -> 0 | IN21: =SUM(HV21,IB21,IH21) -> 68.891698 | IO21: =SUM(HW21,IC21,II21) -> 0 | IP21: =SUM(IK21:IO21) -> 68.891698 | IV21: =SUM(IQ21:IU21) -> 0 | JB21: =SUM(IW21:JA21) -> 0 | JE21: 35.444523 | JH21: =SUM(JC21:JG21) -> 35.444523 | JI21: =SUM(IQ21,IW21,JC21) -> 0 | JJ21: =SUM(IR21,IX21,JD21) -> 0 | JK21: =SUM(IS21,IY21,JE21) -> 35.444523 | JL21: =SUM(IT21,IZ21,JF21) -> 0 | JM21: =SUM(IU21,JA21,JG21) -> 0 | JN21: =SUM(JI21:JM21) -> 35.444523 | JP21: =SUM(N21,AL21,BK21,CK21,DT21,FQ21,HM21,IK21,JI21) -> 0 | JQ21: =SUM(O21,AM21,BL21,CL21,DU21,FR21,HN21,IL21,JJ21) -> 86.606517 | JR21: =SUM(P21,AN21,BM21,CM21,DV21,FS21,HO21,IM21,JK21) -> 52.333575 | JS21: =SUM(Q21,AO21,BN21,CN21,DW21,FT21,HP21,IN21,JL21) -> 68.891698 | JT21: =SUM(R21,AP21,BO21,CO21,DX21,FU21,HQ21,IO21,JM21) -> 0 | JU21: =SUM(BP21,CP21,DY21) -> 0 | JV21: =SUM(JP21:JU21) -> 207.83179
A22: IAB=Balsam Woolly Adelgid | G22: =SUM(B22:F22) -> 0 | M22: =SUM(H22:L22) -> 0 | N22: =SUM(B22,H22) -> 0 | O22: =SUM(C22,I22) -> 0 | P22: =SUM(D22,J22) -> 0 | Q22: =SUM(E22,K22) -> 0 | R22: =SUM(F22,L22) -> 0 | S22: =SUM(N22:R22) -> 0 | Y22: =SUM(T22:X22) -> 0 | AE22: =SUM(Z22:AD22) -> 0 | AK22: =SUM(AF22:AJ22) -> 0 | AL22: =SUM(T22,Z22,AF22) -> 0 | AM22: =SUM(U22,AA22,AG22) -> 0 | AN22: =SUM(V22,AB22,AH22) -> 0 | AO22: =SUM(W22,AC22,AI22) -> 0 | AP22: =SUM(X22,AD22,AJ22) -> 0 | AQ22: =SUM(AL22:AP22) -> 0 | AW22: =SUM(AR22:AV22) -> 0 | BD22: =SUM(AX22:BC22) -> 0 | BF22: 34.615 | BH22: 0.25 | BJ22: =SUM(BE22:BI22) -> 34.865 | BK22: =SUM(AR22,AX22,BE22) -> 0 | BL22: =SUM(AS22,AY22,BF22) -> 34.615 | BM22: =SUM(AT22,AZ22,BG22) -> 0 | BN22: =SUM(AU22,BA22,BH22) -> 0.25 | BO22: =SUM(AV22,BB22,BI22) -> 0 | BP22: =SUM(BC22) -> 0 | BQ22: =SUM(BK22:BP22) -> 34.865 | BW22: =SUM(BR22:BV22) -> 0 | CC22: =SUM(BX22:CB22) -> 0 | CJ22: =SUM(CD22:CI22) -> 0 | CK22: =SUM(BR22,BX22,CD22) -> 0 | CL22: =SUM(BS22,BY22,CE22) -> 0 | CM22: =SUM(BT22,BZ22,CF22) -> 0 | CN22: =SUM(BU22,CA22,CG22) -> 0 | CO22: =SUM(BV22,CB22,CH22) -> 0 | CP22: =SUM(CI22) -> 0 | CQ22: =SUM(CK22:CP22) -> 0 | CX22: =SUM(CR22:CW22) -> 0 | DE22: =SUM(CY22:DD22) -> 0 | DL22: =SUM(DF22:DK22) -> 0 | DS22: =SUM(DM22:DR22) -> 0 | DT22: =SUM(CR22,CY22,DF22,DM22) -> 0 | DU22: =SUM(CS22,CZ22,DG22,DN22) -> 0 | DV22: =SUM(CT22,DA22,DH22,DO22) -> 0 | DW22: =SUM(CU22,DB22,DI22,DP22) -> 0 | DX22: =SUM(CV22,DC22,DJ22,DQ22) -> 0 | DY22: =SUM(CW22,DD22,DK22,DR22) -> 0 | DZ22: =SUM(DT22:DY22) -> 0 | EF22: =SUM(EA22:EE22) -> 0 | EL22: =SUM(EG22:EK22) -> 0 | ER22: =SUM(EM22:EQ22) -> 0 | EX22: =SUM(ES22:EW22) -> 0 | FD22: =SUM(EY22:FC22) -> 0 | FJ22: =SUM(FE22:FI22) -> 0 | FP22: =SUM(FK22:FO22) -> 0 | FQ22: =SUM(EA22,EG22,EM22,ES22,EY22,FE22,FK22) -> 0 | FR22: =SUM(EB22,EH22,EN22,ET22,EZ22,FF22,FL22) -> 0 | FS22: =SUM(EC22,EI22,EO22,EU22,FA22,FG22,FM22) -> 0 | FT22: =SUM(ED22,EJ22,EP22,EV22,FB22,FH22,FN22) -> 0 | FU22: =SUM(EE22,EK22,EQ22,EW22,FC22,FI22,FO22) -> 0 | FV22: =SUM(FQ22:FU22) -> 0 | GB22: =SUM(FW22:GA22) -> 0 | GH22: =SUM(GC22:GG22) -> 0 | GN22: =SUM(GI22:GM22) -> 0 | GT22: =SUM(GO22:GS22) -> 0 | GZ22: =SUM(GU22:GY22) -> 0 | HF22: =SUM(HA22:HE22) -> 0 | HL22: =SUM(HG22:HK22) -> 0 | HM22: =SUM(FW22,GC22,GI22,GO22,GU22,HA22,HG22) -> 0 | HN22: =SUM(FX22,GD22,GJ22,GP22,GV22,HB22,HH22) -> 0 | HO22: =SUM(FY22,GE22,GK22,GQ22,GW22,HC22,HI22) -> 0 | HP22: =SUM(FZ22,GF22,GL22,GR22,GX22,HD22,HJ22) -> 0 | HQ22: =SUM(GA22,GG22,GM22,GS22,GY22,HE22,HK22) -> 0 | HR22: =SUM(HM22:HQ22) -> 0 | HX22: =SUM(HS22:HW22) -> 0 | ID22: =SUM(HY22:IC22) -> 0 | IJ22: =SUM(IE22:II22) -> 0 | IK22: =SUM(HS22,HY22,IE22) -> 0 | IL22: =SUM(HT22,HZ22,IF22) -> 0 | IM22: =SUM(HU22,IA22,IG22) -> 0 | IN22: =SUM(HV22,IB22,IH22) -> 0 | IO22: =SUM(HW22,IC22,II22) -> 0 | IP22: =SUM(IK22:IO22) -> 0 | IV22: =SUM(IQ22:IU22) -> 0 | JB22: =SUM(IW22:JA22) -> 0 | JH22: =SUM(JC22:JG22) -> 0 | JI22: =SUM(IQ22,IW22,JC22) -> 0 | JJ22: =SUM(IR22,IX22,JD22) -> 0 | JK22: =SUM(IS22,IY22,JE22) -> 0 | JL22: =SUM(IT22,IZ22,JF22) -> 0 | JM22: =SUM(IU22,JA22,JG22) -> 0 | JN22: =SUM(JI22:JM22) -> 0 | JP22: =SUM(N22,AL22,BK22,CK22,DT22,FQ22,HM22,IK22,JI22) -> 0 | JQ22: =SUM(O22,AM22,BL22,CL22,DU22,FR22,HN22,IL22,JJ22) -> 34.615 | JR22: =SUM(P22,AN22,BM22,CM22,DV22,FS22,HO22,IM22,JK22) -> 0 | JS22: =SUM(Q22,AO22,BN22,CN22,DW22,FT22,HP22,IN22,JL22) -> 0.25 | JT22: =SUM(R22,AP22,BO22,CO22,DX22,FU22,HQ22,IO22,JM22) -> 0 | JU22: =SUM(BP22,CP22,DY22) -> 0 | JV22: =SUM(JP22:JU22) -> 34.865
A23: IAS=Green Spruce Aphid | G23: =SUM(B23:F23) -> 0 | M23: =SUM(H23:L23) -> 0 | N23: =SUM(B23,H23) -> 0 | O23: =SUM(C23,I23) -> 0 | P23: =SUM(D23,J23) -> 0 | Q23: =SUM(E23,K23) -> 0 | R23: =SUM(F23,L23) -> 0 | S23: =SUM(N23:R23) -> 0 | Y23: =SUM(T23:X23) -> 0 | AE23: =SUM(Z23:AD23) -> 0 | AK23: =SUM(AF23:AJ23) -> 0 | AL23: =SUM(T23,Z23,AF23) -> 0 | AM23: =SUM(U23,AA23,AG23) -> 0 | AN23: =SUM(V23,AB23,AH23) -> 0 | AO23: =SUM(W23,AC23,AI23) -> 0 | AP23: =SUM(X23,AD23,AJ23) -> 0 | AQ23: =SUM(AL23:AP23) -> 0 | AW23: =SUM(AR23:AV23) -> 0 | BD23: =SUM(AX23:BC23) -> 0 | BJ23: =SUM(BE23:BI23) -> 0 | BK23: =SUM(AR23,AX23,BE23) -> 0 | BL23: =SUM(AS23,AY23,BF23) -> 0 | BM23: =SUM(AT23,AZ23,BG23) -> 0 | BN23: =SUM(AU23,BA23,BH23) -> 0 | BO23: =SUM(AV23,BB23,BI23) -> 0 | BP23: =SUM(BC23) -> 0 | BQ23: =SUM(BK23:BP23) -> 0 | BW23: =SUM(BR23:BV23) -> 0 | CC23: =SUM(BX23:CB23) -> 0 | CJ23: =SUM(CD23:CI23) -> 0 | CK23: =SUM(BR23,BX23,CD23) -> 0 | CL23: =SUM(BS23,BY23,CE23) -> 0 | CM23: =SUM(BT23,BZ23,CF23) -> 0 | CN23: =SUM(BU23,CA23,CG23) -> 0 | CO23: =SUM(BV23,CB23,CH23) -> 0 | CP23: =SUM(CI23) -> 0 | CQ23: =SUM(CK23:CP23) -> 0 | CX23: =SUM(CR23:CW23) -> 0 | DE23: =SUM(CY23:DD23) -> 0 | DL23: =SUM(DF23:DK23) -> 0 | DS23: =SUM(DM23:DR23) -> 0 | DT23: =SUM(CR23,CY23,DF23,DM23) -> 0 | DU23: =SUM(CS23,CZ23,DG23,DN23) -> 0 | DV23: =SUM(CT23,DA23,DH23,DO23) -> 0 | DW23: =SUM(CU23,DB23,DI23,DP23) -> 0 | DX23: =SUM(CV23,DC23,DJ23,DQ23) -> 0 | DY23: =SUM(CW23,DD23,DK23,DR23) -> 0 | DZ23: =SUM(DT23:DY23) -> 0 | EF23: =SUM(EA23:EE23) -> 0 | EL23: =SUM(EG23:EK23) -> 0 | ER23: =SUM(EM23:EQ23) -> 0 | EX23: =SUM(ES23:EW23) -> 0 | FD23: =SUM(EY23:FC23) -> 0 | FJ23: =SUM(FE23:FI23) -> 0 | FP23: =SUM(FK23:FO23) -> 0 | FQ23: =SUM(EA23,EG23,EM23,ES23,EY23,FE23,FK23) -> 0 | FR23: =SUM(EB23,EH23,EN23,ET23,EZ23,FF23,FL23) -> 0 | FS23: =SUM(EC23,EI23,EO23,EU23,FA23,FG23,FM23) -> 0 | FT23: =SUM(ED23,EJ23,EP23,EV23,FB23,FH23,FN23) -> 0 | FU23: =SUM(EE23,EK23,EQ23,EW23,FC23,FI23,FO23) -> 0 | FV23: =SUM(FQ23:FU23) -> 0 | GB23: =SUM(FW23:GA23) -> 0 | GH23: =SUM(GC23:GG23) -> 0 | GN23: =SUM(GI23:GM23) -> 0 | GT23: =SUM(GO23:GS23) -> 0 | GZ23: =SUM(GU23:GY23) -> 0 | HF23: =SUM(HA23:HE23) -> 0 | HL23: =SUM(HG23:HK23) -> 0 | HM23: =SUM(FW23,GC23,GI23,GO23,GU23,HA23,HG23) -> 0 | HN23: =SUM(FX23,GD23,GJ23,GP23,GV23,HB23,HH23) -> 0 | HO23: =SUM(FY23,GE23,GK23,GQ23,GW23,HC23,HI23) -> 0 | HP23: =SUM(FZ23,GF23,GL23,GR23,GX23,HD23,HJ23) -> 0 | HQ23: =SUM(GA23,GG23,GM23,GS23,GY23,HE23,HK23) -> 0 | HR23: =SUM(HM23:HQ23) -> 0 | HX23: =SUM(HS23:HW23) -> 0 | ID23: =SUM(HY23:IC23) -> 0 | IJ23: =SUM(IE23:II23) -> 0 | IK23: =SUM(HS23,HY23,IE23) -> 0 | IL23: =SUM(HT23,HZ23,IF23) -> 0 | IM23: =SUM(HU23,IA23,IG23) -> 0 | IN23: =SUM(HV23,IB23,IH23) -> 0 | IO23: =SUM(HW23,IC23,II23) -> 0 | IP23: =SUM(IK23:IO23) -> 0 | IV23: =SUM(IQ23:IU23) -> 0 | JB23: =SUM(IW23:JA23) -> 0 | JH23: =SUM(JC23:JG23) -> 0 | JI23: =SUM(IQ23,IW23,JC23) -> 0 | JJ23: =SUM(IR23,IX23,JD23) -> 0 | JK23: =SUM(IS23,IY23,JE23) -> 0 | JL23: =SUM(IT23,IZ23,JF23) -> 0 | JM23: =SUM(IU23,JA23,JG23) -> 0 | JN23: =SUM(JI23:JM23) -> 0 | JP23: =SUM(N23,AL23,BK23,CK23,DT23,FQ23,HM23,IK23,JI23) -> 0 | JQ23: =SUM(O23,AM23,BL23,CL23,DU23,FR23,HN23,IL23,JJ23) -> 0 | JR23: =SUM(P23,AN23,BM23,CM23,DV23,FS23,HO23,IM23,JK23) -> 0 | JS23: =SUM(Q23,AO23,BN23,CN23,DW23,FT23,HP23,IN23,JL23) -> 0 | JT23: =SUM(R23,AP23,BO23,CO23,DX23,FU23,HQ23,IO23,JM23) -> 0 | JU23: =SUM(BP23,CP23,DY23) -> 0 | JV23: =SUM(JP23:JU23) -> 0
A24: ID1=Leaf Beetles | G24: =SUM(B24:F24) -> 0 | M24: =SUM(H24:L24) -> 0 | N24: =SUM(B24,H24) -> 0 | O24: =SUM(C24,I24) -> 0 | P24: =SUM(D24,J24) -> 0 | Q24: =SUM(E24,K24) -> 0 | R24: =SUM(F24,L24) -> 0 | S24: =SUM(N24:R24) -> 0 | Y24: =SUM(T24:X24) -> 0 | AE24: =SUM(Z24:AD24) -> 0 | AK24: =SUM(AF24:AJ24) -> 0 | AL24: =SUM(T24,Z24,AF24) -> 0 | AM24: =SUM(U24,AA24,AG24) -> 0 | AN24: =SUM(V24,AB24,AH24) -> 0 | AO24: =SUM(W24,AC24,AI24) -> 0 | AP24: =SUM(X24,AD24,AJ24) -> 0 | AQ24: =SUM(AL24:AP24) -> 0 | AW24: =SUM(AR24:AV24) -> 0 | BD24: =SUM(AX24:BC24) -> 0 | BJ24: =SUM(BE24:BI24) -> 0 | BK24: =SUM(AR24,AX24,BE24) -> 0 | BL24: =SUM(AS24,AY24,BF24) -> 0 | BM24: =SUM(AT24,AZ24,BG24) -> 0 | BN24: =SUM(AU24,BA24,BH24) -> 0 | BO24: =SUM(AV24,BB24,BI24) -> 0 | BP24: =SUM(BC24) -> 0 | BQ24: =SUM(BK24:BP24) -> 0 | BW24: =SUM(BR24:BV24) -> 0 | CC24: =SUM(BX24:CB24) -> 0 | CJ24: =SUM(CD24:CI24) -> 0 | CK24: =SUM(BR24,BX24,CD24) -> 0 | CL24: =SUM(BS24,BY24,CE24) -> 0 | CM24: =SUM(BT24,BZ24,CF24) -> 0 | CN24: =SUM(BU24,CA24,CG24) -> 0 | CO24: =SUM(BV24,CB24,CH24) -> 0 | CP24: =SUM(CI24) -> 0 | CQ24: =SUM(CK24:CP24) -> 0 | CX24: =SUM(CR24:CW24) -> 0 | DE24: =SUM(CY24:DD24) -> 0 | DL24: =SUM(DF24:DK24) -> 0 | DS24: =SUM(DM24:DR24) -> 0 | DT24: =SUM(CR24,CY24,DF24,DM24) -> 0 | DU24: =SUM(CS24,CZ24,DG24,DN24) -> 0 | DV24: =SUM(CT24,DA24,DH24,DO24) -> 0 | DW24: =SUM(CU24,DB24,DI24,DP24) -> 0 | DX24: =SUM(CV24,DC24,DJ24,DQ24) -> 0 | DY24: =SUM(CW24,DD24,DK24,DR24) -> 0 | DZ24: =SUM(DT24:DY24) -> 0 | EF24: =SUM(EA24:EE24) -> 0 | EL24: =SUM(EG24:EK24) -> 0 | ER24: =SUM(EM24:EQ24) -> 0 | EX24: =SUM(ES24:EW24) -> 0 | FD24: =SUM(EY24:FC24) -> 0 | FJ24: =SUM(FE24:FI24) -> 0 | FP24: =SUM(FK24:FO24) -> 0 | FQ24: =SUM(EA24,EG24,EM24,ES24,EY24,FE24,FK24) -> 0 | FR24: =SUM(EB24,EH24,EN24,ET24,EZ24,FF24,FL24) -> 0 | FS24: =SUM(EC24,EI24,EO24,EU24,FA24,FG24,FM24) -> 0 | FT24: =SUM(ED24,EJ24,EP24,EV24,FB24,FH24,FN24) -> 0 | FU24: =SUM(EE24,EK24,EQ24,EW24,FC24,FI24,FO24) -> 0 | FV24: =SUM(FQ24:FU24) -> 0 | GB24: =SUM(FW24:GA24) -> 0 | GH24: =SUM(GC24:GG24) -> 0 | GN24: =SUM(GI24:GM24) -> 0 | GT24: =SUM(GO24:GS24) -> 0 | GZ24: =SUM(GU24:GY24) -> 0 | HF24: =SUM(HA24:HE24) -> 0 | HL24: =SUM(HG24:HK24) -> 0 | HM24: =SUM(FW24,GC24,GI24,GO24,GU24,HA24,HG24) -> 0 | HN24: =SUM(FX24,GD24,GJ24,GP24,GV24,HB24,HH24) -> 0 | HO24: =SUM(FY24,GE24,GK24,GQ24,GW24,HC24,HI24) -> 0 | HP24: =SUM(FZ24,GF24,GL24,GR24,GX24,HD24,HJ24) -> 0 | HQ24: =SUM(GA24,GG24,GM24,GS24,GY24,HE24,HK24) -> 0 | HR24: =SUM(HM24:HQ24) -> 0 | HX24: =SUM(HS24:HW24) -> 0 | ID24: =SUM(HY24:IC24) -> 0 | IJ24: =SUM(IE24:II24) -> 0 | IK24: =SUM(HS24,HY24,IE24) -> 0 | IL24: =SUM(HT24,HZ24,IF24) -> 0 | IM24: =SUM(HU24,IA24,IG24) -> 0 | IN24: =SUM(HV24,IB24,IH24) -> 0 | IO24: =SUM(HW24,IC24,II24) -> 0 | IP24: =SUM(IK24:IO24) -> 0 | IV24: =SUM(IQ24:IU24) -> 0 | JB24: =SUM(IW24:JA24) -> 0 | JH24: =SUM(JC24:JG24) -> 0 | JI24: =SUM(IQ24,IW24,JC24) -> 0 | JJ24: =SUM(IR24,IX24,JD24) -> 0 | JK24: =SUM(IS24,IY24,JE24) -> 0 | JL24: =SUM(IT24,IZ24,JF24) -> 0 | JM24: =SUM(IU24,JA24,JG24) -> 0 | JN24: =SUM(JI24:JM24) -> 0 | JP24: =SUM(N24,AL24,BK24,CK24,DT24,FQ24,HM24,IK24,JI24) -> 0 | JQ24: =SUM(O24,AM24,BL24,CL24,DU24,FR24,HN24,IL24,JJ24) -> 0 | JR24: =SUM(P24,AN24,BM24,CM24,DV24,FS24,HO24,IM24,JK24) -> 0 | JS24: =SUM(Q24,AO24,BN24,CN24,DW24,FT24,HP24,IN24,JL24) -> 0 | JT24: =SUM(R24,AP24,BO24,CO24,DX24,FU24,HQ24,IO24,JM24) -> 0 | JU24: =SUM(BP24,CP24,DY24) -> 0 | JV24: =SUM(JP24:JU24) -> 0
A25: ID2=Bruce spanworm | G25: =SUM(B25:F25) -> 0 | M25: =SUM(H25:L25) -> 0 | N25: =SUM(B25,H25) -> 0 | O25: =SUM(C25,I25) -> 0 | P25: =SUM(D25,J25) -> 0 | Q25: =SUM(E25,K25) -> 0 | R25: =SUM(F25,L25) -> 0 | S25: =SUM(N25:R25) -> 0 | Y25: =SUM(T25:X25) -> 0 | AE25: =SUM(Z25:AD25) -> 0 | AK25: =SUM(AF25:AJ25) -> 0 | AL25: =SUM(T25,Z25,AF25) -> 0 | AM25: =SUM(U25,AA25,AG25) -> 0 | AN25: =SUM(V25,AB25,AH25) -> 0 | AO25: =SUM(W25,AC25,AI25) -> 0 | AP25: =SUM(X25,AD25,AJ25) -> 0 | AQ25: =SUM(AL25:AP25) -> 0 | AW25: =SUM(AR25:AV25) -> 0 | BD25: =SUM(AX25:BC25) -> 0 | BJ25: =SUM(BE25:BI25) -> 0 | BK25: =SUM(AR25,AX25,BE25) -> 0 | BL25: =SUM(AS25,AY25,BF25) -> 0 | BM25: =SUM(AT25,AZ25,BG25) -> 0 | BN25: =SUM(AU25,BA25,BH25) -> 0 | BO25: =SUM(AV25,BB25,BI25) -> 0 | BP25: =SUM(BC25) -> 0 | BQ25: =SUM(BK25:BP25) -> 0 | BW25: =SUM(BR25:BV25) -> 0 | CC25: =SUM(BX25:CB25) -> 0 | CJ25: =SUM(CD25:CI25) -> 0 | CK25: =SUM(BR25,BX25,CD25) -> 0 | CL25: =SUM(BS25,BY25,CE25) -> 0 | CM25: =SUM(BT25,BZ25,CF25) -> 0 | CN25: =SUM(BU25,CA25,CG25) -> 0 | CO25: =SUM(BV25,CB25,CH25) -> 0 | CP25: =SUM(CI25) -> 0 | CQ25: =SUM(CK25:CP25) -> 0 | CX25: =SUM(CR25:CW25) -> 0 | DE25: =SUM(CY25:DD25) -> 0 | DL25: =SUM(DF25:DK25) -> 0 | DS25: =SUM(DM25:DR25) -> 0 | DT25: =SUM(CR25,CY25,DF25,DM25) -> 0 | DU25: =SUM(CS25,CZ25,DG25,DN25) -> 0 | DV25: =SUM(CT25,DA25,DH25,DO25) -> 0 | DW25: =SUM(CU25,DB25,DI25,DP25) -> 0 | DX25: =SUM(CV25,DC25,DJ25,DQ25) -> 0 | DY25: =SUM(CW25,DD25,DK25,DR25) -> 0 | DZ25: =SUM(DT25:DY25) -> 0 | EF25: =SUM(EA25:EE25) -> 0 | EL25: =SUM(EG25:EK25) -> 0 | ER25: =SUM(EM25:EQ25) -> 0 | EX25: =SUM(ES25:EW25) -> 0 | FD25: =SUM(EY25:FC25) -> 0 | FJ25: =SUM(FE25:FI25) -> 0 | FP25: =SUM(FK25:FO25) -> 0 | FQ25: =SUM(EA25,EG25,EM25,ES25,EY25,FE25,FK25) -> 0 | FR25: =SUM(EB25,EH25,EN25,ET25,EZ25,FF25,FL25) -> 0 | FS25: =SUM(EC25,EI25,EO25,EU25,FA25,FG25,FM25) -> 0 | FT25: =SUM(ED25,EJ25,EP25,EV25,FB25,FH25,FN25) -> 0 | FU25: =SUM(EE25,EK25,EQ25,EW25,FC25,FI25,FO25) -> 0 | FV25: =SUM(FQ25:FU25) -> 0 | GB25: =SUM(FW25:GA25) -> 0 | GH25: =SUM(GC25:GG25) -> 0 | GN25: =SUM(GI25:GM25) -> 0 | GT25: =SUM(GO25:GS25) -> 0 | GZ25: =SUM(GU25:GY25) -> 0 | HF25: =SUM(HA25:HE25) -> 0 | HL25: =SUM(HG25:HK25) -> 0 | HM25: =SUM(FW25,GC25,GI25,GO25,GU25,HA25,HG25) -> 0 | HN25: =SUM(FX25,GD25,GJ25,GP25,GV25,HB25,HH25) -> 0 | HO25: =SUM(FY25,GE25,GK25,GQ25,GW25,HC25,HI25) -> 0 | HP25: =SUM(FZ25,GF25,GL25,GR25,GX25,HD25,HJ25) -> 0 | HQ25: =SUM(GA25,GG25,GM25,GS25,GY25,HE25,HK25) -> 0 | HR25: =SUM(HM25:HQ25) -> 0 | HX25: =SUM(HS25:HW25) -> 0 | ID25: =SUM(HY25:IC25) -> 0 | IJ25: =SUM(IE25:II25) -> 0 | IK25: =SUM(HS25,HY25,IE25) -> 0 | IL25: =SUM(HT25,HZ25,IF25) -> 0 | IM25: =SUM(HU25,IA25,IG25) -> 0 | IN25: =SUM(HV25,IB25,IH25) -> 0 | IO25: =SUM(HW25,IC25,II25) -> 0 | IP25: =SUM(IK25:IO25) -> 0 | IR25: 273.7576 | IS25: 1762.7697 | IT25: 1070.572 | IV25: =SUM(IQ25:IU25) -> 3107.0993 | JB25: =SUM(IW25:JA25) -> 0 | JD25: 2076.7637 | JE25: 3292.5051 | JF25: 14.404541 | JH25: =SUM(JC25:JG25) -> 5383.6734 | JI25: =SUM(IQ25,IW25,JC25) -> 0 | JJ25: =SUM(IR25,IX25,JD25) -> 2350.5213 | JK25: =SUM(IS25,IY25,JE25) -> 5055.2748 | JL25: =SUM(IT25,IZ25,JF25) -> 1084.9765 | JM25: =SUM(IU25,JA25,JG25) -> 0 | JN25: =SUM(JI25:JM25) -> 8490.7726 | JP25: =SUM(N25,AL25,BK25,CK25,DT25,FQ25,HM25,IK25,JI25) -> 0 | JQ25: =SUM(O25,AM25,BL25,CL25,DU25,FR25,HN25,IL25,JJ25) -> 2350.5213 | JR25: =SUM(P25,AN25,BM25,CM25,DV25,FS25,HO25,IM25,JK25) -> 5055.2748 | JS25: =SUM(Q25,AO25,BN25,CN25,DW25,FT25,HP25,IN25,JL25) -> 1084.9765 | JT25: =SUM(R25,AP25,BO25,CO25,DX25,FU25,HQ25,IO25,JM25) -> 0 | JU25: =SUM(BP25,CP25,DY25) -> 0 | JV25: =SUM(JP25:JU25) -> 8490.7726
A26: ID6=Aspen Leaf Miner | C26: 6404.26 | D26: 415.39347 | E26: 284.46771 | G26: =SUM(B26:F26) -> 7104.1212 | M26: =SUM(H26:L26) -> 0 | N26: =SUM(B26,H26) -> 0 | O26: =SUM(C26,I26) -> 6404.26 | P26: =SUM(D26,J26) -> 415.39347 | Q26: =SUM(E26,K26) -> 284.46771 | R26: =SUM(F26,L26) -> 0 | S26: =SUM(N26:R26) -> 7104.1212 | Y26: =SUM(T26:X26) -> 0 | AE26: =SUM(Z26:AD26) -> 0 | AK26: =SUM(AF26:AJ26) -> 0 | AL26: =SUM(T26,Z26,AF26) -> 0 | AM26: =SUM(U26,AA26,AG26) -> 0 | AN26: =SUM(V26,AB26,AH26) -> 0 | AO26: =SUM(W26,AC26,AI26) -> 0 | AP26: =SUM(X26,AD26,AJ26) -> 0 | AQ26: =SUM(AL26:AP26) -> 0 | AW26: =SUM(AR26:AV26) -> 0 | BD26: =SUM(AX26:BC26) -> 0 | BJ26: =SUM(BE26:BI26) -> 0 | BK26: =SUM(AR26,AX26,BE26) -> 0 | BL26: =SUM(AS26,AY26,BF26) -> 0 | BM26: =SUM(AT26,AZ26,BG26) -> 0 | BN26: =SUM(AU26,BA26,BH26) -> 0 | BO26: =SUM(AV26,BB26,BI26) -> 0 | BP26: =SUM(BC26) -> 0 | BQ26: =SUM(BK26:BP26) -> 0 | BS26: 9784.4576 | BT26: 34867.713 | BU26: 19162.815 | BW26: =SUM(BR26:BV26) -> 63814.985 | BY26: 1838.08 | BZ26: 15564.605 | CA26: 33144.44 | CC26: =SUM(BX26:CB26) -> 50547.125 | CE26: 5262.5773 | CF26: 36900.231 | CG26: 19131.224 | CJ26: =SUM(CD26:CI26) -> 61294.032 | CK26: =SUM(BR26,BX26,CD26) -> 0 | CL26: =SUM(BS26,BY26,CE26) -> 16885.115 | CM26: =SUM(BT26,BZ26,CF26) -> 87332.548 | CN26: =SUM(BU26,CA26,CG26) -> 71438.479 | CO26: =SUM(BV26,CB26,CH26) -> 0 | CP26: =SUM(CI26) -> 0 | CQ26: =SUM(CK26:CP26) -> 175656.14 | CS26: 9624.4658 | CT26: 9957.5842 | CU26: 1079.6316 | CX26: =SUM(CR26:CW26) -> 20661.682 | DE26: =SUM(CY26:DD26) -> 0 | DH26: 255.11867 | DI26: 56.949163 | DL26: =SUM(DF26:DK26) -> 312.06784 | DN26: 155.56987 | DO26: 325.00109 | DP26: 179.89735 | DS26: =SUM(DM26:DR26) -> 660.46831 | DT26: =SUM(CR26,CY26,DF26,DM26) -> 0 | DU26: =SUM(CS26,CZ26,DG26,DN26) -> 9780.0356 | DV26: =SUM(CT26,DA26,DH26,DO26) -> 10537.704 | DW26: =SUM(CU26,DB26,DI26,DP26) -> 1316.4781 | DX26: =SUM(CV26,DC26,DJ26,DQ26) -> 0 | DY26: =SUM(CW26,DD26,DK26,DR26) -> 0 | DZ26: =SUM(DT26:DY26) -> 21634.218 | EB26: 10064.573 | EC26: 3664.059 | EF26: =SUM(EA26:EE26) -> 13728.632 | EH26: 156.51606 | EL26: =SUM(EG26:EK26) -> 156.51606 | EN26: 480.30486 | EO26: 956.90501 | ER26: =SUM(EM26:EQ26) -> 1437.2099 | EX26: =SUM(ES26:EW26) -> 0 | EZ26: 537.42271 | FA26: 15.867958 | FB26: 50.74489 | FD26: =SUM(EY26:FC26) -> 604.03556 | FF26: 4632.7874 | FG26: 1267.9067 | FJ26: =SUM(FE26:FI26) -> 5900.6941 | FL26: 2803.4336 | FM26: 598.94536 | FN26: 11.177969 | FP26: =SUM(FK26:FO26) -> 3413.5569 | FQ26: =SUM(EA26,EG26,EM26,ES26,EY26,FE26,FK26) -> 0 | FR26: =SUM(EB26,EH26,EN26,ET26,EZ26,FF26,FL26) -> 18675.038 | FS26: =SUM(EC26,EI26,EO26,EU26,FA26,FG26,FM26) -> 6503.684 | FT26: =SUM(ED26,EJ26,EP26,EV26,FB26,FH26,FN26) -> 61.922859 | FU26: =SUM(EE26,EK26,EQ26,EW26,FC26,FI26,FO26) -> 0 | FV26: =SUM(FQ26:FU26) -> 25240.645 | FX26: 68726.025 | FY26: 18783.018 | FZ26: 13875.912 | GB26: =SUM(FW26:GA26) -> 101384.95 | GE26: 2053.3891 | GH26: =SUM(GC26:GG26) -> 2053.3891 | GJ26: 23680.097 | GK26: 10012.868 | GL26: 2092.6056 | GN26: =SUM(GI26:GM26) -> 35785.571 | GP26: 83025.207 | GQ26: 18852.768 | GR26: 22203.781 | GT26: =SUM(GO26:GS26) -> 124081.76 | GV26: 86495.29 | GW26: 134144.19 | GX26: 22986.923 | GZ26: =SUM(GU26:GY26) -> 243626.41 | HB26: 37310.827 | HC26: 41701.636 | HD26: 11323.278 | HF26: =SUM(HA26:HE26) -> 90335.74 | HH26: 6570.0813 | HL26: =SUM(HG26:HK26) -> 6570.0813 | HM26: =SUM(FW26,GC26,GI26,GO26,GU26,HA26,HG26) -> 0 | HN26: =SUM(FX26,GD26,GJ26,GP26,GV26,HB26,HH26) -> 305807.53 | HO26: =SUM(FY26,GE26,GK26,GQ26,GW26,HC26,HI26) -> 225547.87 | HP26: =SUM(FZ26,GF26,GL26,GR26,GX26,HD26,HJ26) -> 72482.499 | HQ26: =SUM(GA26,GG26,GM26,GS26,GY26,HE26,HK26) -> 0 | HR26: =SUM(HM26:HQ26) -> 603837.9 | HT26: 606.34736 | HU26: 456.78956 | HX26: =SUM(HS26:HW26) -> 1063.1369 | HZ26: 902.48206 | IA26: 3615.9587 | IB26: 4271.0126 | ID26: =SUM(HY26:IC26) -> 8789.4534 | IF26: 130520.28 | IG26: 237455.56 | IH26: 26810.722 | IJ26: =SUM(IE26:II26) -> 394786.56 | IK26: =SUM(HS26,HY26,IE26) -> 0 | IL26: =SUM(HT26,HZ26,IF26) -> 132029.11 | IM26: =SUM(HU26,IA26,IG26) -> 241528.31 | IN26: =SUM(HV26,IB26,IH26) -> 31081.735 | IO26: =SUM(HW26,IC26,II26) -> 0 | IP26: =SUM(IK26:IO26) -> 404639.15 | IR26: 559.85214 | IS26: 48.014416 | IV26: =SUM(IQ26:IU26) -> 607.86656 | IX26: 58317.334 | IY26: 19883.445 | JB26: =SUM(IW26:JA26) -> 78200.78 | JD26: 119.68422 | JH26: =SUM(JC26:JG26) -> 119.68422 | JI26: =SUM(IQ26,IW26,JC26) -> 0 | JJ26: =SUM(IR26,IX26,JD26) -> 58996.871 | JK26: =SUM(IS26,IY26,JE26) -> 19931.46 | JL26: =SUM(IT26,IZ26,JF26) -> 0 | JM26: =SUM(IU26,JA26,JG26) -> 0 | JN26: =SUM(JI26:JM26) -> 78928.331 | JP26: =SUM(N26,AL26,BK26,CK26,DT26,FQ26,HM26,IK26,JI26) -> 0 | JQ26: =SUM(O26,AM26,BL26,CL26,DU26,FR26,HN26,IL26,JJ26) -> 548577.95 | JR26: =SUM(P26,AN26,BM26,CM26,DV26,FS26,HO26,IM26,JK26) -> 591796.97 | JS26: =SUM(Q26,AO26,BN26,CN26,DW26,FT26,HP26,IN26,JL26) -> 176665.58 | JT26: =SUM(R26,AP26,BO26,CO26,DX26,FU26,HQ26,IO26,JM26) -> 0 | JU26: =SUM(BP26,CP26,DY26) -> 0 | JV26: =SUM(JP26:JU26) -> 1317040.5
A27: IDA=Black Army Cutworm | G27: =SUM(B27:F27) -> 0 | M27: =SUM(H27:L27) -> 0 | N27: =SUM(B27,H27) -> 0 | O27: =SUM(C27,I27) -> 0 | P27: =SUM(D27,J27) -> 0 | Q27: =SUM(E27,K27) -> 0 | R27: =SUM(F27,L27) -> 0 | S27: =SUM(N27:R27) -> 0 | Y27: =SUM(T27:X27) -> 0 | AE27: =SUM(Z27:AD27) -> 0 | AK27: =SUM(AF27:AJ27) -> 0 | AL27: =SUM(T27,Z27,AF27) -> 0 | AM27: =SUM(U27,AA27,AG27) -> 0 | AN27: =SUM(V27,AB27,AH27) -> 0 | AO27: =SUM(W27,AC27,AI27) -> 0 | AP27: =SUM(X27,AD27,AJ27) -> 0 | AQ27: =SUM(AL27:AP27) -> 0 | AW27: =SUM(AR27:AV27) -> 0 | BD27: =SUM(AX27:BC27) -> 0 | BJ27: =SUM(BE27:BI27) -> 0 | BK27: =SUM(AR27,AX27,BE27) -> 0 | BL27: =SUM(AS27,AY27,BF27) -> 0 | BM27: =SUM(AT27,AZ27,BG27) -> 0 | BN27: =SUM(AU27,BA27,BH27) -> 0 | BO27: =SUM(AV27,BB27,BI27) -> 0 | BP27: =SUM(BC27) -> 0 | BQ27: =SUM(BK27:BP27) -> 0 | BW27: =SUM(BR27:BV27) -> 0 | CC27: =SUM(BX27:CB27) -> 0 | CJ27: =SUM(CD27:CI27) -> 0 | CK27: =SUM(BR27,BX27,CD27) -> 0 | CL27: =SUM(BS27,BY27,CE27) -> 0 | CM27: =SUM(BT27,BZ27,CF27) -> 0 | CN27: =SUM(BU27,CA27,CG27) -> 0 | CO27: =SUM(BV27,CB27,CH27) -> 0 | CP27: =SUM(CI27) -> 0 | CQ27: =SUM(CK27:CP27) -> 0 | CX27: =SUM(CR27:CW27) -> 0 | DE27: =SUM(CY27:DD27) -> 0 | DL27: =SUM(DF27:DK27) -> 0 | DS27: =SUM(DM27:DR27) -> 0 | DT27: =SUM(CR27,CY27,DF27,DM27) -> 0 | DU27: =SUM(CS27,CZ27,DG27,DN27) -> 0 | DV27: =SUM(CT27,DA27,DH27,DO27) -> 0 | DW27: =SUM(CU27,DB27,DI27,DP27) -> 0 | DX27: =SUM(CV27,DC27,DJ27,DQ27) -> 0 | DY27: =SUM(CW27,DD27,DK27,DR27) -> 0 | DZ27: =SUM(DT27:DY27) -> 0 | EF27: =SUM(EA27:EE27) -> 0 | EL27: =SUM(EG27:EK27) -> 0 | ER27: =SUM(EM27:EQ27) -> 0 | EX27: =SUM(ES27:EW27) -> 0 | FD27: =SUM(EY27:FC27) -> 0 | FJ27: =SUM(FE27:FI27) -> 0 | FP27: =SUM(FK27:FO27) -> 0 | FQ27: =SUM(EA27,EG27,EM27,ES27,EY27,FE27,FK27) -> 0 | FR27: =SUM(EB27,EH27,EN27,ET27,EZ27,FF27,FL27) -> 0 | FS27: =SUM(EC27,EI27,EO27,EU27,FA27,FG27,FM27) -> 0 | FT27: =SUM(ED27,EJ27,EP27,EV27,FB27,FH27,FN27) -> 0 | FU27: =SUM(EE27,EK27,EQ27,EW27,FC27,FI27,FO27) -> 0 | FV27: =SUM(FQ27:FU27) -> 0 | GB27: =SUM(FW27:GA27) -> 0 | GH27: =SUM(GC27:GG27) -> 0 | GN27: =SUM(GI27:GM27) -> 0 | GT27: =SUM(GO27:GS27) -> 0 | GZ27: =SUM(GU27:GY27) -> 0 | HF27: =SUM(HA27:HE27) -> 0 | HL27: =SUM(HG27:HK27) -> 0 | HM27: =SUM(FW27,GC27,GI27,GO27,GU27,HA27,HG27) -> 0 | HN27: =SUM(FX27,GD27,GJ27,GP27,GV27,HB27,HH27) -> 0 | HO27: =SUM(FY27,GE27,GK27,GQ27,GW27,HC27,HI27) -> 0 | HP27: =SUM(FZ27,GF27,GL27,GR27,GX27,HD27,HJ27) -> 0 | HQ27: =SUM(GA27,GG27,GM27,GS27,GY27,HE27,HK27) -> 0 | HR27: =SUM(HM27:HQ27) -> 0 | HX27: =SUM(HS27:HW27) -> 0 | ID27: =SUM(HY27:IC27) -> 0 | IJ27: =SUM(IE27:II27) -> 0 | IK27: =SUM(HS27,HY27,IE27) -> 0 | IL27: =SUM(HT27,HZ27,IF27) -> 0 | IM27: =SUM(HU27,IA27,IG27) -> 0 | IN27: =SUM(HV27,IB27,IH27) -> 0 | IO27: =SUM(HW27,IC27,II27) -> 0 | IP27: =SUM(IK27:IO27) -> 0 | IV27: =SUM(IQ27:IU27) -> 0 | JB27: =SUM(IW27:JA27) -> 0 | JH27: =SUM(JC27:JG27) -> 0 | JI27: =SUM(IQ27,IW27,JC27) -> 0 | JJ27: =SUM(IR27,IX27,JD27) -> 0 | JK27: =SUM(IS27,IY27,JE27) -> 0 | JL27: =SUM(IT27,IZ27,JF27) -> 0 | JM27: =SUM(IU27,JA27,JG27) -> 0 | JN27: =SUM(JI27:JM27) -> 0 | JP27: =SUM(N27,AL27,BK27,CK27,DT27,FQ27,HM27,IK27,JI27) -> 0 | JQ27: =SUM(O27,AM27,BL27,CL27,DU27,FR27,HN27,IL27,JJ27) -> 0 | JR27: =SUM(P27,AN27,BM27,CM27,DV27,FS27,HO27,IM27,JK27) -> 0 | JS27: =SUM(Q27,AO27,BN27,CN27,DW27,FT27,HP27,IN27,JL27) -> 0 | JT27: =SUM(R27,AP27,BO27,CO27,DX27,FU27,HQ27,IO27,JM27) -> 0 | JU27: =SUM(BP27,CP27,DY27) -> 0 | JV27: =SUM(JP27:JU27) -> 0
A28: IDB=2-Year Budworm | G28: =SUM(B28:F28) -> 0 | M28: =SUM(H28:L28) -> 0 | N28: =SUM(B28,H28) -> 0 | O28: =SUM(C28,I28) -> 0 | P28: =SUM(D28,J28) -> 0 | Q28: =SUM(E28,K28) -> 0 | R28: =SUM(F28,L28) -> 0 | S28: =SUM(N28:R28) -> 0 | Y28: =SUM(T28:X28) -> 0 | AE28: =SUM(Z28:AD28) -> 0 | AK28: =SUM(AF28:AJ28) -> 0 | AL28: =SUM(T28,Z28,AF28) -> 0 | AM28: =SUM(U28,AA28,AG28) -> 0 | AN28: =SUM(V28,AB28,AH28) -> 0 | AO28: =SUM(W28,AC28,AI28) -> 0 | AP28: =SUM(X28,AD28,AJ28) -> 0 | AQ28: =SUM(AL28:AP28) -> 0 | AW28: =SUM(AR28:AV28) -> 0 | BD28: =SUM(AX28:BC28) -> 0 | BJ28: =SUM(BE28:BI28) -> 0 | BK28: =SUM(AR28,AX28,BE28) -> 0 | BL28: =SUM(AS28,AY28,BF28) -> 0 | BM28: =SUM(AT28,AZ28,BG28) -> 0 | BN28: =SUM(AU28,BA28,BH28) -> 0 | BO28: =SUM(AV28,BB28,BI28) -> 0 | BP28: =SUM(BC28) -> 0 | BQ28: =SUM(BK28:BP28) -> 0 | BS28: 3624.3352 | BT28: 88.792509 | BW28: =SUM(BR28:BV28) -> 3713.1277 | BY28: 32616.835 | BZ28: 16595.088 | CA28: 377.02091 | CC28: =SUM(BX28:CB28) -> 49588.943 | CE28: 22090.182 | CF28: 1173.3821 | CG28: 138.79956 | CJ28: =SUM(CD28:CI28) -> 23402.364 | CK28: =SUM(BR28,BX28,CD28) -> 0 | CL28: =SUM(BS28,BY28,CE28) -> 58331.352 | CM28: =SUM(BT28,BZ28,CF28) -> 17857.262 | CN28: =SUM(BU28,CA28,CG28) -> 515.82048 | CO28: =SUM(BV28,CB28,CH28) -> 0 | CP28: =SUM(CI28) -> 0 | CQ28: =SUM(CK28:CP28) -> 76704.435 | CS28: 5292.0763 | CT28: 26182.997 | CX28: =SUM(CR28:CW28) -> 31475.073 | DE28: =SUM(CY28:DD28) -> 0 | DL28: =SUM(DF28:DK28) -> 0 | DS28: =SUM(DM28:DR28) -> 0 | DT28: =SUM(CR28,CY28,DF28,DM28) -> 0 | DU28: =SUM(CS28,CZ28,DG28,DN28) -> 5292.0763 | DV28: =SUM(CT28,DA28,DH28,DO28) -> 26182.997 | DW28: =SUM(CU28,DB28,DI28,DP28) -> 0 | DX28: =SUM(CV28,DC28,DJ28,DQ28) -> 0 | DY28: =SUM(CW28,DD28,DK28,DR28) -> 0 | DZ28: =SUM(DT28:DY28) -> 31475.073 | EF28: =SUM(EA28:EE28) -> 0 | EL28: =SUM(EG28:EK28) -> 0 | ER28: =SUM(EM28:EQ28) -> 0 | EX28: =SUM(ES28:EW28) -> 0 | FD28: =SUM(EY28:FC28) -> 0 | FJ28: =SUM(FE28:FI28) -> 0 | FP28: =SUM(FK28:FO28) -> 0 | FQ28: =SUM(EA28,EG28,EM28,ES28,EY28,FE28,FK28) -> 0 | FR28: =SUM(EB28,EH28,EN28,ET28,EZ28,FF28,FL28) -> 0 | FS28: =SUM(EC28,EI28,EO28,EU28,FA28,FG28,FM28) -> 0 | FT28: =SUM(ED28,EJ28,EP28,EV28,FB28,FH28,FN28) -> 0 | FU28: =SUM(EE28,EK28,EQ28,EW28,FC28,FI28,FO28) -> 0 | FV28: =SUM(FQ28:FU28) -> 0 | FX28: 14734.68 | FY28: 109.55447 | GB28: =SUM(FW28:GA28) -> 14844.234 | GH28: =SUM(GC28:GG28) -> 0 | GN28: =SUM(GI28:GM28) -> 0 | GT28: =SUM(GO28:GS28) -> 0 | GV28: 33261.853 | GW28: 5829.6234 | GX28: 27.69951 | GZ28: =SUM(GU28:GY28) -> 39119.176 | HB28: 12287.07 | HC28: 630.36007 | HF28: =SUM(HA28:HE28) -> 12917.43 | HL28: =SUM(HG28:HK28) -> 0 | HM28: =SUM(FW28,GC28,GI28,GO28,GU28,HA28,HG28) -> 0 | HN28: =SUM(FX28,GD28,GJ28,GP28,GV28,HB28,HH28) -> 60283.603 | HO28: =SUM(FY28,GE28,GK28,GQ28,GW28,HC28,HI28) -> 6569.5379 | HP28: =SUM(FZ28,GF28,GL28,GR28,GX28,HD28,HJ28) -> 27.69951 | HQ28: =SUM(GA28,GG28,GM28,GS28,GY28,HE28,HK28) -> 0 | HR28: =SUM(HM28:HQ28) -> 66880.841 | HX28: =SUM(HS28:HW28) -> 0 | HZ28: 43215.223 | IA28: 46353.151 | IB28: 3152.192 | ID28: =SUM(HY28:IC28) -> 92720.566 | IF28: 80344.314 | IG28: 66194.011 | IJ28: =SUM(IE28:II28) -> 146538.32 | IK28: =SUM(HS28,HY28,IE28) -> 0 | IL28: =SUM(HT28,HZ28,IF28) -> 123559.54 | IM28: =SUM(HU28,IA28,IG28) -> 112547.16 | IN28: =SUM(HV28,IB28,IH28) -> 3152.192 | IO28: =SUM(HW28,IC28,II28) -> 0 | IP28: =SUM(IK28:IO28) -> 239258.89 | IV28: =SUM(IQ28:IU28) -> 0 | JB28: =SUM(IW28:JA28) -> 0 | JH28: =SUM(JC28:JG28) -> 0 | JI28: =SUM(IQ28,IW28,JC28) -> 0 | JJ28: =SUM(IR28,IX28,JD28) -> 0 | JK28: =SUM(IS28,IY28,JE28) -> 0 | JL28: =SUM(IT28,IZ28,JF28) -> 0 | JM28: =SUM(IU28,JA28,JG28) -> 0 | JN28: =SUM(JI28:JM28) -> 0 | JP28: =SUM(N28,AL28,BK28,CK28,DT28,FQ28,HM28,IK28,JI28) -> 0 | JQ28: =SUM(O28,AM28,BL28,CL28,DU28,FR28,HN28,IL28,JJ28) -> 247466.57 | JR28: =SUM(P28,AN28,BM28,CM28,DV28,FS28,HO28,IM28,JK28) -> 163156.96 | JS28: =SUM(Q28,AO28,BN28,CN28,DW28,FT28,HP28,IN28,JL28) -> 3695.712 | JT28: =SUM(R28,AP28,BO28,CO28,DX28,FU28,HQ28,IO28,JM28) -> 0 | JU28: =SUM(BP28,CP28,DY28) -> 0 | JV28: =SUM(JP28:JU28) -> 414319.24
A29: IDC=Larch casebearer | G29: =SUM(B29:F29) -> 0 | M29: =SUM(H29:L29) -> 0 | N29: =SUM(B29,H29) -> 0 | O29: =SUM(C29,I29) -> 0 | P29: =SUM(D29,J29) -> 0 | Q29: =SUM(E29,K29) -> 0 | R29: =SUM(F29,L29) -> 0 | S29: =SUM(N29:R29) -> 0 | Y29: =SUM(T29:X29) -> 0 | AE29: =SUM(Z29:AD29) -> 0 | AK29: =SUM(AF29:AJ29) -> 0 | AL29: =SUM(T29,Z29,AF29) -> 0 | AM29: =SUM(U29,AA29,AG29) -> 0 | AN29: =SUM(V29,AB29,AH29) -> 0 | AO29: =SUM(W29,AC29,AI29) -> 0 | AP29: =SUM(X29,AD29,AJ29) -> 0 | AQ29: =SUM(AL29:AP29) -> 0 | AW29: =SUM(AR29:AV29) -> 0 | BD29: =SUM(AX29:BC29) -> 0 | BJ29: =SUM(BE29:BI29) -> 0 | BK29: =SUM(AR29,AX29,BE29) -> 0 | BL29: =SUM(AS29,AY29,BF29) -> 0 | BM29: =SUM(AT29,AZ29,BG29) -> 0 | BN29: =SUM(AU29,BA29,BH29) -> 0 | BO29: =SUM(AV29,BB29,BI29) -> 0 | BP29: =SUM(BC29) -> 0 | BQ29: =SUM(BK29:BP29) -> 0 | BW29: =SUM(BR29:BV29) -> 0 | CC29: =SUM(BX29:CB29) -> 0 | CJ29: =SUM(CD29:CI29) -> 0 | CK29: =SUM(BR29,BX29,CD29) -> 0 | CL29: =SUM(BS29,BY29,CE29) -> 0 | CM29: =SUM(BT29,BZ29,CF29) -> 0 | CN29: =SUM(BU29,CA29,CG29) -> 0 | CO29: =SUM(BV29,CB29,CH29) -> 0 | CP29: =SUM(CI29) -> 0 | CQ29: =SUM(CK29:CP29) -> 0 | CX29: =SUM(CR29:CW29) -> 0 | DE29: =SUM(CY29:DD29) -> 0 | DL29: =SUM(DF29:DK29) -> 0 | DS29: =SUM(DM29:DR29) -> 0 | DT29: =SUM(CR29,CY29,DF29,DM29) -> 0 | DU29: =SUM(CS29,CZ29,DG29,DN29) -> 0 | DV29: =SUM(CT29,DA29,DH29,DO29) -> 0 | DW29: =SUM(CU29,DB29,DI29,DP29) -> 0 | DX29: =SUM(CV29,DC29,DJ29,DQ29) -> 0 | DY29: =SUM(CW29,DD29,DK29,DR29) -> 0 | DZ29: =SUM(DT29:DY29) -> 0 | EF29: =SUM(EA29:EE29) -> 0 | EL29: =SUM(EG29:EK29) -> 0 | ER29: =SUM(EM29:EQ29) -> 0 | EX29: =SUM(ES29:EW29) -> 0 | FD29: =SUM(EY29:FC29) -> 0 | FJ29: =SUM(FE29:FI29) -> 0 | FP29: =SUM(FK29:FO29) -> 0 | FQ29: =SUM(EA29,EG29,EM29,ES29,EY29,FE29,FK29) -> 0 | FR29: =SUM(EB29,EH29,EN29,ET29,EZ29,FF29,FL29) -> 0 | FS29: =SUM(EC29,EI29,EO29,EU29,FA29,FG29,FM29) -> 0 | FT29: =SUM(ED29,EJ29,EP29,EV29,FB29,FH29,FN29) -> 0 | FU29: =SUM(EE29,EK29,EQ29,EW29,FC29,FI29,FO29) -> 0 | FV29: =SUM(FQ29:FU29) -> 0 | GB29: =SUM(FW29:GA29) -> 0 | GH29: =SUM(GC29:GG29) -> 0 | GN29: =SUM(GI29:GM29) -> 0 | GT29: =SUM(GO29:GS29) -> 0 | GZ29: =SUM(GU29:GY29) -> 0 | HF29: =SUM(HA29:HE29) -> 0 | HL29: =SUM(HG29:HK29) -> 0 | HM29: =SUM(FW29,GC29,GI29,GO29,GU29,HA29,HG29) -> 0 | HN29: =SUM(FX29,GD29,GJ29,GP29,GV29,HB29,HH29) -> 0 | HO29: =SUM(FY29,GE29,GK29,GQ29,GW29,HC29,HI29) -> 0 | HP29: =SUM(FZ29,GF29,GL29,GR29,GX29,HD29,HJ29) -> 0 | HQ29: =SUM(GA29,GG29,GM29,GS29,GY29,HE29,HK29) -> 0 | HR29: =SUM(HM29:HQ29) -> 0 | HX29: =SUM(HS29:HW29) -> 0 | ID29: =SUM(HY29:IC29) -> 0 | IJ29: =SUM(IE29:II29) -> 0 | IK29: =SUM(HS29,HY29,IE29) -> 0 | IL29: =SUM(HT29,HZ29,IF29) -> 0 | IM29: =SUM(HU29,IA29,IG29) -> 0 | IN29: =SUM(HV29,IB29,IH29) -> 0 | IO29: =SUM(HW29,IC29,II29) -> 0 | IP29: =SUM(IK29:IO29) -> 0 | IV29: =SUM(IQ29:IU29) -> 0 | JB29: =SUM(IW29:JA29) -> 0 | JH29: =SUM(JC29:JG29) -> 0 | JI29: =SUM(IQ29,IW29,JC29) -> 0 | JJ29: =SUM(IR29,IX29,JD29) -> 0 | JK29: =SUM(IS29,IY29,JE29) -> 0 | JL29: =SUM(IT29,IZ29,JF29) -> 0 | JM29: =SUM(IU29,JA29,JG29) -> 0 | JN29: =SUM(JI29:JM29) -> 0 | JP29: =SUM(N29,AL29,BK29,CK29,DT29,FQ29,HM29,IK29,JI29) -> 0 | JQ29: =SUM(O29,AM29,BL29,CL29,DU29,FR29,HN29,IL29,JJ29) -> 0 | JR29: =SUM(P29,AN29,BM29,CM29,DV29,FS29,HO29,IM29,JK29) -> 0 | JS29: =SUM(Q29,AO29,BN29,CN29,DW29,FT29,HP29,IN29,JL29) -> 0 | JT29: =SUM(R29,AP29,BO29,CO29,DX29,FU29,HQ29,IO29,JM29) -> 0 | JU29: =SUM(BP29,CP29,DY29) -> 0 | JV29: =SUM(JP29:JU29) -> 0
A30: IDD=Western Winter Moth | G30: =SUM(B30:F30) -> 0 | M30: =SUM(H30:L30) -> 0 | N30: =SUM(B30,H30) -> 0 | O30: =SUM(C30,I30) -> 0 | P30: =SUM(D30,J30) -> 0 | Q30: =SUM(E30,K30) -> 0 | R30: =SUM(F30,L30) -> 0 | S30: =SUM(N30:R30) -> 0 | Y30: =SUM(T30:X30) -> 0 | AE30: =SUM(Z30:AD30) -> 0 | AK30: =SUM(AF30:AJ30) -> 0 | AL30: =SUM(T30,Z30,AF30) -> 0 | AM30: =SUM(U30,AA30,AG30) -> 0 | AN30: =SUM(V30,AB30,AH30) -> 0 | AO30: =SUM(W30,AC30,AI30) -> 0 | AP30: =SUM(X30,AD30,AJ30) -> 0 | AQ30: =SUM(AL30:AP30) -> 0 | AW30: =SUM(AR30:AV30) -> 0 | BD30: =SUM(AX30:BC30) -> 0 | BJ30: =SUM(BE30:BI30) -> 0 | BK30: =SUM(AR30,AX30,BE30) -> 0 | BL30: =SUM(AS30,AY30,BF30) -> 0 | BM30: =SUM(AT30,AZ30,BG30) -> 0 | BN30: =SUM(AU30,BA30,BH30) -> 0 | BO30: =SUM(AV30,BB30,BI30) -> 0 | BP30: =SUM(BC30) -> 0 | BQ30: =SUM(BK30:BP30) -> 0 | BW30: =SUM(BR30:BV30) -> 0 | BY30: 128.11518 | BZ30: 14.83874 | CC30: =SUM(BX30:CB30) -> 142.95392 | CJ30: =SUM(CD30:CI30) -> 0 | CK30: =SUM(BR30,BX30,CD30) -> 0 | CL30: =SUM(BS30,BY30,CE30) -> 128.11518 | CM30: =SUM(BT30,BZ30,CF30) -> 14.83874 | CN30: =SUM(BU30,CA30,CG30) -> 0 | CO30: =SUM(BV30,CB30,CH30) -> 0 | CP30: =SUM(CI30) -> 0 | CQ30: =SUM(CK30:CP30) -> 142.95392 | CX30: =SUM(CR30:CW30) -> 0 | DE30: =SUM(CY30:DD30) -> 0 | DL30: =SUM(DF30:DK30) -> 0 | DS30: =SUM(DM30:DR30) -> 0 | DT30: =SUM(CR30,CY30,DF30,DM30) -> 0 | DU30: =SUM(CS30,CZ30,DG30,DN30) -> 0 | DV30: =SUM(CT30,DA30,DH30,DO30) -> 0 | DW30: =SUM(CU30,DB30,DI30,DP30) -> 0 | DX30: =SUM(CV30,DC30,DJ30,DQ30) -> 0 | DY30: =SUM(CW30,DD30,DK30,DR30) -> 0 | DZ30: =SUM(DT30:DY30) -> 0 | EF30: =SUM(EA30:EE30) -> 0 | EL30: =SUM(EG30:EK30) -> 0 | ER30: =SUM(EM30:EQ30) -> 0 | EX30: =SUM(ES30:EW30) -> 0 | FD30: =SUM(EY30:FC30) -> 0 | FJ30: =SUM(FE30:FI30) -> 0 | FP30: =SUM(FK30:FO30) -> 0 | FQ30: =SUM(EA30,EG30,EM30,ES30,EY30,FE30,FK30) -> 0 | FR30: =SUM(EB30,EH30,EN30,ET30,EZ30,FF30,FL30) -> 0 | FS30: =SUM(EC30,EI30,EO30,EU30,FA30,FG30,FM30) -> 0 | FT30: =SUM(ED30,EJ30,EP30,EV30,FB30,FH30,FN30) -> 0 | FU30: =SUM(EE30,EK30,EQ30,EW30,FC30,FI30,FO30) -> 0 | FV30: =SUM(FQ30:FU30) -> 0 | GB30: =SUM(FW30:GA30) -> 0 | GH30: =SUM(GC30:GG30) -> 0 | GN30: =SUM(GI30:GM30) -> 0 | GT30: =SUM(GO30:GS30) -> 0 | GZ30: =SUM(GU30:GY30) -> 0 | HF30: =SUM(HA30:HE30) -> 0 | HL30: =SUM(HG30:HK30) -> 0 | HM30: =SUM(FW30,GC30,GI30,GO30,GU30,HA30,HG30) -> 0 | HN30: =SUM(FX30,GD30,GJ30,GP30,GV30,HB30,HH30) -> 0 | HO30: =SUM(FY30,GE30,GK30,GQ30,GW30,HC30,HI30) -> 0 | HP30: =SUM(FZ30,GF30,GL30,GR30,GX30,HD30,HJ30) -> 0 | HQ30: =SUM(GA30,GG30,GM30,GS30,GY30,HE30,HK30) -> 0 | HR30: =SUM(HM30:HQ30) -> 0 | HX30: =SUM(HS30:HW30) -> 0 | ID30: =SUM(HY30:IC30) -> 0 | IJ30: =SUM(IE30:II30) -> 0 | IK30: =SUM(HS30,HY30,IE30) -> 0 | IL30: =SUM(HT30,HZ30,IF30) -> 0 | IM30: =SUM(HU30,IA30,IG30) -> 0 | IN30: =SUM(HV30,IB30,IH30) -> 0 | IO30: =SUM(HW30,IC30,II30) -> 0 | IP30: =SUM(IK30:IO30) -> 0 | IV30: =SUM(IQ30:IU30) -> 0 | JB30: =SUM(IW30:JA30) -> 0 | JH30: =SUM(JC30:JG30) -> 0 | JI30: =SUM(IQ30,IW30,JC30) -> 0 | JJ30: =SUM(IR30,IX30,JD30) -> 0 | JK30: =SUM(IS30,IY30,JE30) -> 0 | JL30: =SUM(IT30,IZ30,JF30) -> 0 | JM30: =SUM(IU30,JA30,JG30) -> 0 | JN30: =SUM(JI30:JM30) -> 0 | JP30: =SUM(N30,AL30,BK30,CK30,DT30,FQ30,HM30,IK30,JI30) -> 0 | JQ30: =SUM(O30,AM30,BL30,CL30,DU30,FR30,HN30,IL30,JJ30) -> 128.11518 | JR30: =SUM(P30,AN30,BM30,CM30,DV30,FS30,HO30,IM30,JK30) -> 14.83874 | JS30: =SUM(Q30,AO30,BN30,CN30,DW30,FT30,HP30,IN30,JL30) -> 0 | JT30: =SUM(R30,AP30,BO30,CO30,DX30,FU30,HQ30,IO30,JM30) -> 0 | JU30: =SUM(BP30,CP30,DY30) -> 0 | JV30: =SUM(JP30:JU30) -> 142.95392
A31: IDE=Spruce Budworm | G31: =SUM(B31:F31) -> 0 | M31: =SUM(H31:L31) -> 0 | N31: =SUM(B31,H31) -> 0 | O31: =SUM(C31,I31) -> 0 | P31: =SUM(D31,J31) -> 0 | Q31: =SUM(E31,K31) -> 0 | R31: =SUM(F31,L31) -> 0 | S31: =SUM(N31:R31) -> 0 | Y31: =SUM(T31:X31) -> 0 | AE31: =SUM(Z31:AD31) -> 0 | AK31: =SUM(AF31:AJ31) -> 0 | AL31: =SUM(T31,Z31,AF31) -> 0 | AM31: =SUM(U31,AA31,AG31) -> 0 | AN31: =SUM(V31,AB31,AH31) -> 0 | AO31: =SUM(W31,AC31,AI31) -> 0 | AP31: =SUM(X31,AD31,AJ31) -> 0 | AQ31: =SUM(AL31:AP31) -> 0 | AW31: =SUM(AR31:AV31) -> 0 | BD31: =SUM(AX31:BC31) -> 0 | BJ31: =SUM(BE31:BI31) -> 0 | BK31: =SUM(AR31,AX31,BE31) -> 0 | BL31: =SUM(AS31,AY31,BF31) -> 0 | BM31: =SUM(AT31,AZ31,BG31) -> 0 | BN31: =SUM(AU31,BA31,BH31) -> 0 | BO31: =SUM(AV31,BB31,BI31) -> 0 | BP31: =SUM(BC31) -> 0 | BQ31: =SUM(BK31:BP31) -> 0 | BW31: =SUM(BR31:BV31) -> 0 | CC31: =SUM(BX31:CB31) -> 0 | CJ31: =SUM(CD31:CI31) -> 0 | CK31: =SUM(BR31,BX31,CD31) -> 0 | CL31: =SUM(BS31,BY31,CE31) -> 0 | CM31: =SUM(BT31,BZ31,CF31) -> 0 | CN31: =SUM(BU31,CA31,CG31) -> 0 | CO31: =SUM(BV31,CB31,CH31) -> 0 | CP31: =SUM(CI31) -> 0 | CQ31: =SUM(CK31:CP31) -> 0 | CX31: =SUM(CR31:CW31) -> 0 | DE31: =SUM(CY31:DD31) -> 0 | DL31: =SUM(DF31:DK31) -> 0 | DS31: =SUM(DM31:DR31) -> 0 | DT31: =SUM(CR31,CY31,DF31,DM31) -> 0 | DU31: =SUM(CS31,CZ31,DG31,DN31) -> 0 | DV31: =SUM(CT31,DA31,DH31,DO31) -> 0 | DW31: =SUM(CU31,DB31,DI31,DP31) -> 0 | DX31: =SUM(CV31,DC31,DJ31,DQ31) -> 0 | DY31: =SUM(CW31,DD31,DK31,DR31) -> 0 | DZ31: =SUM(DT31:DY31) -> 0 | EF31: =SUM(EA31:EE31) -> 0 | EL31: =SUM(EG31:EK31) -> 0 | ER31: =SUM(EM31:EQ31) -> 0 | EX31: =SUM(ES31:EW31) -> 0 | FD31: =SUM(EY31:FC31) -> 0 | FJ31: =SUM(FE31:FI31) -> 0 | FP31: =SUM(FK31:FO31) -> 0 | FQ31: =SUM(EA31,EG31,EM31,ES31,EY31,FE31,FK31) -> 0 | FR31: =SUM(EB31,EH31,EN31,ET31,EZ31,FF31,FL31) -> 0 | FS31: =SUM(EC31,EI31,EO31,EU31,FA31,FG31,FM31) -> 0 | FT31: =SUM(ED31,EJ31,EP31,EV31,FB31,FH31,FN31) -> 0 | FU31: =SUM(EE31,EK31,EQ31,EW31,FC31,FI31,FO31) -> 0 | FV31: =SUM(FQ31:FU31) -> 0 | GB31: =SUM(FW31:GA31) -> 0 | GH31: =SUM(GC31:GG31) -> 0 | GN31: =SUM(GI31:GM31) -> 0 | GT31: =SUM(GO31:GS31) -> 0 | GZ31: =SUM(GU31:GY31) -> 0 | HF31: =SUM(HA31:HE31) -> 0 | HL31: =SUM(HG31:HK31) -> 0 | HM31: =SUM(FW31,GC31,GI31,GO31,GU31,HA31,HG31) -> 0 | HN31: =SUM(FX31,GD31,GJ31,GP31,GV31,HB31,HH31) -> 0 | HO31: =SUM(FY31,GE31,GK31,GQ31,GW31,HC31,HI31) -> 0 | HP31: =SUM(FZ31,GF31,GL31,GR31,GX31,HD31,HJ31) -> 0 | HQ31: =SUM(GA31,GG31,GM31,GS31,GY31,HE31,HK31) -> 0 | HR31: =SUM(HM31:HQ31) -> 0 | HX31: =SUM(HS31:HW31) -> 0 | ID31: =SUM(HY31:IC31) -> 0 | IJ31: =SUM(IE31:II31) -> 0 | IK31: =SUM(HS31,HY31,IE31) -> 0 | IL31: =SUM(HT31,HZ31,IF31) -> 0 | IM31: =SUM(HU31,IA31,IG31) -> 0 | IN31: =SUM(HV31,IB31,IH31) -> 0 | IO31: =SUM(HW31,IC31,II31) -> 0 | IP31: =SUM(IK31:IO31) -> 0 | IV31: =SUM(IQ31:IU31) -> 0 | IX31: 14237.854 | IY31: 21514.758 | JB31: =SUM(IW31:JA31) -> 35752.613 | JH31: =SUM(JC31:JG31) -> 0 | JI31: =SUM(IQ31,IW31,JC31) -> 0 | JJ31: =SUM(IR31,IX31,JD31) -> 14237.854 | JK31: =SUM(IS31,IY31,JE31) -> 21514.758 | JL31: =SUM(IT31,IZ31,JF31) -> 0 | JM31: =SUM(IU31,JA31,JG31) -> 0 | JN31: =SUM(JI31:JM31) -> 35752.613 | JP31: =SUM(N31,AL31,BK31,CK31,DT31,FQ31,HM31,IK31,JI31) -> 0 | JQ31: =SUM(O31,AM31,BL31,CL31,DU31,FR31,HN31,IL31,JJ31) -> 14237.854 | JR31: =SUM(P31,AN31,BM31,CM31,DV31,FS31,HO31,IM31,JK31) -> 21514.758 | JS31: =SUM(Q31,AO31,BN31,CN31,DW31,FT31,HP31,IN31,JL31) -> 0 | JT31: =SUM(R31,AP31,BO31,CO31,DX31,FU31,HQ31,IO31,JM31) -> 0 | JU31: =SUM(BP31,CP31,DY31) -> 0 | JV31: =SUM(JP31:JU31) -> 35752.613
A32: IDF=Forest Tent Caterpillar | G32: =SUM(B32:F32) -> 0 | M32: =SUM(H32:L32) -> 0 | N32: =SUM(B32,H32) -> 0 | O32: =SUM(C32,I32) -> 0 | P32: =SUM(D32,J32) -> 0 | Q32: =SUM(E32,K32) -> 0 | R32: =SUM(F32,L32) -> 0 | S32: =SUM(N32:R32) -> 0 | Y32: =SUM(T32:X32) -> 0 | AE32: =SUM(Z32:AD32) -> 0 | AK32: =SUM(AF32:AJ32) -> 0 | AL32: =SUM(T32,Z32,AF32) -> 0 | AM32: =SUM(U32,AA32,AG32) -> 0 | AN32: =SUM(V32,AB32,AH32) -> 0 | AO32: =SUM(W32,AC32,AI32) -> 0 | AP32: =SUM(X32,AD32,AJ32) -> 0 | AQ32: =SUM(AL32:AP32) -> 0 | AW32: =SUM(AR32:AV32) -> 0 | BD32: =SUM(AX32:BC32) -> 0 | BJ32: =SUM(BE32:BI32) -> 0 | BK32: =SUM(AR32,AX32,BE32) -> 0 | BL32: =SUM(AS32,AY32,BF32) -> 0 | BM32: =SUM(AT32,AZ32,BG32) -> 0 | BN32: =SUM(AU32,BA32,BH32) -> 0 | BO32: =SUM(AV32,BB32,BI32) -> 0 | BP32: =SUM(BC32) -> 0 | BQ32: =SUM(BK32:BP32) -> 0 | BW32: =SUM(BR32:BV32) -> 0 | CC32: =SUM(BX32:CB32) -> 0 | CJ32: =SUM(CD32:CI32) -> 0 | CK32: =SUM(BR32,BX32,CD32) -> 0 | CL32: =SUM(BS32,BY32,CE32) -> 0 | CM32: =SUM(BT32,BZ32,CF32) -> 0 | CN32: =SUM(BU32,CA32,CG32) -> 0 | CO32: =SUM(BV32,CB32,CH32) -> 0 | CP32: =SUM(CI32) -> 0 | CQ32: =SUM(CK32:CP32) -> 0 | CX32: =SUM(CR32:CW32) -> 0 | DE32: =SUM(CY32:DD32) -> 0 | DL32: =SUM(DF32:DK32) -> 0 | DS32: =SUM(DM32:DR32) -> 0 | DT32: =SUM(CR32,CY32,DF32,DM32) -> 0 | DU32: =SUM(CS32,CZ32,DG32,DN32) -> 0 | DV32: =SUM(CT32,DA32,DH32,DO32) -> 0 | DW32: =SUM(CU32,DB32,DI32,DP32) -> 0 | DX32: =SUM(CV32,DC32,DJ32,DQ32) -> 0 | DY32: =SUM(CW32,DD32,DK32,DR32) -> 0 | DZ32: =SUM(DT32:DY32) -> 0 | EF32: =SUM(EA32:EE32) -> 0 | EL32: =SUM(EG32:EK32) -> 0 | ER32: =SUM(EM32:EQ32) -> 0 | EX32: =SUM(ES32:EW32) -> 0 | FD32: =SUM(EY32:FC32) -> 0 | FJ32: =SUM(FE32:FI32) -> 0 | FP32: =SUM(FK32:FO32) -> 0 | FQ32: =SUM(EA32,EG32,EM32,ES32,EY32,FE32,FK32) -> 0 | FR32: =SUM(EB32,EH32,EN32,ET32,EZ32,FF32,FL32) -> 0 | FS32: =SUM(EC32,EI32,EO32,EU32,FA32,FG32,FM32) -> 0 | FT32: =SUM(ED32,EJ32,EP32,EV32,FB32,FH32,FN32) -> 0 | FU32: =SUM(EE32,EK32,EQ32,EW32,FC32,FI32,FO32) -> 0 | FV32: =SUM(FQ32:FU32) -> 0 | GB32: =SUM(FW32:GA32) -> 0 | GH32: =SUM(GC32:GG32) -> 0 | GN32: =SUM(GI32:GM32) -> 0 | GT32: =SUM(GO32:GS32) -> 0 | GZ32: =SUM(GU32:GY32) -> 0 | HF32: =SUM(HA32:HE32) -> 0 | HL32: =SUM(HG32:HK32) -> 0 | HM32: =SUM(FW32,GC32,GI32,GO32,GU32,HA32,HG32) -> 0 | HN32: =SUM(FX32,GD32,GJ32,GP32,GV32,HB32,HH32) -> 0 | HO32: =SUM(FY32,GE32,GK32,GQ32,GW32,HC32,HI32) -> 0 | HP32: =SUM(FZ32,GF32,GL32,GR32,GX32,HD32,HJ32) -> 0 | HQ32: =SUM(GA32,GG32,GM32,GS32,GY32,HE32,HK32) -> 0 | HR32: =SUM(HM32:HQ32) -> 0 | HX32: =SUM(HS32:HW32) -> 0 | ID32: =SUM(HY32:IC32) -> 0 | IJ32: =SUM(IE32:II32) -> 0 | IK32: =SUM(HS32,HY32,IE32) -> 0 | IL32: =SUM(HT32,HZ32,IF32) -> 0 | IM32: =SUM(HU32,IA32,IG32) -> 0 | IN32: =SUM(HV32,IB32,IH32) -> 0 | IO32: =SUM(HW32,IC32,II32) -> 0 | IP32: =SUM(IK32:IO32) -> 0 | IV32: =SUM(IQ32:IU32) -> 0 | JB32: =SUM(IW32:JA32) -> 0 | JH32: =SUM(JC32:JG32) -> 0 | JI32: =SUM(IQ32,IW32,JC32) -> 0 | JJ32: =SUM(IR32,IX32,JD32) -> 0 | JK32: =SUM(IS32,IY32,JE32) -> 0 | JL32: =SUM(IT32,IZ32,JF32) -> 0 | JM32: =SUM(IU32,JA32,JG32) -> 0 | JN32: =SUM(JI32:JM32) -> 0 | JP32: =SUM(N32,AL32,BK32,CK32,DT32,FQ32,HM32,IK32,JI32) -> 0 | JQ32: =SUM(O32,AM32,BL32,CL32,DU32,FR32,HN32,IL32,JJ32) -> 0 | JR32: =SUM(P32,AN32,BM32,CM32,DV32,FS32,HO32,IM32,JK32) -> 0 | JS32: =SUM(Q32,AO32,BN32,CN32,DW32,FT32,HP32,IN32,JL32) -> 0 | JT32: =SUM(R32,AP32,BO32,CO32,DX32,FU32,HQ32,IO32,JM32) -> 0 | JU32: =SUM(BP32,CP32,DY32) -> 0 | JV32: =SUM(JP32:JU32) -> 0
A33: IDH=Western Blackheaded Budworm | G33: =SUM(B33:F33) -> 0 | M33: =SUM(H33:L33) -> 0 | N33: =SUM(B33,H33) -> 0 | O33: =SUM(C33,I33) -> 0 | P33: =SUM(D33,J33) -> 0 | Q33: =SUM(E33,K33) -> 0 | R33: =SUM(F33,L33) -> 0 | S33: =SUM(N33:R33) -> 0 | Y33: =SUM(T33:X33) -> 0 | AE33: =SUM(Z33:AD33) -> 0 | AK33: =SUM(AF33:AJ33) -> 0 | AL33: =SUM(T33,Z33,AF33) -> 0 | AM33: =SUM(U33,AA33,AG33) -> 0 | AN33: =SUM(V33,AB33,AH33) -> 0 | AO33: =SUM(W33,AC33,AI33) -> 0 | AP33: =SUM(X33,AD33,AJ33) -> 0 | AQ33: =SUM(AL33:AP33) -> 0 | AW33: =SUM(AR33:AV33) -> 0 | BD33: =SUM(AX33:BC33) -> 0 | BJ33: =SUM(BE33:BI33) -> 0 | BK33: =SUM(AR33,AX33,BE33) -> 0 | BL33: =SUM(AS33,AY33,BF33) -> 0 | BM33: =SUM(AT33,AZ33,BG33) -> 0 | BN33: =SUM(AU33,BA33,BH33) -> 0 | BO33: =SUM(AV33,BB33,BI33) -> 0 | BP33: =SUM(BC33) -> 0 | BQ33: =SUM(BK33:BP33) -> 0 | BW33: =SUM(BR33:BV33) -> 0 | CC33: =SUM(BX33:CB33) -> 0 | CJ33: =SUM(CD33:CI33) -> 0 | CK33: =SUM(BR33,BX33,CD33) -> 0 | CL33: =SUM(BS33,BY33,CE33) -> 0 | CM33: =SUM(BT33,BZ33,CF33) -> 0 | CN33: =SUM(BU33,CA33,CG33) -> 0 | CO33: =SUM(BV33,CB33,CH33) -> 0 | CP33: =SUM(CI33) -> 0 | CQ33: =SUM(CK33:CP33) -> 0 | CX33: =SUM(CR33:CW33) -> 0 | DE33: =SUM(CY33:DD33) -> 0 | DL33: =SUM(DF33:DK33) -> 0 | DS33: =SUM(DM33:DR33) -> 0 | DT33: =SUM(CR33,CY33,DF33,DM33) -> 0 | DU33: =SUM(CS33,CZ33,DG33,DN33) -> 0 | DV33: =SUM(CT33,DA33,DH33,DO33) -> 0 | DW33: =SUM(CU33,DB33,DI33,DP33) -> 0 | DX33: =SUM(CV33,DC33,DJ33,DQ33) -> 0 | DY33: =SUM(CW33,DD33,DK33,DR33) -> 0 | DZ33: =SUM(DT33:DY33) -> 0 | EF33: =SUM(EA33:EE33) -> 0 | EL33: =SUM(EG33:EK33) -> 0 | ER33: =SUM(EM33:EQ33) -> 0 | EX33: =SUM(ES33:EW33) -> 0 | FD33: =SUM(EY33:FC33) -> 0 | FJ33: =SUM(FE33:FI33) -> 0 | FP33: =SUM(FK33:FO33) -> 0 | FQ33: =SUM(EA33,EG33,EM33,ES33,EY33,FE33,FK33) -> 0 | FR33: =SUM(EB33,EH33,EN33,ET33,EZ33,FF33,FL33) -> 0 | FS33: =SUM(EC33,EI33,EO33,EU33,FA33,FG33,FM33) -> 0 | FT33: =SUM(ED33,EJ33,EP33,EV33,FB33,FH33,FN33) -> 0 | FU33: =SUM(EE33,EK33,EQ33,EW33,FC33,FI33,FO33) -> 0 | FV33: =SUM(FQ33:FU33) -> 0 | GB33: =SUM(FW33:GA33) -> 0 | GH33: =SUM(GC33:GG33) -> 0 | GN33: =SUM(GI33:GM33) -> 0 | GT33: =SUM(GO33:GS33) -> 0 | GZ33: =SUM(GU33:GY33) -> 0 | HF33: =SUM(HA33:HE33) -> 0 | HL33: =SUM(HG33:HK33) -> 0 | HM33: =SUM(FW33,GC33,GI33,GO33,GU33,HA33,HG33) -> 0 | HN33: =SUM(FX33,GD33,GJ33,GP33,GV33,HB33,HH33) -> 0 | HO33: =SUM(FY33,GE33,GK33,GQ33,GW33,HC33,HI33) -> 0 | HP33: =SUM(FZ33,GF33,GL33,GR33,GX33,HD33,HJ33) -> 0 | HQ33: =SUM(GA33,GG33,GM33,GS33,GY33,HE33,HK33) -> 0 | HR33: =SUM(HM33:HQ33) -> 0 | HX33: =SUM(HS33:HW33) -> 0 | ID33: =SUM(HY33:IC33) -> 0 | IJ33: =SUM(IE33:II33) -> 0 | IK33: =SUM(HS33,HY33,IE33) -> 0 | IL33: =SUM(HT33,HZ33,IF33) -> 0 | IM33: =SUM(HU33,IA33,IG33) -> 0 | IN33: =SUM(HV33,IB33,IH33) -> 0 | IO33: =SUM(HW33,IC33,II33) -> 0 | IP33: =SUM(IK33:IO33) -> 0 | IV33: =SUM(IQ33:IU33) -> 0 | JB33: =SUM(IW33:JA33) -> 0 | JH33: =SUM(JC33:JG33) -> 0 | JI33: =SUM(IQ33,IW33,JC33) -> 0 | JJ33: =SUM(IR33,IX33,JD33) -> 0 | JK33: =SUM(IS33,IY33,JE33) -> 0 | JL33: =SUM(IT33,IZ33,JF33) -> 0 | JM33: =SUM(IU33,JA33,JG33) -> 0 | JN33: =SUM(JI33:JM33) -> 0 | JP33: =SUM(N33,AL33,BK33,CK33,DT33,FQ33,HM33,IK33,JI33) -> 0 | JQ33: =SUM(O33,AM33,BL33,CL33,DU33,FR33,HN33,IL33,JJ33) -> 0 | JR33: =SUM(P33,AN33,BM33,CM33,DV33,FS33,HO33,IM33,JK33) -> 0 | JS33: =SUM(Q33,AO33,BN33,CN33,DW33,FT33,HP33,IN33,JL33) -> 0 | JT33: =SUM(R33,AP33,BO33,CO33,DX33,FU33,HQ33,IO33,JM33) -> 0 | JU33: =SUM(BP33,CP33,DY33) -> 0 | JV33: =SUM(JP33:JU33) -> 0
A34: IDI=Pine needle sheathminer | G34: =SUM(B34:F34) -> 0 | M34: =SUM(H34:L34) -> 0 | N34: =SUM(B34,H34) -> 0 | O34: =SUM(C34,I34) -> 0 | P34: =SUM(D34,J34) -> 0 | Q34: =SUM(E34,K34) -> 0 | R34: =SUM(F34,L34) -> 0 | S34: =SUM(N34:R34) -> 0 | Y34: =SUM(T34:X34) -> 0 | AE34: =SUM(Z34:AD34) -> 0 | AK34: =SUM(AF34:AJ34) -> 0 | AL34: =SUM(T34,Z34,AF34) -> 0 | AM34: =SUM(U34,AA34,AG34) -> 0 | AN34: =SUM(V34,AB34,AH34) -> 0 | AO34: =SUM(W34,AC34,AI34) -> 0 | AP34: =SUM(X34,AD34,AJ34) -> 0 | AQ34: =SUM(AL34:AP34) -> 0 | AW34: =SUM(AR34:AV34) -> 0 | BD34: =SUM(AX34:BC34) -> 0 | BJ34: =SUM(BE34:BI34) -> 0 | BK34: =SUM(AR34,AX34,BE34) -> 0 | BL34: =SUM(AS34,AY34,BF34) -> 0 | BM34: =SUM(AT34,AZ34,BG34) -> 0 | BN34: =SUM(AU34,BA34,BH34) -> 0 | BO34: =SUM(AV34,BB34,BI34) -> 0 | BP34: =SUM(BC34) -> 0 | BQ34: =SUM(BK34:BP34) -> 0 | BS34: 18.129448 | BW34: =SUM(BR34:BV34) -> 18.129448 | BY34: 1163.5876 | BZ34: 638.26539 | CC34: =SUM(BX34:CB34) -> 1801.8529 | CE34: 1602.896 | CF34: 74.405772 | CJ34: =SUM(CD34:CI34) -> 1677.3017 | CK34: =SUM(BR34,BX34,CD34) -> 0 | CL34: =SUM(BS34,BY34,CE34) -> 2784.613 | CM34: =SUM(BT34,BZ34,CF34) -> 712.67117 | CN34: =SUM(BU34,CA34,CG34) -> 0 | CO34: =SUM(BV34,CB34,CH34) -> 0 | CP34: =SUM(CI34) -> 0 | CQ34: =SUM(CK34:CP34) -> 3497.2841 | CX34: =SUM(CR34:CW34) -> 0 | DE34: =SUM(CY34:DD34) -> 0 | DL34: =SUM(DF34:DK34) -> 0 | DS34: =SUM(DM34:DR34) -> 0 | DT34: =SUM(CR34,CY34,DF34,DM34) -> 0 | DU34: =SUM(CS34,CZ34,DG34,DN34) -> 0 | DV34: =SUM(CT34,DA34,DH34,DO34) -> 0 | DW34: =SUM(CU34,DB34,DI34,DP34) -> 0 | DX34: =SUM(CV34,DC34,DJ34,DQ34) -> 0 | DY34: =SUM(CW34,DD34,DK34,DR34) -> 0 | DZ34: =SUM(DT34:DY34) -> 0 | EF34: =SUM(EA34:EE34) -> 0 | EL34: =SUM(EG34:EK34) -> 0 | ER34: =SUM(EM34:EQ34) -> 0 | EX34: =SUM(ES34:EW34) -> 0 | FD34: =SUM(EY34:FC34) -> 0 | FJ34: =SUM(FE34:FI34) -> 0 | FP34: =SUM(FK34:FO34) -> 0 | FQ34: =SUM(EA34,EG34,EM34,ES34,EY34,FE34,FK34) -> 0 | FR34: =SUM(EB34,EH34,EN34,ET34,EZ34,FF34,FL34) -> 0 | FS34: =SUM(EC34,EI34,EO34,EU34,FA34,FG34,FM34) -> 0 | FT34: =SUM(ED34,EJ34,EP34,EV34,FB34,FH34,FN34) -> 0 | FU34: =SUM(EE34,EK34,EQ34,EW34,FC34,FI34,FO34) -> 0 | FV34: =SUM(FQ34:FU34) -> 0 | GB34: =SUM(FW34:GA34) -> 0 | GH34: =SUM(GC34:GG34) -> 0 | GN34: =SUM(GI34:GM34) -> 0 | GT34: =SUM(GO34:GS34) -> 0 | GZ34: =SUM(GU34:GY34) -> 0 | HF34: =SUM(HA34:HE34) -> 0 | HL34: =SUM(HG34:HK34) -> 0 | HM34: =SUM(FW34,GC34,GI34,GO34,GU34,HA34,HG34) -> 0 | HN34: =SUM(FX34,GD34,GJ34,GP34,GV34,HB34,HH34) -> 0 | HO34: =SUM(FY34,GE34,GK34,GQ34,GW34,HC34,HI34) -> 0 | HP34: =SUM(FZ34,GF34,GL34,GR34,GX34,HD34,HJ34) -> 0 | HQ34: =SUM(GA34,GG34,GM34,GS34,GY34,HE34,HK34) -> 0 | HR34: =SUM(HM34:HQ34) -> 0 | HX34: =SUM(HS34:HW34) -> 0 | ID34: =SUM(HY34:IC34) -> 0 | IF34: 354.04533 | IG34: 92.020779 | IJ34: =SUM(IE34:II34) -> 446.06611 | IK34: =SUM(HS34,HY34,IE34) -> 0 | IL34: =SUM(HT34,HZ34,IF34) -> 354.04533 | IM34: =SUM(HU34,IA34,IG34) -> 92.020779 | IN34: =SUM(HV34,IB34,IH34) -> 0 | IO34: =SUM(HW34,IC34,II34) -> 0 | IP34: =SUM(IK34:IO34) -> 446.06611 | IV34: =SUM(IQ34:IU34) -> 0 | JB34: =SUM(IW34:JA34) -> 0 | JH34: =SUM(JC34:JG34) -> 0 | JI34: =SUM(IQ34,IW34,JC34) -> 0 | JJ34: =SUM(IR34,IX34,JD34) -> 0 | JK34: =SUM(IS34,IY34,JE34) -> 0 | JL34: =SUM(IT34,IZ34,JF34) -> 0 | JM34: =SUM(IU34,JA34,JG34) -> 0 | JN34: =SUM(JI34:JM34) -> 0 | JP34: =SUM(N34,AL34,BK34,CK34,DT34,FQ34,HM34,IK34,JI34) -> 0 | JQ34: =SUM(O34,AM34,BL34,CL34,DU34,FR34,HN34,IL34,JJ34) -> 3138.6583 | JR34: =SUM(P34,AN34,BM34,CM34,DV34,FS34,HO34,IM34,JK34) -> 804.69194 | JS34: =SUM(Q34,AO34,BN34,CN34,DW34,FT34,HP34,IN34,JL34) -> 0 | JT34: =SUM(R34,AP34,BO34,CO34,DX34,FU34,HQ34,IO34,JM34) -> 0 | JU34: =SUM(BP34,CP34,DY34) -> 0 | JV34: =SUM(JP34:JU34) -> 3943.3502
A35: IDK=Northern Tent Caterpillar | G35: =SUM(B35:F35) -> 0 | M35: =SUM(H35:L35) -> 0 | N35: =SUM(B35,H35) -> 0 | O35: =SUM(C35,I35) -> 0 | P35: =SUM(D35,J35) -> 0 | Q35: =SUM(E35,K35) -> 0 | R35: =SUM(F35,L35) -> 0 | S35: =SUM(N35:R35) -> 0 | Y35: =SUM(T35:X35) -> 0 | AE35: =SUM(Z35:AD35) -> 0 | AK35: =SUM(AF35:AJ35) -> 0 | AL35: =SUM(T35,Z35,AF35) -> 0 | AM35: =SUM(U35,AA35,AG35) -> 0 | AN35: =SUM(V35,AB35,AH35) -> 0 | AO35: =SUM(W35,AC35,AI35) -> 0 | AP35: =SUM(X35,AD35,AJ35) -> 0 | AQ35: =SUM(AL35:AP35) -> 0 | AW35: =SUM(AR35:AV35) -> 0 | BD35: =SUM(AX35:BC35) -> 0 | BJ35: =SUM(BE35:BI35) -> 0 | BK35: =SUM(AR35,AX35,BE35) -> 0 | BL35: =SUM(AS35,AY35,BF35) -> 0 | BM35: =SUM(AT35,AZ35,BG35) -> 0 | BN35: =SUM(AU35,BA35,BH35) -> 0 | BO35: =SUM(AV35,BB35,BI35) -> 0 | BP35: =SUM(BC35) -> 0 | BQ35: =SUM(BK35:BP35) -> 0 | BW35: =SUM(BR35:BV35) -> 0 | CC35: =SUM(BX35:CB35) -> 0 | CJ35: =SUM(CD35:CI35) -> 0 | CK35: =SUM(BR35,BX35,CD35) -> 0 | CL35: =SUM(BS35,BY35,CE35) -> 0 | CM35: =SUM(BT35,BZ35,CF35) -> 0 | CN35: =SUM(BU35,CA35,CG35) -> 0 | CO35: =SUM(BV35,CB35,CH35) -> 0 | CP35: =SUM(CI35) -> 0 | CQ35: =SUM(CK35:CP35) -> 0 | CX35: =SUM(CR35:CW35) -> 0 | DE35: =SUM(CY35:DD35) -> 0 | DL35: =SUM(DF35:DK35) -> 0 | DS35: =SUM(DM35:DR35) -> 0 | DT35: =SUM(CR35,CY35,DF35,DM35) -> 0 | DU35: =SUM(CS35,CZ35,DG35,DN35) -> 0 | DV35: =SUM(CT35,DA35,DH35,DO35) -> 0 | DW35: =SUM(CU35,DB35,DI35,DP35) -> 0 | DX35: =SUM(CV35,DC35,DJ35,DQ35) -> 0 | DY35: =SUM(CW35,DD35,DK35,DR35) -> 0 | DZ35: =SUM(DT35:DY35) -> 0 | EF35: =SUM(EA35:EE35) -> 0 | EL35: =SUM(EG35:EK35) -> 0 | ER35: =SUM(EM35:EQ35) -> 0 | EX35: =SUM(ES35:EW35) -> 0 | FD35: =SUM(EY35:FC35) -> 0 | FJ35: =SUM(FE35:FI35) -> 0 | FP35: =SUM(FK35:FO35) -> 0 | FQ35: =SUM(EA35,EG35,EM35,ES35,EY35,FE35,FK35) -> 0 | FR35: =SUM(EB35,EH35,EN35,ET35,EZ35,FF35,FL35) -> 0 | FS35: =SUM(EC35,EI35,EO35,EU35,FA35,FG35,FM35) -> 0 | FT35: =SUM(ED35,EJ35,EP35,EV35,FB35,FH35,FN35) -> 0 | FU35: =SUM(EE35,EK35,EQ35,EW35,FC35,FI35,FO35) -> 0 | FV35: =SUM(FQ35:FU35) -> 0 | GB35: =SUM(FW35:GA35) -> 0 | GH35: =SUM(GC35:GG35) -> 0 | GN35: =SUM(GI35:GM35) -> 0 | GT35: =SUM(GO35:GS35) -> 0 | GZ35: =SUM(GU35:GY35) -> 0 | HF35: =SUM(HA35:HE35) -> 0 | HL35: =SUM(HG35:HK35) -> 0 | HM35: =SUM(FW35,GC35,GI35,GO35,GU35,HA35,HG35) -> 0 | HN35: =SUM(FX35,GD35,GJ35,GP35,GV35,HB35,HH35) -> 0 | HO35: =SUM(FY35,GE35,GK35,GQ35,GW35,HC35,HI35) -> 0 | HP35: =SUM(FZ35,GF35,GL35,GR35,GX35,HD35,HJ35) -> 0 | HQ35: =SUM(GA35,GG35,GM35,GS35,GY35,HE35,HK35) -> 0 | HR35: =SUM(HM35:HQ35) -> 0 | HX35: =SUM(HS35:HW35) -> 0 | ID35: =SUM(HY35:IC35) -> 0 | IJ35: =SUM(IE35:II35) -> 0 | IK35: =SUM(HS35,HY35,IE35) -> 0 | IL35: =SUM(HT35,HZ35,IF35) -> 0 | IM35: =SUM(HU35,IA35,IG35) -> 0 | IN35: =SUM(HV35,IB35,IH35) -> 0 | IO35: =SUM(HW35,IC35,II35) -> 0 | IP35: =SUM(IK35:IO35) -> 0 | IV35: =SUM(IQ35:IU35) -> 0 | JB35: =SUM(IW35:JA35) -> 0 | JH35: =SUM(JC35:JG35) -> 0 | JI35: =SUM(IQ35,IW35,JC35) -> 0 | JJ35: =SUM(IR35,IX35,JD35) -> 0 | JK35: =SUM(IS35,IY35,JE35) -> 0 | JL35: =SUM(IT35,IZ35,JF35) -> 0 | JM35: =SUM(IU35,JA35,JG35) -> 0 | JN35: =SUM(JI35:JM35) -> 0 | JP35: =SUM(N35,AL35,BK35,CK35,DT35,FQ35,HM35,IK35,JI35) -> 0 | JQ35: =SUM(O35,AM35,BL35,CL35,DU35,FR35,HN35,IL35,JJ35) -> 0 | JR35: =SUM(P35,AN35,BM35,CM35,DV35,FS35,HO35,IM35,JK35) -> 0 | JS35: =SUM(Q35,AO35,BN35,CN35,DW35,FT35,HP35,IN35,JL35) -> 0 | JT35: =SUM(R35,AP35,BO35,CO35,DX35,FU35,HQ35,IO35,JM35) -> 0 | JU35: =SUM(BP35,CP35,DY35) -> 0 | JV35: =SUM(JP35:JU35) -> 0
A36: IDL=Western Hemlock Looper | G36: =SUM(B36:F36) -> 0 | M36: =SUM(H36:L36) -> 0 | N36: =SUM(B36,H36) -> 0 | O36: =SUM(C36,I36) -> 0 | P36: =SUM(D36,J36) -> 0 | Q36: =SUM(E36,K36) -> 0 | R36: =SUM(F36,L36) -> 0 | S36: =SUM(N36:R36) -> 0 | Y36: =SUM(T36:X36) -> 0 | AE36: =SUM(Z36:AD36) -> 0 | AK36: =SUM(AF36:AJ36) -> 0 | AL36: =SUM(T36,Z36,AF36) -> 0 | AM36: =SUM(U36,AA36,AG36) -> 0 | AN36: =SUM(V36,AB36,AH36) -> 0 | AO36: =SUM(W36,AC36,AI36) -> 0 | AP36: =SUM(X36,AD36,AJ36) -> 0 | AQ36: =SUM(AL36:AP36) -> 0 | AW36: =SUM(AR36:AV36) -> 0 | BD36: =SUM(AX36:BC36) -> 0 | BJ36: =SUM(BE36:BI36) -> 0 | BK36: =SUM(AR36,AX36,BE36) -> 0 | BL36: =SUM(AS36,AY36,BF36) -> 0 | BM36: =SUM(AT36,AZ36,BG36) -> 0 | BN36: =SUM(AU36,BA36,BH36) -> 0 | BO36: =SUM(AV36,BB36,BI36) -> 0 | BP36: =SUM(BC36) -> 0 | BQ36: =SUM(BK36:BP36) -> 0 | BW36: =SUM(BR36:BV36) -> 0 | CC36: =SUM(BX36:CB36) -> 0 | CJ36: =SUM(CD36:CI36) -> 0 | CK36: =SUM(BR36,BX36,CD36) -> 0 | CL36: =SUM(BS36,BY36,CE36) -> 0 | CM36: =SUM(BT36,BZ36,CF36) -> 0 | CN36: =SUM(BU36,CA36,CG36) -> 0 | CO36: =SUM(BV36,CB36,CH36) -> 0 | CP36: =SUM(CI36) -> 0 | CQ36: =SUM(CK36:CP36) -> 0 | CX36: =SUM(CR36:CW36) -> 0 | DE36: =SUM(CY36:DD36) -> 0 | DL36: =SUM(DF36:DK36) -> 0 | DS36: =SUM(DM36:DR36) -> 0 | DT36: =SUM(CR36,CY36,DF36,DM36) -> 0 | DU36: =SUM(CS36,CZ36,DG36,DN36) -> 0 | DV36: =SUM(CT36,DA36,DH36,DO36) -> 0 | DW36: =SUM(CU36,DB36,DI36,DP36) -> 0 | DX36: =SUM(CV36,DC36,DJ36,DQ36) -> 0 | DY36: =SUM(CW36,DD36,DK36,DR36) -> 0 | DZ36: =SUM(DT36:DY36) -> 0 | EF36: =SUM(EA36:EE36) -> 0 | EL36: =SUM(EG36:EK36) -> 0 | ER36: =SUM(EM36:EQ36) -> 0 | EX36: =SUM(ES36:EW36) -> 0 | FD36: =SUM(EY36:FC36) -> 0 | FJ36: =SUM(FE36:FI36) -> 0 | FP36: =SUM(FK36:FO36) -> 0 | FQ36: =SUM(EA36,EG36,EM36,ES36,EY36,FE36,FK36) -> 0 | FR36: =SUM(EB36,EH36,EN36,ET36,EZ36,FF36,FL36) -> 0 | FS36: =SUM(EC36,EI36,EO36,EU36,FA36,FG36,FM36) -> 0 | FT36: =SUM(ED36,EJ36,EP36,EV36,FB36,FH36,FN36) -> 0 | FU36: =SUM(EE36,EK36,EQ36,EW36,FC36,FI36,FO36) -> 0 | FV36: =SUM(FQ36:FU36) -> 0 | GB36: =SUM(FW36:GA36) -> 0 | GH36: =SUM(GC36:GG36) -> 0 | GN36: =SUM(GI36:GM36) -> 0 | GT36: =SUM(GO36:GS36) -> 0 | GZ36: =SUM(GU36:GY36) -> 0 | HF36: =SUM(HA36:HE36) -> 0 | HL36: =SUM(HG36:HK36) -> 0 | HM36: =SUM(FW36,GC36,GI36,GO36,GU36,HA36,HG36) -> 0 | HN36: =SUM(FX36,GD36,GJ36,GP36,GV36,HB36,HH36) -> 0 | HO36: =SUM(FY36,GE36,GK36,GQ36,GW36,HC36,HI36) -> 0 | HP36: =SUM(FZ36,GF36,GL36,GR36,GX36,HD36,HJ36) -> 0 | HQ36: =SUM(GA36,GG36,GM36,GS36,GY36,HE36,HK36) -> 0 | HR36: =SUM(HM36:HQ36) -> 0 | HX36: =SUM(HS36:HW36) -> 0 | ID36: =SUM(HY36:IC36) -> 0 | IJ36: =SUM(IE36:II36) -> 0 | IK36: =SUM(HS36,HY36,IE36) -> 0 | IL36: =SUM(HT36,HZ36,IF36) -> 0 | IM36: =SUM(HU36,IA36,IG36) -> 0 | IN36: =SUM(HV36,IB36,IH36) -> 0 | IO36: =SUM(HW36,IC36,II36) -> 0 | IP36: =SUM(IK36:IO36) -> 0 | IV36: =SUM(IQ36:IU36) -> 0 | JB36: =SUM(IW36:JA36) -> 0 | JH36: =SUM(JC36:JG36) -> 0 | JI36: =SUM(IQ36,IW36,JC36) -> 0 | JJ36: =SUM(IR36,IX36,JD36) -> 0 | JK36: =SUM(IS36,IY36,JE36) -> 0 | JL36: =SUM(IT36,IZ36,JF36) -> 0 | JM36: =SUM(IU36,JA36,JG36) -> 0 | JN36: =SUM(JI36:JM36) -> 0 | JP36: =SUM(N36,AL36,BK36,CK36,DT36,FQ36,HM36,IK36,JI36) -> 0 | JQ36: =SUM(O36,AM36,BL36,CL36,DU36,FR36,HN36,IL36,JJ36) -> 0 | JR36: =SUM(P36,AN36,BM36,CM36,DV36,FS36,HO36,IM36,JK36) -> 0 | JS36: =SUM(Q36,AO36,BN36,CN36,DW36,FT36,HP36,IN36,JL36) -> 0 | JT36: =SUM(R36,AP36,BO36,CO36,DX36,FU36,HQ36,IO36,JM36) -> 0 | JU36: =SUM(BP36,CP36,DY36) -> 0 | JV36: =SUM(JP36:JU36) -> 0
A37: IDN=Birch Leaf Miner | G37: =SUM(B37:F37) -> 0 | M37: =SUM(H37:L37) -> 0 | N37: =SUM(B37,H37) -> 0 | O37: =SUM(C37,I37) -> 0 | P37: =SUM(D37,J37) -> 0 | Q37: =SUM(E37,K37) -> 0 | R37: =SUM(F37,L37) -> 0 | S37: =SUM(N37:R37) -> 0 | Y37: =SUM(T37:X37) -> 0 | AE37: =SUM(Z37:AD37) -> 0 | AK37: =SUM(AF37:AJ37) -> 0 | AL37: =SUM(T37,Z37,AF37) -> 0 | AM37: =SUM(U37,AA37,AG37) -> 0 | AN37: =SUM(V37,AB37,AH37) -> 0 | AO37: =SUM(W37,AC37,AI37) -> 0 | AP37: =SUM(X37,AD37,AJ37) -> 0 | AQ37: =SUM(AL37:AP37) -> 0 | AW37: =SUM(AR37:AV37) -> 0 | BD37: =SUM(AX37:BC37) -> 0 | BJ37: =SUM(BE37:BI37) -> 0 | BK37: =SUM(AR37,AX37,BE37) -> 0 | BL37: =SUM(AS37,AY37,BF37) -> 0 | BM37: =SUM(AT37,AZ37,BG37) -> 0 | BN37: =SUM(AU37,BA37,BH37) -> 0 | BO37: =SUM(AV37,BB37,BI37) -> 0 | BP37: =SUM(BC37) -> 0 | BQ37: =SUM(BK37:BP37) -> 0 | BS37: 36.807029 | BT37: 10.330054 | BW37: =SUM(BR37:BV37) -> 47.137083 | CC37: =SUM(BX37:CB37) -> 0 | CJ37: =SUM(CD37:CI37) -> 0 | CK37: =SUM(BR37,BX37,CD37) -> 0 | CL37: =SUM(BS37,BY37,CE37) -> 36.807029 | CM37: =SUM(BT37,BZ37,CF37) -> 10.330054 | CN37: =SUM(BU37,CA37,CG37) -> 0 | CO37: =SUM(BV37,CB37,CH37) -> 0 | CP37: =SUM(CI37) -> 0 | CQ37: =SUM(CK37:CP37) -> 47.137083 | CS37: 131.92188 | CT37: 2125.219 | CU37: 210.44425 | CX37: =SUM(CR37:CW37) -> 2467.5851 | DE37: =SUM(CY37:DD37) -> 0 | DL37: =SUM(DF37:DK37) -> 0 | DN37: 309.00009 | DO37: 626.34391 | DS37: =SUM(DM37:DR37) -> 935.344 | DT37: =SUM(CR37,CY37,DF37,DM37) -> 0 | DU37: =SUM(CS37,CZ37,DG37,DN37) -> 440.92198 | DV37: =SUM(CT37,DA37,DH37,DO37) -> 2751.5629 | DW37: =SUM(CU37,DB37,DI37,DP37) -> 210.44425 | DX37: =SUM(CV37,DC37,DJ37,DQ37) -> 0 | DY37: =SUM(CW37,DD37,DK37,DR37) -> 0 | DZ37: =SUM(DT37:DY37) -> 3402.9291 | EB37: 154.83144 | EC37: 219.43638 | EF37: =SUM(EA37:EE37) -> 374.26782 | EL37: =SUM(EG37:EK37) -> 0 | EN37: 92.516236 | EO37: 52.136802 | ER37: =SUM(EM37:EQ37) -> 144.65304 | EX37: =SUM(ES37:EW37) -> 0 | FA37: 22.696897 | FD37: =SUM(EY37:FC37) -> 22.696897 | FF37: 81.768072 | FG37: 239.53448 | FJ37: =SUM(FE37:FI37) -> 321.30256 | FL37: 38.757646 | FM37: 51.125025 | FP37: =SUM(FK37:FO37) -> 89.882671 | FQ37: =SUM(EA37,EG37,EM37,ES37,EY37,FE37,FK37) -> 0 | FR37: =SUM(EB37,EH37,EN37,ET37,EZ37,FF37,FL37) -> 367.8734 | FS37: =SUM(EC37,EI37,EO37,EU37,FA37,FG37,FM37) -> 584.92958 | FT37: =SUM(ED37,EJ37,EP37,EV37,FB37,FH37,FN37) -> 0 | FU37: =SUM(EE37,EK37,EQ37,EW37,FC37,FI37,FO37) -> 0 | FV37: =SUM(FQ37:FU37) -> 952.80298 | GB37: =SUM(FW37:GA37) -> 0 | GH37: =SUM(GC37:GG37) -> 0 | GN37: =SUM(GI37:GM37) -> 0 | GT37: =SUM(GO37:GS37) -> 0 | GZ37: =SUM(GU37:GY37) -> 0 | HF37: =SUM(HA37:HE37) -> 0 | HL37: =SUM(HG37:HK37) -> 0 | HM37: =SUM(FW37,GC37,GI37,GO37,GU37,HA37,HG37) -> 0 | HN37: =SUM(FX37,GD37,GJ37,GP37,GV37,HB37,HH37) -> 0 | HO37: =SUM(FY37,GE37,GK37,GQ37,GW37,HC37,HI37) -> 0 | HP37: =SUM(FZ37,GF37,GL37,GR37,GX37,HD37,HJ37) -> 0 | HQ37: =SUM(GA37,GG37,GM37,GS37,GY37,HE37,HK37) -> 0 | HR37: =SUM(HM37:HQ37) -> 0 | HX37: =SUM(HS37:HW37) -> 0 | IA37: 309.55348 | IB37: 4078.0326 | ID37: =SUM(HY37:IC37) -> 4387.5861 | IJ37: =SUM(IE37:II37) -> 0 | IK37: =SUM(HS37,HY37,IE37) -> 0 | IL37: =SUM(HT37,HZ37,IF37) -> 0 | IM37: =SUM(HU37,IA37,IG37) -> 309.55348 | IN37: =SUM(HV37,IB37,IH37) -> 4078.0326 | IO37: =SUM(HW37,IC37,II37) -> 0 | IP37: =SUM(IK37:IO37) -> 4387.5861 | IV37: =SUM(IQ37:IU37) -> 0 | IY37: 85.678987 | JB37: =SUM(IW37:JA37) -> 85.678987 | JE37: 2.8094047 | JH37: =SUM(JC37:JG37) -> 2.8094047 | JI37: =SUM(IQ37,IW37,JC37) -> 0 | JJ37: =SUM(IR37,IX37,JD37) -> 0 | JK37: =SUM(IS37,IY37,JE37) -> 88.488392 | JL37: =SUM(IT37,IZ37,JF37) -> 0 | JM37: =SUM(IU37,JA37,JG37) -> 0 | JN37: =SUM(JI37:JM37) -> 88.488392 | JP37: =SUM(N37,AL37,BK37,CK37,DT37,FQ37,HM37,IK37,JI37) -> 0 | JQ37: =SUM(O37,AM37,BL37,CL37,DU37,FR37,HN37,IL37,JJ37) -> 845.6024 | JR37: =SUM(P37,AN37,BM37,CM37,DV37,FS37,HO37,IM37,JK37) -> 3744.8644 | JS37: =SUM(Q37,AO37,BN37,CN37,DW37,FT37,HP37,IN37,JL37) -> 4288.4769 | JT37: =SUM(R37,AP37,BO37,CO37,DX37,FU37,HQ37,IO37,JM37) -> 0 | JU37: =SUM(BP37,CP37,DY37) -> 0 | JV37: =SUM(JP37:JU37) -> 8878.9437
A38: IDP=Larch Sawfly | G38: =SUM(B38:F38) -> 0 | M38: =SUM(H38:L38) -> 0 | N38: =SUM(B38,H38) -> 0 | O38: =SUM(C38,I38) -> 0 | P38: =SUM(D38,J38) -> 0 | Q38: =SUM(E38,K38) -> 0 | R38: =SUM(F38,L38) -> 0 | S38: =SUM(N38:R38) -> 0 | Y38: =SUM(T38:X38) -> 0 | AE38: =SUM(Z38:AD38) -> 0 | AK38: =SUM(AF38:AJ38) -> 0 | AL38: =SUM(T38,Z38,AF38) -> 0 | AM38: =SUM(U38,AA38,AG38) -> 0 | AN38: =SUM(V38,AB38,AH38) -> 0 | AO38: =SUM(W38,AC38,AI38) -> 0 | AP38: =SUM(X38,AD38,AJ38) -> 0 | AQ38: =SUM(AL38:AP38) -> 0 | AW38: =SUM(AR38:AV38) -> 0 | BD38: =SUM(AX38:BC38) -> 0 | BJ38: =SUM(BE38:BI38) -> 0 | BK38: =SUM(AR38,AX38,BE38) -> 0 | BL38: =SUM(AS38,AY38,BF38) -> 0 | BM38: =SUM(AT38,AZ38,BG38) -> 0 | BN38: =SUM(AU38,BA38,BH38) -> 0 | BO38: =SUM(AV38,BB38,BI38) -> 0 | BP38: =SUM(BC38) -> 0 | BQ38: =SUM(BK38:BP38) -> 0 | BW38: =SUM(BR38:BV38) -> 0 | CC38: =SUM(BX38:CB38) -> 0 | CJ38: =SUM(CD38:CI38) -> 0 | CK38: =SUM(BR38,BX38,CD38) -> 0 | CL38: =SUM(BS38,BY38,CE38) -> 0 | CM38: =SUM(BT38,BZ38,CF38) -> 0 | CN38: =SUM(BU38,CA38,CG38) -> 0 | CO38: =SUM(BV38,CB38,CH38) -> 0 | CP38: =SUM(CI38) -> 0 | CQ38: =SUM(CK38:CP38) -> 0 | CX38: =SUM(CR38:CW38) -> 0 | DE38: =SUM(CY38:DD38) -> 0 | DL38: =SUM(DF38:DK38) -> 0 | DS38: =SUM(DM38:DR38) -> 0 | DT38: =SUM(CR38,CY38,DF38,DM38) -> 0 | DU38: =SUM(CS38,CZ38,DG38,DN38) -> 0 | DV38: =SUM(CT38,DA38,DH38,DO38) -> 0 | DW38: =SUM(CU38,DB38,DI38,DP38) -> 0 | DX38: =SUM(CV38,DC38,DJ38,DQ38) -> 0 | DY38: =SUM(CW38,DD38,DK38,DR38) -> 0 | DZ38: =SUM(DT38:DY38) -> 0 | EF38: =SUM(EA38:EE38) -> 0 | EL38: =SUM(EG38:EK38) -> 0 | ER38: =SUM(EM38:EQ38) -> 0 | EX38: =SUM(ES38:EW38) -> 0 | FD38: =SUM(EY38:FC38) -> 0 | FJ38: =SUM(FE38:FI38) -> 0 | FP38: =SUM(FK38:FO38) -> 0 | FQ38: =SUM(EA38,EG38,EM38,ES38,EY38,FE38,FK38) -> 0 | FR38: =SUM(EB38,EH38,EN38,ET38,EZ38,FF38,FL38) -> 0 | FS38: =SUM(EC38,EI38,EO38,EU38,FA38,FG38,FM38) -> 0 | FT38: =SUM(ED38,EJ38,EP38,EV38,FB38,FH38,FN38) -> 0 | FU38: =SUM(EE38,EK38,EQ38,EW38,FC38,FI38,FO38) -> 0 | FV38: =SUM(FQ38:FU38) -> 0 | GB38: =SUM(FW38:GA38) -> 0 | GH38: =SUM(GC38:GG38) -> 0 | GN38: =SUM(GI38:GM38) -> 0 | GT38: =SUM(GO38:GS38) -> 0 | GZ38: =SUM(GU38:GY38) -> 0 | HF38: =SUM(HA38:HE38) -> 0 | HL38: =SUM(HG38:HK38) -> 0 | HM38: =SUM(FW38,GC38,GI38,GO38,GU38,HA38,HG38) -> 0 | HN38: =SUM(FX38,GD38,GJ38,GP38,GV38,HB38,HH38) -> 0 | HO38: =SUM(FY38,GE38,GK38,GQ38,GW38,HC38,HI38) -> 0 | HP38: =SUM(FZ38,GF38,GL38,GR38,GX38,HD38,HJ38) -> 0 | HQ38: =SUM(GA38,GG38,GM38,GS38,GY38,HE38,HK38) -> 0 | HR38: =SUM(HM38:HQ38) -> 0 | HX38: =SUM(HS38:HW38) -> 0 | ID38: =SUM(HY38:IC38) -> 0 | IJ38: =SUM(IE38:II38) -> 0 | IK38: =SUM(HS38,HY38,IE38) -> 0 | IL38: =SUM(HT38,HZ38,IF38) -> 0 | IM38: =SUM(HU38,IA38,IG38) -> 0 | IN38: =SUM(HV38,IB38,IH38) -> 0 | IO38: =SUM(HW38,IC38,II38) -> 0 | IP38: =SUM(IK38:IO38) -> 0 | IV38: =SUM(IQ38:IU38) -> 0 | JB38: =SUM(IW38:JA38) -> 0 | JH38: =SUM(JC38:JG38) -> 0 | JI38: =SUM(IQ38,IW38,JC38) -> 0 | JJ38: =SUM(IR38,IX38,JD38) -> 0 | JK38: =SUM(IS38,IY38,JE38) -> 0 | JL38: =SUM(IT38,IZ38,JF38) -> 0 | JM38: =SUM(IU38,JA38,JG38) -> 0 | JN38: =SUM(JI38:JM38) -> 0 | JP38: =SUM(N38,AL38,BK38,CK38,DT38,FQ38,HM38,IK38,JI38) -> 0 | JQ38: =SUM(O38,AM38,BL38,CL38,DU38,FR38,HN38,IL38,JJ38) -> 0 | JR38: =SUM(P38,AN38,BM38,CM38,DV38,FS38,HO38,IM38,JK38) -> 0 | JS38: =SUM(Q38,AO38,BN38,CN38,DW38,FT38,HP38,IN38,JL38) -> 0 | JT38: =SUM(R38,AP38,BO38,CO38,DX38,FU38,HQ38,IO38,JM38) -> 0 | JU38: =SUM(BP38,CP38,DY38) -> 0 | JV38: =SUM(JP38:JU38) -> 0
A39: IDR=Alder Sawfly | G39: =SUM(B39:F39) -> 0 | M39: =SUM(H39:L39) -> 0 | N39: =SUM(B39,H39) -> 0 | O39: =SUM(C39,I39) -> 0 | P39: =SUM(D39,J39) -> 0 | Q39: =SUM(E39,K39) -> 0 | R39: =SUM(F39,L39) -> 0 | S39: =SUM(N39:R39) -> 0 | Y39: =SUM(T39:X39) -> 0 | AE39: =SUM(Z39:AD39) -> 0 | AK39: =SUM(AF39:AJ39) -> 0 | AL39: =SUM(T39,Z39,AF39) -> 0 | AM39: =SUM(U39,AA39,AG39) -> 0 | AN39: =SUM(V39,AB39,AH39) -> 0 | AO39: =SUM(W39,AC39,AI39) -> 0 | AP39: =SUM(X39,AD39,AJ39) -> 0 | AQ39: =SUM(AL39:AP39) -> 0 | AW39: =SUM(AR39:AV39) -> 0 | BD39: =SUM(AX39:BC39) -> 0 | BJ39: =SUM(BE39:BI39) -> 0 | BK39: =SUM(AR39,AX39,BE39) -> 0 | BL39: =SUM(AS39,AY39,BF39) -> 0 | BM39: =SUM(AT39,AZ39,BG39) -> 0 | BN39: =SUM(AU39,BA39,BH39) -> 0 | BO39: =SUM(AV39,BB39,BI39) -> 0 | BP39: =SUM(BC39) -> 0 | BQ39: =SUM(BK39:BP39) -> 0 | BW39: =SUM(BR39:BV39) -> 0 | CC39: =SUM(BX39:CB39) -> 0 | CJ39: =SUM(CD39:CI39) -> 0 | CK39: =SUM(BR39,BX39,CD39) -> 0 | CL39: =SUM(BS39,BY39,CE39) -> 0 | CM39: =SUM(BT39,BZ39,CF39) -> 0 | CN39: =SUM(BU39,CA39,CG39) -> 0 | CO39: =SUM(BV39,CB39,CH39) -> 0 | CP39: =SUM(CI39) -> 0 | CQ39: =SUM(CK39:CP39) -> 0 | CX39: =SUM(CR39:CW39) -> 0 | DE39: =SUM(CY39:DD39) -> 0 | DL39: =SUM(DF39:DK39) -> 0 | DS39: =SUM(DM39:DR39) -> 0 | DT39: =SUM(CR39,CY39,DF39,DM39) -> 0 | DU39: =SUM(CS39,CZ39,DG39,DN39) -> 0 | DV39: =SUM(CT39,DA39,DH39,DO39) -> 0 | DW39: =SUM(CU39,DB39,DI39,DP39) -> 0 | DX39: =SUM(CV39,DC39,DJ39,DQ39) -> 0 | DY39: =SUM(CW39,DD39,DK39,DR39) -> 0 | DZ39: =SUM(DT39:DY39) -> 0 | EF39: =SUM(EA39:EE39) -> 0 | EL39: =SUM(EG39:EK39) -> 0 | ER39: =SUM(EM39:EQ39) -> 0 | EX39: =SUM(ES39:EW39) -> 0 | FD39: =SUM(EY39:FC39) -> 0 | FJ39: =SUM(FE39:FI39) -> 0 | FP39: =SUM(FK39:FO39) -> 0 | FQ39: =SUM(EA39,EG39,EM39,ES39,EY39,FE39,FK39) -> 0 | FR39: =SUM(EB39,EH39,EN39,ET39,EZ39,FF39,FL39) -> 0 | FS39: =SUM(EC39,EI39,EO39,EU39,FA39,FG39,FM39) -> 0 | FT39: =SUM(ED39,EJ39,EP39,EV39,FB39,FH39,FN39) -> 0 | FU39: =SUM(EE39,EK39,EQ39,EW39,FC39,FI39,FO39) -> 0 | FV39: =SUM(FQ39:FU39) -> 0 | GB39: =SUM(FW39:GA39) -> 0 | GH39: =SUM(GC39:GG39) -> 0 | GN39: =SUM(GI39:GM39) -> 0 | GT39: =SUM(GO39:GS39) -> 0 | GZ39: =SUM(GU39:GY39) -> 0 | HF39: =SUM(HA39:HE39) -> 0 | HL39: =SUM(HG39:HK39) -> 0 | HM39: =SUM(FW39,GC39,GI39,GO39,GU39,HA39,HG39) -> 0 | HN39: =SUM(FX39,GD39,GJ39,GP39,GV39,HB39,HH39) -> 0 | HO39: =SUM(FY39,GE39,GK39,GQ39,GW39,HC39,HI39) -> 0 | HP39: =SUM(FZ39,GF39,GL39,GR39,GX39,HD39,HJ39) -> 0 | HQ39: =SUM(GA39,GG39,GM39,GS39,GY39,HE39,HK39) -> 0 | HR39: =SUM(HM39:HQ39) -> 0 | HX39: =SUM(HS39:HW39) -> 0 | ID39: =SUM(HY39:IC39) -> 0 | IJ39: =SUM(IE39:II39) -> 0 | IK39: =SUM(HS39,HY39,IE39) -> 0 | IL39: =SUM(HT39,HZ39,IF39) -> 0 | IM39: =SUM(HU39,IA39,IG39) -> 0 | IN39: =SUM(HV39,IB39,IH39) -> 0 | IO39: =SUM(HW39,IC39,II39) -> 0 | IP39: =SUM(IK39:IO39) -> 0 | IV39: =SUM(IQ39:IU39) -> 0 | JB39: =SUM(IW39:JA39) -> 0 | JH39: =SUM(JC39:JG39) -> 0 | JI39: =SUM(IQ39,IW39,JC39) -> 0 | JJ39: =SUM(IR39,IX39,JD39) -> 0 | JK39: =SUM(IS39,IY39,JE39) -> 0 | JL39: =SUM(IT39,IZ39,JF39) -> 0 | JM39: =SUM(IU39,JA39,JG39) -> 0 | JN39: =SUM(JI39:JM39) -> 0 | JP39: =SUM(N39,AL39,BK39,CK39,DT39,FQ39,HM39,IK39,JI39) -> 0 | JQ39: =SUM(O39,AM39,BL39,CL39,DU39,FR39,HN39,IL39,JJ39) -> 0 | JR39: =SUM(P39,AN39,BM39,CM39,DV39,FS39,HO39,IM39,JK39) -> 0 | JS39: =SUM(Q39,AO39,BN39,CN39,DW39,FT39,HP39,IN39,JL39) -> 0 | JT39: =SUM(R39,AP39,BO39,CO39,DX39,FU39,HQ39,IO39,JM39) -> 0 | JU39: =SUM(BP39,CP39,DY39) -> 0 | JV39: =SUM(JP39:JU39) -> 0
A40: IDS=Conifer Sawflies | G40: =SUM(B40:F40) -> 0 | M40: =SUM(H40:L40) -> 0 | N40: =SUM(B40,H40) -> 0 | O40: =SUM(C40,I40) -> 0 | P40: =SUM(D40,J40) -> 0 | Q40: =SUM(E40,K40) -> 0 | R40: =SUM(F40,L40) -> 0 | S40: =SUM(N40:R40) -> 0 | Y40: =SUM(T40:X40) -> 0 | AE40: =SUM(Z40:AD40) -> 0 | AK40: =SUM(AF40:AJ40) -> 0 | AL40: =SUM(T40,Z40,AF40) -> 0 | AM40: =SUM(U40,AA40,AG40) -> 0 | AN40: =SUM(V40,AB40,AH40) -> 0 | AO40: =SUM(W40,AC40,AI40) -> 0 | AP40: =SUM(X40,AD40,AJ40) -> 0 | AQ40: =SUM(AL40:AP40) -> 0 | AW40: =SUM(AR40:AV40) -> 0 | BD40: =SUM(AX40:BC40) -> 0 | BJ40: =SUM(BE40:BI40) -> 0 | BK40: =SUM(AR40,AX40,BE40) -> 0 | BL40: =SUM(AS40,AY40,BF40) -> 0 | BM40: =SUM(AT40,AZ40,BG40) -> 0 | BN40: =SUM(AU40,BA40,BH40) -> 0 | BO40: =SUM(AV40,BB40,BI40) -> 0 | BP40: =SUM(BC40) -> 0 | BQ40: =SUM(BK40:BP40) -> 0 | BW40: =SUM(BR40:BV40) -> 0 | CC40: =SUM(BX40:CB40) -> 0 | CJ40: =SUM(CD40:CI40) -> 0 | CK40: =SUM(BR40,BX40,CD40) -> 0 | CL40: =SUM(BS40,BY40,CE40) -> 0 | CM40: =SUM(BT40,BZ40,CF40) -> 0 | CN40: =SUM(BU40,CA40,CG40) -> 0 | CO40: =SUM(BV40,CB40,CH40) -> 0 | CP40: =SUM(CI40) -> 0 | CQ40: =SUM(CK40:CP40) -> 0 | CX40: =SUM(CR40:CW40) -> 0 | DE40: =SUM(CY40:DD40) -> 0 | DL40: =SUM(DF40:DK40) -> 0 | DS40: =SUM(DM40:DR40) -> 0 | DT40: =SUM(CR40,CY40,DF40,DM40) -> 0 | DU40: =SUM(CS40,CZ40,DG40,DN40) -> 0 | DV40: =SUM(CT40,DA40,DH40,DO40) -> 0 | DW40: =SUM(CU40,DB40,DI40,DP40) -> 0 | DX40: =SUM(CV40,DC40,DJ40,DQ40) -> 0 | DY40: =SUM(CW40,DD40,DK40,DR40) -> 0 | DZ40: =SUM(DT40:DY40) -> 0 | EF40: =SUM(EA40:EE40) -> 0 | EL40: =SUM(EG40:EK40) -> 0 | ER40: =SUM(EM40:EQ40) -> 0 | EX40: =SUM(ES40:EW40) -> 0 | FD40: =SUM(EY40:FC40) -> 0 | FJ40: =SUM(FE40:FI40) -> 0 | FP40: =SUM(FK40:FO40) -> 0 | FQ40: =SUM(EA40,EG40,EM40,ES40,EY40,FE40,FK40) -> 0 | FR40: =SUM(EB40,EH40,EN40,ET40,EZ40,FF40,FL40) -> 0 | FS40: =SUM(EC40,EI40,EO40,EU40,FA40,FG40,FM40) -> 0 | FT40: =SUM(ED40,EJ40,EP40,EV40,FB40,FH40,FN40) -> 0 | FU40: =SUM(EE40,EK40,EQ40,EW40,FC40,FI40,FO40) -> 0 | FV40: =SUM(FQ40:FU40) -> 0 | GB40: =SUM(FW40:GA40) -> 0 | GH40: =SUM(GC40:GG40) -> 0 | GN40: =SUM(GI40:GM40) -> 0 | GT40: =SUM(GO40:GS40) -> 0 | GZ40: =SUM(GU40:GY40) -> 0 | HF40: =SUM(HA40:HE40) -> 0 | HL40: =SUM(HG40:HK40) -> 0 | HM40: =SUM(FW40,GC40,GI40,GO40,GU40,HA40,HG40) -> 0 | HN40: =SUM(FX40,GD40,GJ40,GP40,GV40,HB40,HH40) -> 0 | HO40: =SUM(FY40,GE40,GK40,GQ40,GW40,HC40,HI40) -> 0 | HP40: =SUM(FZ40,GF40,GL40,GR40,GX40,HD40,HJ40) -> 0 | HQ40: =SUM(GA40,GG40,GM40,GS40,GY40,HE40,HK40) -> 0 | HR40: =SUM(HM40:HQ40) -> 0 | HX40: =SUM(HS40:HW40) -> 0 | ID40: =SUM(HY40:IC40) -> 0 | IJ40: =SUM(IE40:II40) -> 0 | IK40: =SUM(HS40,HY40,IE40) -> 0 | IL40: =SUM(HT40,HZ40,IF40) -> 0 | IM40: =SUM(HU40,IA40,IG40) -> 0 | IN40: =SUM(HV40,IB40,IH40) -> 0 | IO40: =SUM(HW40,IC40,II40) -> 0 | IP40: =SUM(IK40:IO40) -> 0 | IV40: =SUM(IQ40:IU40) -> 0 | JB40: =SUM(IW40:JA40) -> 0 | JH40: =SUM(JC40:JG40) -> 0 | JI40: =SUM(IQ40,IW40,JC40) -> 0 | JJ40: =SUM(IR40,IX40,JD40) -> 0 | JK40: =SUM(IS40,IY40,JE40) -> 0 | JL40: =SUM(IT40,IZ40,JF40) -> 0 | JM40: =SUM(IU40,JA40,JG40) -> 0 | JN40: =SUM(JI40:JM40) -> 0 | JP40: =SUM(N40,AL40,BK40,CK40,DT40,FQ40,HM40,IK40,JI40) -> 0 | JQ40: =SUM(O40,AM40,BL40,CL40,DU40,FR40,HN40,IL40,JJ40) -> 0 | JR40: =SUM(P40,AN40,BM40,CM40,DV40,FS40,HO40,IM40,JK40) -> 0 | JS40: =SUM(Q40,AO40,BN40,CN40,DW40,FT40,HP40,IN40,JL40) -> 0 | JT40: =SUM(R40,AP40,BO40,CO40,DX40,FU40,HQ40,IO40,JM40) -> 0 | JU40: =SUM(BP40,CP40,DY40) -> 0 | JV40: =SUM(JP40:JU40) -> 0
A41: IDT=Douglas-fir Tussock Moth | G41: =SUM(B41:F41) -> 0 | M41: =SUM(H41:L41) -> 0 | N41: =SUM(B41,H41) -> 0 | O41: =SUM(C41,I41) -> 0 | P41: =SUM(D41,J41) -> 0 | Q41: =SUM(E41,K41) -> 0 | R41: =SUM(F41,L41) -> 0 | S41: =SUM(N41:R41) -> 0 | Y41: =SUM(T41:X41) -> 0 | AE41: =SUM(Z41:AD41) -> 0 | AK41: =SUM(AF41:AJ41) -> 0 | AL41: =SUM(T41,Z41,AF41) -> 0 | AM41: =SUM(U41,AA41,AG41) -> 0 | AN41: =SUM(V41,AB41,AH41) -> 0 | AO41: =SUM(W41,AC41,AI41) -> 0 | AP41: =SUM(X41,AD41,AJ41) -> 0 | AQ41: =SUM(AL41:AP41) -> 0 | AW41: =SUM(AR41:AV41) -> 0 | BD41: =SUM(AX41:BC41) -> 0 | BJ41: =SUM(BE41:BI41) -> 0 | BK41: =SUM(AR41,AX41,BE41) -> 0 | BL41: =SUM(AS41,AY41,BF41) -> 0 | BM41: =SUM(AT41,AZ41,BG41) -> 0 | BN41: =SUM(AU41,BA41,BH41) -> 0 | BO41: =SUM(AV41,BB41,BI41) -> 0 | BP41: =SUM(BC41) -> 0 | BQ41: =SUM(BK41:BP41) -> 0 | BW41: =SUM(BR41:BV41) -> 0 | CC41: =SUM(BX41:CB41) -> 0 | CJ41: =SUM(CD41:CI41) -> 0 | CK41: =SUM(BR41,BX41,CD41) -> 0 | CL41: =SUM(BS41,BY41,CE41) -> 0 | CM41: =SUM(BT41,BZ41,CF41) -> 0 | CN41: =SUM(BU41,CA41,CG41) -> 0 | CO41: =SUM(BV41,CB41,CH41) -> 0 | CP41: =SUM(CI41) -> 0 | CQ41: =SUM(CK41:CP41) -> 0 | CT41: 28.297489 | CU41: 36.482898 | CX41: =SUM(CR41:CW41) -> 64.780386 | DE41: =SUM(CY41:DD41) -> 0 | DL41: =SUM(DF41:DK41) -> 0 | DS41: =SUM(DM41:DR41) -> 0 | DT41: =SUM(CR41,CY41,DF41,DM41) -> 0 | DU41: =SUM(CS41,CZ41,DG41,DN41) -> 0 | DV41: =SUM(CT41,DA41,DH41,DO41) -> 28.297489 | DW41: =SUM(CU41,DB41,DI41,DP41) -> 36.482898 | DX41: =SUM(CV41,DC41,DJ41,DQ41) -> 0 | DY41: =SUM(CW41,DD41,DK41,DR41) -> 0 | DZ41: =SUM(DT41:DY41) -> 64.780386 | EF41: =SUM(EA41:EE41) -> 0 | EL41: =SUM(EG41:EK41) -> 0 | ER41: =SUM(EM41:EQ41) -> 0 | EX41: =SUM(ES41:EW41) -> 0 | FD41: =SUM(EY41:FC41) -> 0 | FJ41: =SUM(FE41:FI41) -> 0 | FP41: =SUM(FK41:FO41) -> 0 | FQ41: =SUM(EA41,EG41,EM41,ES41,EY41,FE41,FK41) -> 0 | FR41: =SUM(EB41,EH41,EN41,ET41,EZ41,FF41,FL41) -> 0 | FS41: =SUM(EC41,EI41,EO41,EU41,FA41,FG41,FM41) -> 0 | FT41: =SUM(ED41,EJ41,EP41,EV41,FB41,FH41,FN41) -> 0 | FU41: =SUM(EE41,EK41,EQ41,EW41,FC41,FI41,FO41) -> 0 | FV41: =SUM(FQ41:FU41) -> 0 | GB41: =SUM(FW41:GA41) -> 0 | GH41: =SUM(GC41:GG41) -> 0 | GN41: =SUM(GI41:GM41) -> 0 | GT41: =SUM(GO41:GS41) -> 0 | GZ41: =SUM(GU41:GY41) -> 0 | HF41: =SUM(HA41:HE41) -> 0 | HL41: =SUM(HG41:HK41) -> 0 | HM41: =SUM(FW41,GC41,GI41,GO41,GU41,HA41,HG41) -> 0 | HN41: =SUM(FX41,GD41,GJ41,GP41,GV41,HB41,HH41) -> 0 | HO41: =SUM(FY41,GE41,GK41,GQ41,GW41,HC41,HI41) -> 0 | HP41: =SUM(FZ41,GF41,GL41,GR41,GX41,HD41,HJ41) -> 0 | HQ41: =SUM(GA41,GG41,GM41,GS41,GY41,HE41,HK41) -> 0 | HR41: =SUM(HM41:HQ41) -> 0 | HX41: =SUM(HS41:HW41) -> 0 | ID41: =SUM(HY41:IC41) -> 0 | IJ41: =SUM(IE41:II41) -> 0 | IK41: =SUM(HS41,HY41,IE41) -> 0 | IL41: =SUM(HT41,HZ41,IF41) -> 0 | IM41: =SUM(HU41,IA41,IG41) -> 0 | IN41: =SUM(HV41,IB41,IH41) -> 0 | IO41: =SUM(HW41,IC41,II41) -> 0 | IP41: =SUM(IK41:IO41) -> 0 | IV41: =SUM(IQ41:IU41) -> 0 | JB41: =SUM(IW41:JA41) -> 0 | JH41: =SUM(JC41:JG41) -> 0 | JI41: =SUM(IQ41,IW41,JC41) -> 0 | JJ41: =SUM(IR41,IX41,JD41) -> 0 | JK41: =SUM(IS41,IY41,JE41) -> 0 | JL41: =SUM(IT41,IZ41,JF41) -> 0 | JM41: =SUM(IU41,JA41,JG41) -> 0 | JN41: =SUM(JI41:JM41) -> 0 | JP41: =SUM(N41,AL41,BK41,CK41,DT41,FQ41,HM41,IK41,JI41) -> 0 | JQ41: =SUM(O41,AM41,BL41,CL41,DU41,FR41,HN41,IL41,JJ41) -> 0 | JR41: =SUM(P41,AN41,BM41,CM41,DV41,FS41,HO41,IM41,JK41) -> 28.297489 | JS41: =SUM(Q41,AO41,BN41,CN41,DW41,FT41,HP41,IN41,JL41) -> 36.482898 | JT41: =SUM(R41,AP41,BO41,CO41,DX41,FU41,HQ41,IO41,JM41) -> 0 | JU41: =SUM(BP41,CP41,DY41) -> 0 | JV41: =SUM(JP41:JU41) -> 64.780386
A42: IDU=Satin Moth | G42: =SUM(B42:F42) -> 0 | M42: =SUM(H42:L42) -> 0 | N42: =SUM(B42,H42) -> 0 | O42: =SUM(C42,I42) -> 0 | P42: =SUM(D42,J42) -> 0 | Q42: =SUM(E42,K42) -> 0 | R42: =SUM(F42,L42) -> 0 | S42: =SUM(N42:R42) -> 0 | Y42: =SUM(T42:X42) -> 0 | AE42: =SUM(Z42:AD42) -> 0 | AK42: =SUM(AF42:AJ42) -> 0 | AL42: =SUM(T42,Z42,AF42) -> 0 | AM42: =SUM(U42,AA42,AG42) -> 0 | AN42: =SUM(V42,AB42,AH42) -> 0 | AO42: =SUM(W42,AC42,AI42) -> 0 | AP42: =SUM(X42,AD42,AJ42) -> 0 | AQ42: =SUM(AL42:AP42) -> 0 | AW42: =SUM(AR42:AV42) -> 0 | BD42: =SUM(AX42:BC42) -> 0 | BJ42: =SUM(BE42:BI42) -> 0 | BK42: =SUM(AR42,AX42,BE42) -> 0 | BL42: =SUM(AS42,AY42,BF42) -> 0 | BM42: =SUM(AT42,AZ42,BG42) -> 0 | BN42: =SUM(AU42,BA42,BH42) -> 0 | BO42: =SUM(AV42,BB42,BI42) -> 0 | BP42: =SUM(BC42) -> 0 | BQ42: =SUM(BK42:BP42) -> 0 | BW42: =SUM(BR42:BV42) -> 0 | CC42: =SUM(BX42:CB42) -> 0 | CJ42: =SUM(CD42:CI42) -> 0 | CK42: =SUM(BR42,BX42,CD42) -> 0 | CL42: =SUM(BS42,BY42,CE42) -> 0 | CM42: =SUM(BT42,BZ42,CF42) -> 0 | CN42: =SUM(BU42,CA42,CG42) -> 0 | CO42: =SUM(BV42,CB42,CH42) -> 0 | CP42: =SUM(CI42) -> 0 | CQ42: =SUM(CK42:CP42) -> 0 | CU42: 30.913369 | CX42: =SUM(CR42:CW42) -> 30.913369 | DA42: 6.6728404 | DE42: =SUM(CY42:DD42) -> 6.6728404 | DH42: 12.590683 | DI42: 4.0722821 | DL42: =SUM(DF42:DK42) -> 16.662965 | DO42: 17.307941 | DS42: =SUM(DM42:DR42) -> 17.307941 | DT42: =SUM(CR42,CY42,DF42,DM42) -> 0 | DU42: =SUM(CS42,CZ42,DG42,DN42) -> 0 | DV42: =SUM(CT42,DA42,DH42,DO42) -> 36.571465 | DW42: =SUM(CU42,DB42,DI42,DP42) -> 34.985651 | DX42: =SUM(CV42,DC42,DJ42,DQ42) -> 0 | DY42: =SUM(CW42,DD42,DK42,DR42) -> 0 | DZ42: =SUM(DT42:DY42) -> 71.557115 | EF42: =SUM(EA42:EE42) -> 0 | EL42: =SUM(EG42:EK42) -> 0 | ER42: =SUM(EM42:EQ42) -> 0 | EX42: =SUM(ES42:EW42) -> 0 | FD42: =SUM(EY42:FC42) -> 0 | FJ42: =SUM(FE42:FI42) -> 0 | FP42: =SUM(FK42:FO42) -> 0 | FQ42: =SUM(EA42,EG42,EM42,ES42,EY42,FE42,FK42) -> 0 | FR42: =SUM(EB42,EH42,EN42,ET42,EZ42,FF42,FL42) -> 0 | FS42: =SUM(EC42,EI42,EO42,EU42,FA42,FG42,FM42) -> 0 | FT42: =SUM(ED42,EJ42,EP42,EV42,FB42,FH42,FN42) -> 0 | FU42: =SUM(EE42,EK42,EQ42,EW42,FC42,FI42,FO42) -> 0 | FV42: =SUM(FQ42:FU42) -> 0 | FX42: 60.59556 | FY42: 1050.3223 | FZ42: 211.92387 | GB42: =SUM(FW42:GA42) -> 1322.8418 | GH42: =SUM(GC42:GG42) -> 0 | GN42: =SUM(GI42:GM42) -> 0 | GP42: 128.0817 | GQ42: 485.17275 | GR42: 5075.1089 | GT42: =SUM(GO42:GS42) -> 5688.3634 | GV42: 2189.5335 | GW42: 2570.7878 | GX42: 1444.4873 | GZ42: =SUM(GU42:GY42) -> 6204.8086 | HD42: 161.69624 | HF42: =SUM(HA42:HE42) -> 161.69624 | HL42: =SUM(HG42:HK42) -> 0 | HM42: =SUM(FW42,GC42,GI42,GO42,GU42,HA42,HG42) -> 0 | HN42: =SUM(FX42,GD42,GJ42,GP42,GV42,HB42,HH42) -> 2378.2108 | HO42: =SUM(FY42,GE42,GK42,GQ42,GW42,HC42,HI42) -> 4106.2829 | HP42: =SUM(FZ42,GF42,GL42,GR42,GX42,HD42,HJ42) -> 6893.2163 | HQ42: =SUM(GA42,GG42,GM42,GS42,GY42,HE42,HK42) -> 0 | HR42: =SUM(HM42:HQ42) -> 13377.71 | HX42: =SUM(HS42:HW42) -> 0 | ID42: =SUM(HY42:IC42) -> 0 | IF42: 83041.679 | IG42: 87464.467 | IH42: 25976.481 | IJ42: =SUM(IE42:II42) -> 196482.63 | IK42: =SUM(HS42,HY42,IE42) -> 0 | IL42: =SUM(HT42,HZ42,IF42) -> 83041.679 | IM42: =SUM(HU42,IA42,IG42) -> 87464.467 | IN42: =SUM(HV42,IB42,IH42) -> 25976.481 | IO42: =SUM(HW42,IC42,II42) -> 0 | IP42: =SUM(IK42:IO42) -> 196482.63 | IV42: =SUM(IQ42:IU42) -> 0 | JB42: =SUM(IW42:JA42) -> 0 | JH42: =SUM(JC42:JG42) -> 0 | JI42: =SUM(IQ42,IW42,JC42) -> 0 | JJ42: =SUM(IR42,IX42,JD42) -> 0 | JK42: =SUM(IS42,IY42,JE42) -> 0 | JL42: =SUM(IT42,IZ42,JF42) -> 0 | JM42: =SUM(IU42,JA42,JG42) -> 0 | JN42: =SUM(JI42:JM42) -> 0 | JP42: =SUM(N42,AL42,BK42,CK42,DT42,FQ42,HM42,IK42,JI42) -> 0 | JQ42: =SUM(O42,AM42,BL42,CL42,DU42,FR42,HN42,IL42,JJ42) -> 85419.89 | JR42: =SUM(P42,AN42,BM42,CM42,DV42,FS42,HO42,IM42,JK42) -> 91607.322 | JS42: =SUM(Q42,AO42,BN42,CN42,DW42,FT42,HP42,IN42,JL42) -> 32904.683 | JT42: =SUM(R42,AP42,BO42,CO42,DX42,FU42,HQ42,IO42,JM42) -> 0 | JU42: =SUM(BP42,CP42,DY42) -> 0 | JV42: =SUM(JP42:JU42) -> 209931.89
A43: IDW=Western Spruce Budworm | G43: =SUM(B43:F43) -> 0 | M43: =SUM(H43:L43) -> 0 | N43: =SUM(B43,H43) -> 0 | O43: =SUM(C43,I43) -> 0 | P43: =SUM(D43,J43) -> 0 | Q43: =SUM(E43,K43) -> 0 | R43: =SUM(F43,L43) -> 0 | S43: =SUM(N43:R43) -> 0 | Y43: =SUM(T43:X43) -> 0 | AE43: =SUM(Z43:AD43) -> 0 | AK43: =SUM(AF43:AJ43) -> 0 | AL43: =SUM(T43,Z43,AF43) -> 0 | AM43: =SUM(U43,AA43,AG43) -> 0 | AN43: =SUM(V43,AB43,AH43) -> 0 | AO43: =SUM(W43,AC43,AI43) -> 0 | AP43: =SUM(X43,AD43,AJ43) -> 0 | AQ43: =SUM(AL43:AP43) -> 0 | AW43: =SUM(AR43:AV43) -> 0 | BD43: =SUM(AX43:BC43) -> 0 | BJ43: =SUM(BE43:BI43) -> 0 | BK43: =SUM(AR43,AX43,BE43) -> 0 | BL43: =SUM(AS43,AY43,BF43) -> 0 | BM43: =SUM(AT43,AZ43,BG43) -> 0 | BN43: =SUM(AU43,BA43,BH43) -> 0 | BO43: =SUM(AV43,BB43,BI43) -> 0 | BP43: =SUM(BC43) -> 0 | BQ43: =SUM(BK43:BP43) -> 0 | BS43: 4357.606 | BW43: =SUM(BR43:BV43) -> 4357.606 | CC43: =SUM(BX43:CB43) -> 0 | CE43: 10487.412 | CF43: 806.22095 | CJ43: =SUM(CD43:CI43) -> 11293.633 | CK43: =SUM(BR43,BX43,CD43) -> 0 | CL43: =SUM(BS43,BY43,CE43) -> 14845.018 | CM43: =SUM(BT43,BZ43,CF43) -> 806.22095 | CN43: =SUM(BU43,CA43,CG43) -> 0 | CO43: =SUM(BV43,CB43,CH43) -> 0 | CP43: =SUM(CI43) -> 0 | CQ43: =SUM(CK43:CP43) -> 15651.239 | CS43: 2231.9853 | CT43: 85.585413 | CX43: =SUM(CR43:CW43) -> 2317.5707 | CZ43: 67.995489 | DA43: 232.41658 | DE43: =SUM(CY43:DD43) -> 300.41207 | DG43: 1545.848 | DH43: 489.74398 | DL43: =SUM(DF43:DK43) -> 2035.592 | DS43: =SUM(DM43:DR43) -> 0 | DT43: =SUM(CR43,CY43,DF43,DM43) -> 0 | DU43: =SUM(CS43,CZ43,DG43,DN43) -> 3845.8288 | DV43: =SUM(CT43,DA43,DH43,DO43) -> 807.74597 | DW43: =SUM(CU43,DB43,DI43,DP43) -> 0 | DX43: =SUM(CV43,DC43,DJ43,DQ43) -> 0 | DY43: =SUM(CW43,DD43,DK43,DR43) -> 0 | DZ43: =SUM(DT43:DY43) -> 4653.5748 | EF43: =SUM(EA43:EE43) -> 0 | EH43: 2246.825 | EI43: 43.926496 | EL43: =SUM(EG43:EK43) -> 2290.7515 | ER43: =SUM(EM43:EQ43) -> 0 | EX43: =SUM(ES43:EW43) -> 0 | FD43: =SUM(EY43:FC43) -> 0 | FG43: 38.428195 | FJ43: =SUM(FE43:FI43) -> 38.428195 | FP43: =SUM(FK43:FO43) -> 0 | FQ43: =SUM(EA43,EG43,EM43,ES43,EY43,FE43,FK43) -> 0 | FR43: =SUM(EB43,EH43,EN43,ET43,EZ43,FF43,FL43) -> 2246.825 | FS43: =SUM(EC43,EI43,EO43,EU43,FA43,FG43,FM43) -> 82.354692 | FT43: =SUM(ED43,EJ43,EP43,EV43,FB43,FH43,FN43) -> 0 | FU43: =SUM(EE43,EK43,EQ43,EW43,FC43,FI43,FO43) -> 0 | FV43: =SUM(FQ43:FU43) -> 2329.1797 | GB43: =SUM(FW43:GA43) -> 0 | GH43: =SUM(GC43:GG43) -> 0 | GN43: =SUM(GI43:GM43) -> 0 | GT43: =SUM(GO43:GS43) -> 0 | GZ43: =SUM(GU43:GY43) -> 0 | HF43: =SUM(HA43:HE43) -> 0 | HL43: =SUM(HG43:HK43) -> 0 | HM43: =SUM(FW43,GC43,GI43,GO43,GU43,HA43,HG43) -> 0 | HN43: =SUM(FX43,GD43,GJ43,GP43,GV43,HB43,HH43) -> 0 | HO43: =SUM(FY43,GE43,GK43,GQ43,GW43,HC43,HI43) -> 0 | HP43: =SUM(FZ43,GF43,GL43,GR43,GX43,HD43,HJ43) -> 0 | HQ43: =SUM(GA43,GG43,GM43,GS43,GY43,HE43,HK43) -> 0 | HR43: =SUM(HM43:HQ43) -> 0 | HX43: =SUM(HS43:HW43) -> 0 | ID43: =SUM(HY43:IC43) -> 0 | IJ43: =SUM(IE43:II43) -> 0 | IK43: =SUM(HS43,HY43,IE43) -> 0 | IL43: =SUM(HT43,HZ43,IF43) -> 0 | IM43: =SUM(HU43,IA43,IG43) -> 0 | IN43: =SUM(HV43,IB43,IH43) -> 0 | IO43: =SUM(HW43,IC43,II43) -> 0 | IP43: =SUM(IK43:IO43) -> 0 | IV43: =SUM(IQ43:IU43) -> 0 | JB43: =SUM(IW43:JA43) -> 0 | JH43: =SUM(JC43:JG43) -> 0 | JI43: =SUM(IQ43,IW43,JC43) -> 0 | JJ43: =SUM(IR43,IX43,JD43) -> 0 | JK43: =SUM(IS43,IY43,JE43) -> 0 | JL43: =SUM(IT43,IZ43,JF43) -> 0 | JM43: =SUM(IU43,JA43,JG43) -> 0 | JN43: =SUM(JI43:JM43) -> 0 | JP43: =SUM(N43,AL43,BK43,CK43,DT43,FQ43,HM43,IK43,JI43) -> 0 | JQ43: =SUM(O43,AM43,BL43,CL43,DU43,FR43,HN43,IL43,JJ43) -> 20937.672 | JR43: =SUM(P43,AN43,BM43,CM43,DV43,FS43,HO43,IM43,JK43) -> 1696.3216 | JS43: =SUM(Q43,AO43,BN43,CN43,DW43,FT43,HP43,IN43,JL43) -> 0 | JT43: =SUM(R43,AP43,BO43,CO43,DX43,FU43,HQ43,IO43,JM43) -> 0 | JU43: =SUM(BP43,CP43,DY43) -> 0 | JV43: =SUM(JP43:JU43) -> 22633.993
A44: IDX=Large Aspen Tortrix | G44: =SUM(B44:F44) -> 0 | M44: =SUM(H44:L44) -> 0 | N44: =SUM(B44,H44) -> 0 | O44: =SUM(C44,I44) -> 0 | P44: =SUM(D44,J44) -> 0 | Q44: =SUM(E44,K44) -> 0 | R44: =SUM(F44,L44) -> 0 | S44: =SUM(N44:R44) -> 0 | Y44: =SUM(T44:X44) -> 0 | AE44: =SUM(Z44:AD44) -> 0 | AK44: =SUM(AF44:AJ44) -> 0 | AL44: =SUM(T44,Z44,AF44) -> 0 | AM44: =SUM(U44,AA44,AG44) -> 0 | AN44: =SUM(V44,AB44,AH44) -> 0 | AO44: =SUM(W44,AC44,AI44) -> 0 | AP44: =SUM(X44,AD44,AJ44) -> 0 | AQ44: =SUM(AL44:AP44) -> 0 | AW44: =SUM(AR44:AV44) -> 0 | BD44: =SUM(AX44:BC44) -> 0 | BJ44: =SUM(BE44:BI44) -> 0 | BK44: =SUM(AR44,AX44,BE44) -> 0 | BL44: =SUM(AS44,AY44,BF44) -> 0 | BM44: =SUM(AT44,AZ44,BG44) -> 0 | BN44: =SUM(AU44,BA44,BH44) -> 0 | BO44: =SUM(AV44,BB44,BI44) -> 0 | BP44: =SUM(BC44) -> 0 | BQ44: =SUM(BK44:BP44) -> 0 | BW44: =SUM(BR44:BV44) -> 0 | BZ44: 151.13017 | CC44: =SUM(BX44:CB44) -> 151.13017 | CJ44: =SUM(CD44:CI44) -> 0 | CK44: =SUM(BR44,BX44,CD44) -> 0 | CL44: =SUM(BS44,BY44,CE44) -> 0 | CM44: =SUM(BT44,BZ44,CF44) -> 151.13017 | CN44: =SUM(BU44,CA44,CG44) -> 0 | CO44: =SUM(BV44,CB44,CH44) -> 0 | CP44: =SUM(CI44) -> 0 | CQ44: =SUM(CK44:CP44) -> 151.13017 | CX44: =SUM(CR44:CW44) -> 0 | DE44: =SUM(CY44:DD44) -> 0 | DL44: =SUM(DF44:DK44) -> 0 | DS44: =SUM(DM44:DR44) -> 0 | DT44: =SUM(CR44,CY44,DF44,DM44) -> 0 | DU44: =SUM(CS44,CZ44,DG44,DN44) -> 0 | DV44: =SUM(CT44,DA44,DH44,DO44) -> 0 | DW44: =SUM(CU44,DB44,DI44,DP44) -> 0 | DX44: =SUM(CV44,DC44,DJ44,DQ44) -> 0 | DY44: =SUM(CW44,DD44,DK44,DR44) -> 0 | DZ44: =SUM(DT44:DY44) -> 0 | EF44: =SUM(EA44:EE44) -> 0 | EL44: =SUM(EG44:EK44) -> 0 | ER44: =SUM(EM44:EQ44) -> 0 | EX44: =SUM(ES44:EW44) -> 0 | FD44: =SUM(EY44:FC44) -> 0 | FJ44: =SUM(FE44:FI44) -> 0 | FP44: =SUM(FK44:FO44) -> 0 | FQ44: =SUM(EA44,EG44,EM44,ES44,EY44,FE44,FK44) -> 0 | FR44: =SUM(EB44,EH44,EN44,ET44,EZ44,FF44,FL44) -> 0 | FS44: =SUM(EC44,EI44,EO44,EU44,FA44,FG44,FM44) -> 0 | FT44: =SUM(ED44,EJ44,EP44,EV44,FB44,FH44,FN44) -> 0 | FU44: =SUM(EE44,EK44,EQ44,EW44,FC44,FI44,FO44) -> 0 | FV44: =SUM(FQ44:FU44) -> 0 | GB44: =SUM(FW44:GA44) -> 0 | GH44: =SUM(GC44:GG44) -> 0 | GN44: =SUM(GI44:GM44) -> 0 | GT44: =SUM(GO44:GS44) -> 0 | GZ44: =SUM(GU44:GY44) -> 0 | HF44: =SUM(HA44:HE44) -> 0 | HL44: =SUM(HG44:HK44) -> 0 | HM44: =SUM(FW44,GC44,GI44,GO44,GU44,HA44,HG44) -> 0 | HN44: =SUM(FX44,GD44,GJ44,GP44,GV44,HB44,HH44) -> 0 | HO44: =SUM(FY44,GE44,GK44,GQ44,GW44,HC44,HI44) -> 0 | HP44: =SUM(FZ44,GF44,GL44,GR44,GX44,HD44,HJ44) -> 0 | HQ44: =SUM(GA44,GG44,GM44,GS44,GY44,HE44,HK44) -> 0 | HR44: =SUM(HM44:HQ44) -> 0 | HX44: =SUM(HS44:HW44) -> 0 | ID44: =SUM(HY44:IC44) -> 0 | IJ44: =SUM(IE44:II44) -> 0 | IK44: =SUM(HS44,HY44,IE44) -> 0 | IL44: =SUM(HT44,HZ44,IF44) -> 0 | IM44: =SUM(HU44,IA44,IG44) -> 0 | IN44: =SUM(HV44,IB44,IH44) -> 0 | IO44: =SUM(HW44,IC44,II44) -> 0 | IP44: =SUM(IK44:IO44) -> 0 | IV44: =SUM(IQ44:IU44) -> 0 | JB44: =SUM(IW44:JA44) -> 0 | JH44: =SUM(JC44:JG44) -> 0 | JI44: =SUM(IQ44,IW44,JC44) -> 0 | JJ44: =SUM(IR44,IX44,JD44) -> 0 | JK44: =SUM(IS44,IY44,JE44) -> 0 | JL44: =SUM(IT44,IZ44,JF44) -> 0 | JM44: =SUM(IU44,JA44,JG44) -> 0 | JN44: =SUM(JI44:JM44) -> 0 | JP44: =SUM(N44,AL44,BK44,CK44,DT44,FQ44,HM44,IK44,JI44) -> 0 | JQ44: =SUM(O44,AM44,BL44,CL44,DU44,FR44,HN44,IL44,JJ44) -> 0 | JR44: =SUM(P44,AN44,BM44,CM44,DV44,FS44,HO44,IM44,JK44) -> 151.13017 | JS44: =SUM(Q44,AO44,BN44,CN44,DW44,FT44,HP44,IN44,JL44) -> 0 | JT44: =SUM(R44,AP44,BO44,CO44,DX44,FU44,HQ44,IO44,JM44) -> 0 | JU44: =SUM(BP44,CP44,DY44) -> 0 | JV44: =SUM(JP44:JU44) -> 151.13017
A45: IDZ=False Hemlock Looper | G45: =SUM(B45:F45) -> 0 | M45: =SUM(H45:L45) -> 0 | N45: =SUM(B45,H45) -> 0 | O45: =SUM(C45,I45) -> 0 | P45: =SUM(D45,J45) -> 0 | Q45: =SUM(E45,K45) -> 0 | R45: =SUM(F45,L45) -> 0 | S45: =SUM(N45:R45) -> 0 | Y45: =SUM(T45:X45) -> 0 | AE45: =SUM(Z45:AD45) -> 0 | AK45: =SUM(AF45:AJ45) -> 0 | AL45: =SUM(T45,Z45,AF45) -> 0 | AM45: =SUM(U45,AA45,AG45) -> 0 | AN45: =SUM(V45,AB45,AH45) -> 0 | AO45: =SUM(W45,AC45,AI45) -> 0 | AP45: =SUM(X45,AD45,AJ45) -> 0 | AQ45: =SUM(AL45:AP45) -> 0 | AW45: =SUM(AR45:AV45) -> 0 | BD45: =SUM(AX45:BC45) -> 0 | BJ45: =SUM(BE45:BI45) -> 0 | BK45: =SUM(AR45,AX45,BE45) -> 0 | BL45: =SUM(AS45,AY45,BF45) -> 0 | BM45: =SUM(AT45,AZ45,BG45) -> 0 | BN45: =SUM(AU45,BA45,BH45) -> 0 | BO45: =SUM(AV45,BB45,BI45) -> 0 | BP45: =SUM(BC45) -> 0 | BQ45: =SUM(BK45:BP45) -> 0 | BW45: =SUM(BR45:BV45) -> 0 | CC45: =SUM(BX45:CB45) -> 0 | CJ45: =SUM(CD45:CI45) -> 0 | CK45: =SUM(BR45,BX45,CD45) -> 0 | CL45: =SUM(BS45,BY45,CE45) -> 0 | CM45: =SUM(BT45,BZ45,CF45) -> 0 | CN45: =SUM(BU45,CA45,CG45) -> 0 | CO45: =SUM(BV45,CB45,CH45) -> 0 | CP45: =SUM(CI45) -> 0 | CQ45: =SUM(CK45:CP45) -> 0 | CX45: =SUM(CR45:CW45) -> 0 | DE45: =SUM(CY45:DD45) -> 0 | DL45: =SUM(DF45:DK45) -> 0 | DS45: =SUM(DM45:DR45) -> 0 | DT45: =SUM(CR45,CY45,DF45,DM45) -> 0 | DU45: =SUM(CS45,CZ45,DG45,DN45) -> 0 | DV45: =SUM(CT45,DA45,DH45,DO45) -> 0 | DW45: =SUM(CU45,DB45,DI45,DP45) -> 0 | DX45: =SUM(CV45,DC45,DJ45,DQ45) -> 0 | DY45: =SUM(CW45,DD45,DK45,DR45) -> 0 | DZ45: =SUM(DT45:DY45) -> 0 | EF45: =SUM(EA45:EE45) -> 0 | EL45: =SUM(EG45:EK45) -> 0 | ER45: =SUM(EM45:EQ45) -> 0 | EX45: =SUM(ES45:EW45) -> 0 | FD45: =SUM(EY45:FC45) -> 0 | FJ45: =SUM(FE45:FI45) -> 0 | FP45: =SUM(FK45:FO45) -> 0 | FQ45: =SUM(EA45,EG45,EM45,ES45,EY45,FE45,FK45) -> 0 | FR45: =SUM(EB45,EH45,EN45,ET45,EZ45,FF45,FL45) -> 0 | FS45: =SUM(EC45,EI45,EO45,EU45,FA45,FG45,FM45) -> 0 | FT45: =SUM(ED45,EJ45,EP45,EV45,FB45,FH45,FN45) -> 0 | FU45: =SUM(EE45,EK45,EQ45,EW45,FC45,FI45,FO45) -> 0 | FV45: =SUM(FQ45:FU45) -> 0 | GB45: =SUM(FW45:GA45) -> 0 | GH45: =SUM(GC45:GG45) -> 0 | GN45: =SUM(GI45:GM45) -> 0 | GT45: =SUM(GO45:GS45) -> 0 | GZ45: =SUM(GU45:GY45) -> 0 | HF45: =SUM(HA45:HE45) -> 0 | HL45: =SUM(HG45:HK45) -> 0 | HM45: =SUM(FW45,GC45,GI45,GO45,GU45,HA45,HG45) -> 0 | HN45: =SUM(FX45,GD45,GJ45,GP45,GV45,HB45,HH45) -> 0 | HO45: =SUM(FY45,GE45,GK45,GQ45,GW45,HC45,HI45) -> 0 | HP45: =SUM(FZ45,GF45,GL45,GR45,GX45,HD45,HJ45) -> 0 | HQ45: =SUM(GA45,GG45,GM45,GS45,GY45,HE45,HK45) -> 0 | HR45: =SUM(HM45:HQ45) -> 0 | HX45: =SUM(HS45:HW45) -> 0 | ID45: =SUM(HY45:IC45) -> 0 | IJ45: =SUM(IE45:II45) -> 0 | IK45: =SUM(HS45,HY45,IE45) -> 0 | IL45: =SUM(HT45,HZ45,IF45) -> 0 | IM45: =SUM(HU45,IA45,IG45) -> 0 | IN45: =SUM(HV45,IB45,IH45) -> 0 | IO45: =SUM(HW45,IC45,II45) -> 0 | IP45: =SUM(IK45:IO45) -> 0 | IV45: =SUM(IQ45:IU45) -> 0 | JB45: =SUM(IW45:JA45) -> 0 | JH45: =SUM(JC45:JG45) -> 0 | JI45: =SUM(IQ45,IW45,JC45) -> 0 | JJ45: =SUM(IR45,IX45,JD45) -> 0 | JK45: =SUM(IS45,IY45,JE45) -> 0 | JL45: =SUM(IT45,IZ45,JF45) -> 0 | JM45: =SUM(IU45,JA45,JG45) -> 0 | JN45: =SUM(JI45:JM45) -> 0 | JP45: =SUM(N45,AL45,BK45,CK45,DT45,FQ45,HM45,IK45,JI45) -> 0 | JQ45: =SUM(O45,AM45,BL45,CL45,DU45,FR45,HN45,IL45,JJ45) -> 0 | JR45: =SUM(P45,AN45,BM45,CM45,DV45,FS45,HO45,IM45,JK45) -> 0 | JS45: =SUM(Q45,AO45,BN45,CN45,DW45,FT45,HP45,IN45,JL45) -> 0 | JT45: =SUM(R45,AP45,BO45,CO45,DX45,FU45,HQ45,IO45,JM45) -> 0 | JU45: =SUM(BP45,CP45,DY45) -> 0 | JV45: =SUM(JP45:JU45) -> 0
A46: IEL=Logepole Needle Miner | G46: =SUM(B46:F46) -> 0 | M46: =SUM(H46:L46) -> 0 | N46: =SUM(B46,H46) -> 0 | O46: =SUM(C46,I46) -> 0 | P46: =SUM(D46,J46) -> 0 | Q46: =SUM(E46,K46) -> 0 | R46: =SUM(F46,L46) -> 0 | S46: =SUM(N46:R46) -> 0 | Y46: =SUM(T46:X46) -> 0 | AE46: =SUM(Z46:AD46) -> 0 | AK46: =SUM(AF46:AJ46) -> 0 | AL46: =SUM(T46,Z46,AF46) -> 0 | AM46: =SUM(U46,AA46,AG46) -> 0 | AN46: =SUM(V46,AB46,AH46) -> 0 | AO46: =SUM(W46,AC46,AI46) -> 0 | AP46: =SUM(X46,AD46,AJ46) -> 0 | AQ46: =SUM(AL46:AP46) -> 0 | AW46: =SUM(AR46:AV46) -> 0 | BD46: =SUM(AX46:BC46) -> 0 | BJ46: =SUM(BE46:BI46) -> 0 | BK46: =SUM(AR46,AX46,BE46) -> 0 | BL46: =SUM(AS46,AY46,BF46) -> 0 | BM46: =SUM(AT46,AZ46,BG46) -> 0 | BN46: =SUM(AU46,BA46,BH46) -> 0 | BO46: =SUM(AV46,BB46,BI46) -> 0 | BP46: =SUM(BC46) -> 0 | BQ46: =SUM(BK46:BP46) -> 0 | BW46: =SUM(BR46:BV46) -> 0 | CC46: =SUM(BX46:CB46) -> 0 | CJ46: =SUM(CD46:CI46) -> 0 | CK46: =SUM(BR46,BX46,CD46) -> 0 | CL46: =SUM(BS46,BY46,CE46) -> 0 | CM46: =SUM(BT46,BZ46,CF46) -> 0 | CN46: =SUM(BU46,CA46,CG46) -> 0 | CO46: =SUM(BV46,CB46,CH46) -> 0 | CP46: =SUM(CI46) -> 0 | CQ46: =SUM(CK46:CP46) -> 0 | CX46: =SUM(CR46:CW46) -> 0 | DE46: =SUM(CY46:DD46) -> 0 | DL46: =SUM(DF46:DK46) -> 0 | DS46: =SUM(DM46:DR46) -> 0 | DT46: =SUM(CR46,CY46,DF46,DM46) -> 0 | DU46: =SUM(CS46,CZ46,DG46,DN46) -> 0 | DV46: =SUM(CT46,DA46,DH46,DO46) -> 0 | DW46: =SUM(CU46,DB46,DI46,DP46) -> 0 | DX46: =SUM(CV46,DC46,DJ46,DQ46) -> 0 | DY46: =SUM(CW46,DD46,DK46,DR46) -> 0 | DZ46: =SUM(DT46:DY46) -> 0 | EF46: =SUM(EA46:EE46) -> 0 | EL46: =SUM(EG46:EK46) -> 0 | ER46: =SUM(EM46:EQ46) -> 0 | EX46: =SUM(ES46:EW46) -> 0 | FD46: =SUM(EY46:FC46) -> 0 | FJ46: =SUM(FE46:FI46) -> 0 | FP46: =SUM(FK46:FO46) -> 0 | FQ46: =SUM(EA46,EG46,EM46,ES46,EY46,FE46,FK46) -> 0 | FR46: =SUM(EB46,EH46,EN46,ET46,EZ46,FF46,FL46) -> 0 | FS46: =SUM(EC46,EI46,EO46,EU46,FA46,FG46,FM46) -> 0 | FT46: =SUM(ED46,EJ46,EP46,EV46,FB46,FH46,FN46) -> 0 | FU46: =SUM(EE46,EK46,EQ46,EW46,FC46,FI46,FO46) -> 0 | FV46: =SUM(FQ46:FU46) -> 0 | GB46: =SUM(FW46:GA46) -> 0 | GH46: =SUM(GC46:GG46) -> 0 | GN46: =SUM(GI46:GM46) -> 0 | GT46: =SUM(GO46:GS46) -> 0 | GZ46: =SUM(GU46:GY46) -> 0 | HF46: =SUM(HA46:HE46) -> 0 | HL46: =SUM(HG46:HK46) -> 0 | HM46: =SUM(FW46,GC46,GI46,GO46,GU46,HA46,HG46) -> 0 | HN46: =SUM(FX46,GD46,GJ46,GP46,GV46,HB46,HH46) -> 0 | HO46: =SUM(FY46,GE46,GK46,GQ46,GW46,HC46,HI46) -> 0 | HP46: =SUM(FZ46,GF46,GL46,GR46,GX46,HD46,HJ46) -> 0 | HQ46: =SUM(GA46,GG46,GM46,GS46,GY46,HE46,HK46) -> 0 | HR46: =SUM(HM46:HQ46) -> 0 | HX46: =SUM(HS46:HW46) -> 0 | ID46: =SUM(HY46:IC46) -> 0 | IJ46: =SUM(IE46:II46) -> 0 | IK46: =SUM(HS46,HY46,IE46) -> 0 | IL46: =SUM(HT46,HZ46,IF46) -> 0 | IM46: =SUM(HU46,IA46,IG46) -> 0 | IN46: =SUM(HV46,IB46,IH46) -> 0 | IO46: =SUM(HW46,IC46,II46) -> 0 | IP46: =SUM(IK46:IO46) -> 0 | IV46: =SUM(IQ46:IU46) -> 0 | JB46: =SUM(IW46:JA46) -> 0 | JH46: =SUM(JC46:JG46) -> 0 | JI46: =SUM(IQ46,IW46,JC46) -> 0 | JJ46: =SUM(IR46,IX46,JD46) -> 0 | JK46: =SUM(IS46,IY46,JE46) -> 0 | JL46: =SUM(IT46,IZ46,JF46) -> 0 | JM46: =SUM(IU46,JA46,JG46) -> 0 | JN46: =SUM(JI46:JM46) -> 0 | JP46: =SUM(N46,AL46,BK46,CK46,DT46,FQ46,HM46,IK46,JI46) -> 0 | JQ46: =SUM(O46,AM46,BL46,CL46,DU46,FR46,HN46,IL46,JJ46) -> 0 | JR46: =SUM(P46,AN46,BM46,CM46,DV46,FS46,HO46,IM46,JK46) -> 0 | JS46: =SUM(Q46,AO46,BN46,CN46,DW46,FT46,HP46,IN46,JL46) -> 0 | JT46: =SUM(R46,AP46,BO46,CO46,DX46,FU46,HQ46,IO46,JM46) -> 0 | JU46: =SUM(BP46,CP46,DY46) -> 0 | JV46: =SUM(JP46:JU46) -> 0
A47: IEB=Hemlock Sawfly | G47: =SUM(B47:F47) -> 0 | M47: =SUM(H47:L47) -> 0 | N47: =SUM(B47,H47) -> 0 | O47: =SUM(C47,I47) -> 0 | P47: =SUM(D47,J47) -> 0 | Q47: =SUM(E47,K47) -> 0 | R47: =SUM(F47,L47) -> 0 | S47: =SUM(N47:R47) -> 0 | Y47: =SUM(T47:X47) -> 0 | AE47: =SUM(Z47:AD47) -> 0 | AK47: =SUM(AF47:AJ47) -> 0 | AL47: =SUM(T47,Z47,AF47) -> 0 | AM47: =SUM(U47,AA47,AG47) -> 0 | AN47: =SUM(V47,AB47,AH47) -> 0 | AO47: =SUM(W47,AC47,AI47) -> 0 | AP47: =SUM(X47,AD47,AJ47) -> 0 | AQ47: =SUM(AL47:AP47) -> 0 | AW47: =SUM(AR47:AV47) -> 0 | BD47: =SUM(AX47:BC47) -> 0 | BJ47: =SUM(BE47:BI47) -> 0 | BK47: =SUM(AR47,AX47,BE47) -> 0 | BL47: =SUM(AS47,AY47,BF47) -> 0 | BM47: =SUM(AT47,AZ47,BG47) -> 0 | BN47: =SUM(AU47,BA47,BH47) -> 0 | BO47: =SUM(AV47,BB47,BI47) -> 0 | BP47: =SUM(BC47) -> 0 | BQ47: =SUM(BK47:BP47) -> 0 | BW47: =SUM(BR47:BV47) -> 0 | CC47: =SUM(BX47:CB47) -> 0 | CJ47: =SUM(CD47:CI47) -> 0 | CK47: =SUM(BR47,BX47,CD47) -> 0 | CL47: =SUM(BS47,BY47,CE47) -> 0 | CM47: =SUM(BT47,BZ47,CF47) -> 0 | CN47: =SUM(BU47,CA47,CG47) -> 0 | CO47: =SUM(BV47,CB47,CH47) -> 0 | CP47: =SUM(CI47) -> 0 | CQ47: =SUM(CK47:CP47) -> 0 | CX47: =SUM(CR47:CW47) -> 0 | DE47: =SUM(CY47:DD47) -> 0 | DL47: =SUM(DF47:DK47) -> 0 | DS47: =SUM(DM47:DR47) -> 0 | DT47: =SUM(CR47,CY47,DF47,DM47) -> 0 | DU47: =SUM(CS47,CZ47,DG47,DN47) -> 0 | DV47: =SUM(CT47,DA47,DH47,DO47) -> 0 | DW47: =SUM(CU47,DB47,DI47,DP47) -> 0 | DX47: =SUM(CV47,DC47,DJ47,DQ47) -> 0 | DY47: =SUM(CW47,DD47,DK47,DR47) -> 0 | DZ47: =SUM(DT47:DY47) -> 0 | EF47: =SUM(EA47:EE47) -> 0 | EL47: =SUM(EG47:EK47) -> 0 | ER47: =SUM(EM47:EQ47) -> 0 | EX47: =SUM(ES47:EW47) -> 0 | FD47: =SUM(EY47:FC47) -> 0 | FJ47: =SUM(FE47:FI47) -> 0 | FP47: =SUM(FK47:FO47) -> 0 | FQ47: =SUM(EA47,EG47,EM47,ES47,EY47,FE47,FK47) -> 0 | FR47: =SUM(EB47,EH47,EN47,ET47,EZ47,FF47,FL47) -> 0 | FS47: =SUM(EC47,EI47,EO47,EU47,FA47,FG47,FM47) -> 0 | FT47: =SUM(ED47,EJ47,EP47,EV47,FB47,FH47,FN47) -> 0 | FU47: =SUM(EE47,EK47,EQ47,EW47,FC47,FI47,FO47) -> 0 | FV47: =SUM(FQ47:FU47) -> 0 | GB47: =SUM(FW47:GA47) -> 0 | GH47: =SUM(GC47:GG47) -> 0 | GN47: =SUM(GI47:GM47) -> 0 | GT47: =SUM(GO47:GS47) -> 0 | GZ47: =SUM(GU47:GY47) -> 0 | HF47: =SUM(HA47:HE47) -> 0 | HL47: =SUM(HG47:HK47) -> 0 | HM47: =SUM(FW47,GC47,GI47,GO47,GU47,HA47,HG47) -> 0 | HN47: =SUM(FX47,GD47,GJ47,GP47,GV47,HB47,HH47) -> 0 | HO47: =SUM(FY47,GE47,GK47,GQ47,GW47,HC47,HI47) -> 0 | HP47: =SUM(FZ47,GF47,GL47,GR47,GX47,HD47,HJ47) -> 0 | HQ47: =SUM(GA47,GG47,GM47,GS47,GY47,HE47,HK47) -> 0 | HR47: =SUM(HM47:HQ47) -> 0 | HX47: =SUM(HS47:HW47) -> 0 | ID47: =SUM(HY47:IC47) -> 0 | IJ47: =SUM(IE47:II47) -> 0 | IK47: =SUM(HS47,HY47,IE47) -> 0 | IL47: =SUM(HT47,HZ47,IF47) -> 0 | IM47: =SUM(HU47,IA47,IG47) -> 0 | IN47: =SUM(HV47,IB47,IH47) -> 0 | IO47: =SUM(HW47,IC47,II47) -> 0 | IP47: =SUM(IK47:IO47) -> 0 | IV47: =SUM(IQ47:IU47) -> 0 | JB47: =SUM(IW47:JA47) -> 0 | JH47: =SUM(JC47:JG47) -> 0 | JI47: =SUM(IQ47,IW47,JC47) -> 0 | JJ47: =SUM(IR47,IX47,JD47) -> 0 | JK47: =SUM(IS47,IY47,JE47) -> 0 | JL47: =SUM(IT47,IZ47,JF47) -> 0 | JM47: =SUM(IU47,JA47,JG47) -> 0 | JN47: =SUM(JI47:JM47) -> 0 | JP47: =SUM(N47,AL47,BK47,CK47,DT47,FQ47,HM47,IK47,JI47) -> 0 | JQ47: =SUM(O47,AM47,BL47,CL47,DU47,FR47,HN47,IL47,JJ47) -> 0 | JR47: =SUM(P47,AN47,BM47,CM47,DV47,FS47,HO47,IM47,JK47) -> 0 | JS47: =SUM(Q47,AO47,BN47,CN47,DW47,FT47,HP47,IN47,JL47) -> 0 | JT47: =SUM(R47,AP47,BO47,CO47,DX47,FU47,HQ47,IO47,JM47) -> 0 | JU47: =SUM(BP47,CP47,DY47) -> 0 | JV47: =SUM(JP47:JU47) -> 0
A48: IEG=Lodgepole Pine Sawfly | G48: =SUM(B48:F48) -> 0 | M48: =SUM(H48:L48) -> 0 | N48: =SUM(B48,H48) -> 0 | O48: =SUM(C48,I48) -> 0 | P48: =SUM(D48,J48) -> 0 | Q48: =SUM(E48,K48) -> 0 | R48: =SUM(F48,L48) -> 0 | S48: =SUM(N48:R48) -> 0 | Y48: =SUM(T48:X48) -> 0 | AE48: =SUM(Z48:AD48) -> 0 | AK48: =SUM(AF48:AJ48) -> 0 | AL48: =SUM(T48,Z48,AF48) -> 0 | AM48: =SUM(U48,AA48,AG48) -> 0 | AN48: =SUM(V48,AB48,AH48) -> 0 | AO48: =SUM(W48,AC48,AI48) -> 0 | AP48: =SUM(X48,AD48,AJ48) -> 0 | AQ48: =SUM(AL48:AP48) -> 0 | AW48: =SUM(AR48:AV48) -> 0 | AY48: 71.16 | AZ48: 14.94 | BD48: =SUM(AX48:BC48) -> 86.1 | BJ48: =SUM(BE48:BI48) -> 0 | BK48: =SUM(AR48,AX48,BE48) -> 0 | BL48: =SUM(AS48,AY48,BF48) -> 71.16 | BM48: =SUM(AT48,AZ48,BG48) -> 14.94 | BN48: =SUM(AU48,BA48,BH48) -> 0 | BO48: =SUM(AV48,BB48,BI48) -> 0 | BP48: =SUM(BC48) -> 0 | BQ48: =SUM(BK48:BP48) -> 86.1 | BW48: =SUM(BR48:BV48) -> 0 | CC48: =SUM(BX48:CB48) -> 0 | CJ48: =SUM(CD48:CI48) -> 0 | CK48: =SUM(BR48,BX48,CD48) -> 0 | CL48: =SUM(BS48,BY48,CE48) -> 0 | CM48: =SUM(BT48,BZ48,CF48) -> 0 | CN48: =SUM(BU48,CA48,CG48) -> 0 | CO48: =SUM(BV48,CB48,CH48) -> 0 | CP48: =SUM(CI48) -> 0 | CQ48: =SUM(CK48:CP48) -> 0 | CX48: =SUM(CR48:CW48) -> 0 | DE48: =SUM(CY48:DD48) -> 0 | DL48: =SUM(DF48:DK48) -> 0 | DS48: =SUM(DM48:DR48) -> 0 | DT48: =SUM(CR48,CY48,DF48,DM48) -> 0 | DU48: =SUM(CS48,CZ48,DG48,DN48) -> 0 | DV48: =SUM(CT48,DA48,DH48,DO48) -> 0 | DW48: =SUM(CU48,DB48,DI48,DP48) -> 0 | DX48: =SUM(CV48,DC48,DJ48,DQ48) -> 0 | DY48: =SUM(CW48,DD48,DK48,DR48) -> 0 | DZ48: =SUM(DT48:DY48) -> 0 | EF48: =SUM(EA48:EE48) -> 0 | EL48: =SUM(EG48:EK48) -> 0 | ER48: =SUM(EM48:EQ48) -> 0 | EX48: =SUM(ES48:EW48) -> 0 | FD48: =SUM(EY48:FC48) -> 0 | FJ48: =SUM(FE48:FI48) -> 0 | FP48: =SUM(FK48:FO48) -> 0 | FQ48: =SUM(EA48,EG48,EM48,ES48,EY48,FE48,FK48) -> 0 | FR48: =SUM(EB48,EH48,EN48,ET48,EZ48,FF48,FL48) -> 0 | FS48: =SUM(EC48,EI48,EO48,EU48,FA48,FG48,FM48) -> 0 | FT48: =SUM(ED48,EJ48,EP48,EV48,FB48,FH48,FN48) -> 0 | FU48: =SUM(EE48,EK48,EQ48,EW48,FC48,FI48,FO48) -> 0 | FV48: =SUM(FQ48:FU48) -> 0 | GB48: =SUM(FW48:GA48) -> 0 | GH48: =SUM(GC48:GG48) -> 0 | GN48: =SUM(GI48:GM48) -> 0 | GT48: =SUM(GO48:GS48) -> 0 | GZ48: =SUM(GU48:GY48) -> 0 | HF48: =SUM(HA48:HE48) -> 0 | HL48: =SUM(HG48:HK48) -> 0 | HM48: =SUM(FW48,GC48,GI48,GO48,GU48,HA48,HG48) -> 0 | HN48: =SUM(FX48,GD48,GJ48,GP48,GV48,HB48,HH48) -> 0 | HO48: =SUM(FY48,GE48,GK48,GQ48,GW48,HC48,HI48) -> 0 | HP48: =SUM(FZ48,GF48,GL48,GR48,GX48,HD48,HJ48) -> 0 | HQ48: =SUM(GA48,GG48,GM48,GS48,GY48,HE48,HK48) -> 0 | HR48: =SUM(HM48:HQ48) -> 0 | HX48: =SUM(HS48:HW48) -> 0 | ID48: =SUM(HY48:IC48) -> 0 | IJ48: =SUM(IE48:II48) -> 0 | IK48: =SUM(HS48,HY48,IE48) -> 0 | IL48: =SUM(HT48,HZ48,IF48) -> 0 | IM48: =SUM(HU48,IA48,IG48) -> 0 | IN48: =SUM(HV48,IB48,IH48) -> 0 | IO48: =SUM(HW48,IC48,II48) -> 0 | IP48: =SUM(IK48:IO48) -> 0 | IV48: =SUM(IQ48:IU48) -> 0 | JB48: =SUM(IW48:JA48) -> 0 | JH48: =SUM(JC48:JG48) -> 0 | JI48: =SUM(IQ48,IW48,JC48) -> 0 | JJ48: =SUM(IR48,IX48,JD48) -> 0 | JK48: =SUM(IS48,IY48,JE48) -> 0 | JL48: =SUM(IT48,IZ48,JF48) -> 0 | JM48: =SUM(IU48,JA48,JG48) -> 0 | JN48: =SUM(JI48:JM48) -> 0 | JP48: =SUM(N48,AL48,BK48,CK48,DT48,FQ48,HM48,IK48,JI48) -> 0 | JQ48: =SUM(O48,AM48,BL48,CL48,DU48,FR48,HN48,IL48,JJ48) -> 71.16 | JR48: =SUM(P48,AN48,BM48,CM48,DV48,FS48,HO48,IM48,JK48) -> 14.94 | JS48: =SUM(Q48,AO48,BN48,CN48,DW48,FT48,HP48,IN48,JL48) -> 0 | JT48: =SUM(R48,AP48,BO48,CO48,DX48,FU48,HQ48,IO48,JM48) -> 0 | JU48: =SUM(BP48,CP48,DY48) -> 0 | JV48: =SUM(JP48:JU48) -> 86.1
A49: Total Defoliators= | B49: =SUM(B21:B48) -> 0 | C49: =SUM(C21:C48) -> 6404.26 | D49: =SUM(D21:D48) -> 415.39347 | E49: =SUM(E21:E48) -> 284.46771 | F49: =SUM(F21:F48) -> 0 | G49: =SUM(G21:G48) -> 7104.1212 | H49: =SUM(H21:H48) -> 0 | I49: =SUM(I21:I48) -> 0 | ... DS49: =SUM(DS21:DS48) -> 1613.1203 | DT49: =SUM(CR49,CY49,DF49,DM49) -> 0 | DU49: =SUM(CS49,CZ49,DG49,DN49) -> 19358.863 | DV49: =SUM(CT49,DA49,DH49,DO49) -> 40344.879 | DW49: =SUM(CU49,DB49,DI49,DP49) -> 1598.3909 | DX49: =SUM(CV49,DC49,DJ49,DQ49) -> 0 | DY49: =SUM(CW49,DD49,DK49,DR49) -> 0 | DZ49: =SUM(DZ21:DZ47) -> 61302.132 | EA49: =SUM(EA21:EA48) -> 0 | EB49: =SUM(EB21:EB48) -> 10219.405 | EC49: =SUM(EC21:EC48) -> 3883.4953 | ED49: =SUM(ED21:ED48) -> 0 | EE49: =SUM(EE21:EE48) -> 0 | EF49: =SUM(EF21:EF48) -> 14102.9 | EG49: =SUM(EG21:EG48) -> 0 | EH49: =SUM(EH21:EH48) -> 2403.3411 | ... FP49: =SUM(FP21:FP48) -> 3520.3286 | FQ49: =SUM(EA49,EG49,EM49,ES49,EY49,FE49,FK49) -> 0 | FR49: =SUM(EB49,EH49,EN49,ET49,EZ49,FF49,FL49) -> 21289.736 | FS49: =SUM(EC49,EI49,EO49,EU49,FA49,FG49,FM49) -> 7187.8573 | FT49: =SUM(ED49,EJ49,EP49,EV49,FB49,FH49,FN49) -> 61.922859 | FU49: =SUM(EE49,EK49,EQ49,EW49,FC49,FI49,FO49) -> 0 | FV49: =SUM(FV21:FV47) -> 28539.516 | FW49: =SUM(FW21:FW48) -> 0 | FX49: =SUM(FX21:FX48) -> 83521.301 | FY49: =SUM(FY21:FY48) -> 19942.894 | FZ49: =SUM(FZ21:FZ48) -> 14087.836 | GA49: =SUM(GA21:GA48) -> 0 | GB49: =SUM(GB21:GB48) -> 117552.03 | GC49: =SUM(GC21:GC48) -> 0 | GD49: =SUM(GD21:GD48) -> 0 | ... HQ49: =SUM(HQ21:HQ48) -> 0 | HR49: =SUM(HR21:HR47) -> 684096.45 | HS49: =SUM(HS21:HS48) -> 0 | HT49: =SUM(HT21:HT48) -> 606.34736 | HU49: =SUM(HU21:HU48) -> 456.78956 | HV49: =SUM(HV21:HV48) -> 0 | HW49: =SUM(HW21:HW48) -> 0 | HX49: =SUM(HX21:HX48) -> 1063.1369 | HY49: =SUM(HY21:HY48) -> 0 | HZ49: =SUM(HZ21:HZ48) -> 44117.705 | ... IJ49: =SUM(IJ21:IJ48) -> 738253.58 | IK49: =SUM(HS49,HY49,IE49) -> 0 | IL49: =SUM(HT49,HZ49,IF49) -> 338984.37 | IM49: =SUM(HU49,IA49,IG49) -> 441941.51 | IN49: =SUM(HV49,IB49,IH49) -> 64357.332 | IO49: =SUM(HW49,IC49,II49) -> 0 | IP49: =SUM(IK49:IO49) -> 845283.21 | IQ49: =SUM(IQ21:IQ48) -> 0 | IR49: =SUM(IR21:IR48) -> 833.60975 | IS49: =SUM(IS21:IS48) -> 1810.7841 | IT49: =SUM(IT21:IT48) -> 1070.572 | IU49: =SUM(IU21:IU48) -> 0 | IV49: =SUM(IV21:IV48) -> 3714.9658 | IW49: =SUM(IW21:IW48) -> 0 | IX49: =SUM(IX21:IX48) -> 72555.188 | ... JH49: =SUM(JH21:JH48) -> 5541.6115 | JI49: =SUM(IQ49,IW49,JC49) -> 0 | JJ49: =SUM(IR49,IX49,JD49) -> 75585.246 | JK49: =SUM(IS49,IY49,JE49) -> 46625.426 | JL49: =SUM(IT49,IZ49,JF49) -> 1084.9765 | JM49: =SUM(IU49,JA49,JG49) -> 0 | JN49: =SUM(JI49:JM49) -> 123295.65 | JP49: =SUM(JP21:JP48) -> 0 | JQ49: =SUM(JQ21:JQ48) -> 923295.22 | JR49: =SUM(JR21:JR48) -> 879638.7 | JS49: =SUM(JS21:JS48) -> 218745.05 | JT49: =SUM(JT21:JT48) -> 0 | JU49: =SUM(JU21:JU48) -> 0 | JV49: =SUM(JV21:JV48) -> 2021679
A51: Other
A52: N | C52: 70.95248 | G52: =SUM(B52:F52) -> 70.95248 | M52: =SUM(H52:L52) -> 0 | N52: =SUM(B52,H52) -> 0 | O52: =SUM(C52,I52) -> 70.95248 | P52: =SUM(D52,J52) -> 0 | Q52: =SUM(E52,K52) -> 0 | R52: =SUM(F52,L52) -> 0 | S52: =SUM(G52,M52) -> 70.95248 | Y52: =SUM(T52:X52) -> 0 | AE52: =SUM(Z52:AD52) -> 0 | AK52: =SUM(AF52:AJ52) -> 0 | AL52: =SUM(T52,Z52,AF52) -> 0 | AM52: =SUM(U52,AA52,AG52) -> 0 | AN52: =SUM(V52,AB52,AH52) -> 0 | AO52: =SUM(W52,AC52,AI52) -> 0 | AP52: =SUM(X52,AD52,AJ52) -> 0 | AQ52: =SUM(AL52:AP52) -> 0 | AW52: =SUM(AR52:AV52) -> 0 | BD52: =SUM(AX52:BC52) -> 0 | BJ52: =SUM(BE52:BI52) -> 0 | BK52: =SUM(AR52,AX52,BE52) -> 0 | BL52: =SUM(AS52,AY52,BF52) -> 0 | BM52: =SUM(AT52,AZ52,BG52) -> 0 | BN52: =SUM(AU52,BA52,BH52) -> 0 | BO52: =SUM(AV52,BB52,BI52) -> 0 | BP52: =SUM(BC52) -> 0 | BQ52: =SUM(BK52:BP52) -> 0 | BW52: =SUM(BS52:BV52) -> 0 | CC52: =SUM(BX52:CB52) -> 0 | CJ52: =SUM(CD52:CI52) -> 0 | CK52: =SUM(BR52,BX52,CD52) -> 0 | CL52: =SUM(BS52,BY52,CE52) -> 0 | CM52: =SUM(BT52,BZ52,CF52) -> 0 | CN52: =SUM(BU52,CA52,CG52) -> 0 | CO52: =SUM(BV52,CB52,CH52) -> 0 | CP52: =SUM(CI52) -> 0 | CQ52: =SUM(CK52:CP52) -> 0 | CX52: =SUM(CR52:CW52) -> 0 | DE52: =SUM(CY52:DD52) -> 0 | DL52: =SUM(DF52:DK52) -> 0 | DS52: =SUM(DM52:DR52) -> 0 | DT52: =SUM(CR52,CY52,DF52,DM52) -> 0 | DU52: =SUM(CS52,CZ52,DG52,DN52) -> 0 | DV52: =SUM(CT52,DA52,DH52,DO52) -> 0 | DW52: =SUM(CU52,DB52,DI52,DP52) -> 0 | DX52: =SUM(CV52,DC52,DJ52,DQ52) -> 0 | DY52: =SUM(CW52,DD52,DK52,DR52) -> 0 | DZ52: =SUM(DT52:DY52) -> 0 | EF52: =SUM(EA52:EE52) -> 0 | EL52: =SUM(EG52:EK52) -> 0 | ER52: =SUM(EM52:EQ52) -> 0 | EX52: =SUM(ES52:EW52) -> 0 | FD52: =SUM(EY52:FC52) -> 0 | FJ52: =SUM(FE52:FI52) -> 0 | FP52: =SUM(FK52:FO52) -> 0 | FQ52: =SUM(EA52,EG52,EM52,ES52,EY52,FE52,FK52) -> 0 | FR52: =SUM(EB52,EH52,EN52,ET52,EZ52,FF52,FL52) -> 0 | FS52: =SUM(EC52,EI52,EO52,EU52,FA52,FG52,FM52) -> 0 | FT52: =SUM(ED52,EJ52,EP52,EV52,FB52,FH52,FN52) -> 0 | FU52: =SUM(EE52,EK52,EQ52,EW52,FC52,FI52,FO52) -> 0 | FV52: =SUM(FQ52:FU52) -> 0 | GB52: =SUM(FW52:GA52) -> 0 | GH52: =SUM(GC52:GG52) -> 0 | GN52: =SUM(GI52:GM52) -> 0 | GT52: =SUM(GO52:GS52) -> 0 | GZ52: =SUM(GU52:GY52) -> 0 | HF52: =SUM(HA52:HE52) -> 0 | HL52: =SUM(HG52:HK52) -> 0 | HM52: =SUM(FW52,GC52,GI52,GO52,GU52,HA52,HG52) -> 0 | HN52: =SUM(FX52,GD52,GJ52,GP52,GV52,HB52,HH52) -> 0 | HO52: =SUM(FY52,GE52,GK52,GQ52,GW52,HC52,HI52) -> 0 | HP52: =SUM(FZ52,GF52,GL52,GR52,GX52,HD52,HJ52) -> 0 | HQ52: =SUM(GA52,GG52,GM52,GS52,GY52,HE52,HK52) -> 0 | HR52: =SUM(HM52:HQ52) -> 0 | HX52: =SUM(HS52:HW52) -> 0 | ID52: =SUM(HY52:IC52) -> 0 | IF52: 17.481466 | IG52: 13.475527 | IH52: 0.75 | IJ52: =SUM(IE52:II52) -> 31.706993 | IK52: =SUM(HS52,HY52,IE52) -> 0 | IL52: =SUM(HT52,HZ52,IF52) -> 17.481466 | IM52: =SUM(HU52,IA52,IG52) -> 13.475527 | IN52: =SUM(HV52,IB52,IH52) -> 0.75 | IO52: =SUM(HW52,IC52,II52) -> 0 | IP52: =SUM(IK52:IO52) -> 31.706993 | IV52: =SUM(IQ52:IU52) -> 0 | IW52: 21.647068 | IX52: 2084.8471 | IY52: 289.1831 | IZ52: 82.043903 | JB52: =SUM(IW52:JA52) -> 2477.7212 | JE52: 9.0264808 | JH52: =SUM(JC52:JG52) -> 9.0264808 | JI52: =SUM(IQ52,IW52,JC52) -> 21.647068 | JJ52: =SUM(IR52,IX52,JD52) -> 2084.8471 | JK52: =SUM(IS52,IY52,JE52) -> 298.20958 | JL52: =SUM(IT52,IZ52,JF52) -> 82.043903 | JM52: =SUM(IU52,JA52,JG52) -> 0 | JN52: =SUM(JI52:JM52) -> 2486.7476 | JP52: =SUM(N52,AL52,BK52,CK52,DT52,FQ52,HM52,IK52,JI52) -> 21.647068 | JQ52: =SUM(O52,AM52,BL52,CL52,DU52,FR52,HN52,IL52,JJ52) -> 2173.281 | JR52: =SUM(P52,AN52,BM52,CM52,DV52,FS52,HO52,IM52,JK52) -> 311.68511 | JS52: =SUM(Q52,AO52,BN52,CN52,DW52,FT52,HP52,IN52,JL52) -> 82.793903 | JT52: =SUM(R52,AP52,BO52,CO52,DX52,FU52,HQ52,IO52,JM52) -> 0 | JU52: =SUM(BP52,CP52,DY52) -> 0 | JV52: =SUM(JP52:JU52) -> 2589.4071
A53: NAV=Avalanche or snow slide | G53: =SUM(B53:F53) -> 0 | M53: =SUM(H53:L53) -> 0 | N53: =SUM(B53,H53) -> 0 | O53: =SUM(C53,I53) -> 0 | P53: =SUM(D53,J53) -> 0 | Q53: =SUM(E53,K53) -> 0 | R53: =SUM(F53,L53) -> 0 | S53: =SUM(G53,M53) -> 0 | Y53: =SUM(T53:X53) -> 0 | AE53: =SUM(Z53:AD53) -> 0 | AK53: =SUM(AF53:AJ53) -> 0 | AL53: =SUM(T53,Z53,AF53) -> 0 | AM53: =SUM(U53,AA53,AG53) -> 0 | AN53: =SUM(V53,AB53,AH53) -> 0 | AO53: =SUM(W53,AC53,AI53) -> 0 | AP53: =SUM(X53,AD53,AJ53) -> 0 | AQ53: =SUM(AL53:AP53) -> 0 | AW53: =SUM(AR53:AV53) -> 0 | BD53: =SUM(AX53:BC53) -> 0 | BJ53: =SUM(BE53:BI53) -> 0 | BK53: =SUM(AR53,AX53,BE53) -> 0 | BL53: =SUM(AS53,AY53,BF53) -> 0 | BM53: =SUM(AT53,AZ53,BG53) -> 0 | BN53: =SUM(AU53,BA53,BH53) -> 0 | BO53: =SUM(AV53,BB53,BI53) -> 0 | BP53: =SUM(BC53) -> 0 | BQ53: =SUM(BK53:BP53) -> 0 | BW53: =SUM(BR53:BV53) -> 0 | CC53: =SUM(BX53:CB53) -> 0 | CJ53: =SUM(CD53:CI53) -> 0 | CK53: =SUM(BR53,BX53,CD53) -> 0 | CL53: =SUM(BS53,BY53,CE53) -> 0 | CM53: =SUM(BT53,BZ53,CF53) -> 0 | CN53: =SUM(BU53,CA53,CG53) -> 0 | CO53: =SUM(BV53,CB53,CH53) -> 0 | CP53: =SUM(CI53) -> 0 | CQ53: =SUM(CK53:CP53) -> 0 | CV53: 5.2390745 | CX53: =SUM(CR53:CW53) -> 5.2390745 | DC53: 13.168255 | DE53: =SUM(CY53:DD53) -> 13.168255 | DL53: =SUM(DF53:DK53) -> 0 | DQ53: 30.898647 | DS53: =SUM(DM53:DR53) -> 30.898647 | DT53: =SUM(CR53,CY53,DF53,DM53) -> 0 | DU53: =SUM(CS53,CZ53,DG53,DN53) -> 0 | DV53: =SUM(CT53,DA53,DH53,DO53) -> 0 | DW53: =SUM(CU53,DB53,DI53,DP53) -> 0 | DX53: =SUM(CV53,DC53,DJ53,DQ53) -> 49.305977 | DY53: =SUM(CW53,DD53,DK53,DR53) -> 0 | DZ53: =SUM(DT53:DY53) -> 49.305977 | EF53: =SUM(EA53:EE53) -> 0 | EL53: =SUM(EG53:EK53) -> 0 | ER53: =SUM(EM53:EQ53) -> 0 | EX53: =SUM(ES53:EW53) -> 0 | FD53: =SUM(EY53:FC53) -> 0 | FJ53: =SUM(FE53:FI53) -> 0 | FP53: =SUM(FK53:FO53) -> 0 | FQ53: =SUM(EA53,EG53,EM53,ES53,EY53,FE53,FK53) -> 0 | FR53: =SUM(EB53,EH53,EN53,ET53,EZ53,FF53,FL53) -> 0 | FS53: =SUM(EC53,EI53,EO53,EU53,FA53,FG53,FM53) -> 0 | FT53: =SUM(ED53,EJ53,EP53,EV53,FB53,FH53,FN53) -> 0 | FU53: =SUM(EE53,EK53,EQ53,EW53,FC53,FI53,FO53) -> 0 | FV53: =SUM(FQ53:FU53) -> 0 | GB53: =SUM(FW53:GA53) -> 0 | GH53: =SUM(GC53:GG53) -> 0 | GN53: =SUM(GI53:GM53) -> 0 | GT53: =SUM(GO53:GS53) -> 0 | GZ53: =SUM(GU53:GY53) -> 0 | HF53: =SUM(HA53:HE53) -> 0 | HL53: =SUM(HG53:HK53) -> 0 | HM53: =SUM(FW53,GC53,GI53,GO53,GU53,HA53,HG53) -> 0 | HN53: =SUM(FX53,GD53,GJ53,GP53,GV53,HB53,HH53) -> 0 | HO53: =SUM(FY53,GE53,GK53,GQ53,GW53,HC53,HI53) -> 0 | HP53: =SUM(FZ53,GF53,GL53,GR53,GX53,HD53,HJ53) -> 0 | HQ53: =SUM(GA53,GG53,GM53,GS53,GY53,HE53,HK53) -> 0 | HR53: =SUM(HM53:HQ53) -> 0 | HX53: =SUM(HS53:HW53) -> 0 | ID53: =SUM(HY53:IC53) -> 0 | IJ53: =SUM(IE53:II53) -> 0 | IK53: =SUM(HS53,HY53,IE53) -> 0 | IL53: =SUM(HT53,HZ53,IF53) -> 0 | IM53: =SUM(HU53,IA53,IG53) -> 0 | IN53: =SUM(HV53,IB53,IH53) -> 0 | IO53: =SUM(HW53,IC53,II53) -> 0 | IP53: =SUM(IK53:IO53) -> 0 | IV53: =SUM(IQ53:IU53) -> 0 | JB53: =SUM(IW53:JA53) -> 0 | JH53: =SUM(JC53:JG53) -> 0 | JI53: =SUM(IQ53,IW53,JC53) -> 0 | JJ53: =SUM(IR53,IX53,JD53) -> 0 | JK53: =SUM(IS53,IY53,JE53) -> 0 | JL53: =SUM(IT53,IZ53,JF53) -> 0 | JM53: =SUM(IU53,JA53,JG53) -> 0 | JN53: =SUM(JI53:JM53) -> 0 | JP53: =SUM(N53,AL53,BK53,CK53,DT53,FQ53,HM53,IK53,JI53) -> 0 | JQ53: =SUM(O53,AM53,BL53,CL53,DU53,FR53,HN53,IL53,JJ53) -> 0 | JR53: =SUM(P53,AN53,BM53,CM53,DV53,FS53,HO53,IM53,JK53) -> 0 | JS53: =SUM(Q53,AO53,BN53,CN53,DW53,FT53,HP53,IN53,JL53) -> 0 | JT53: =SUM(R53,AP53,BO53,CO53,DX53,FU53,HQ53,IO53,JM53) -> 49.305977 | JU53: =SUM(BP53,CP53,DY53) -> 0 | JV53: =SUM(JP53:JU53) -> 49.305977
A54: NB=Fire | E54: 165038.16 | G54: =SUM(B54:F54) -> 165038.16 | K54: 21211.485 | M54: =SUM(H54:L54) -> 21211.485 | N54: =SUM(B54,H54) -> 0 | O54: =SUM(C54,I54) -> 0 | P54: =SUM(D54,J54) -> 0 | Q54: =SUM(E54,K54) -> 186249.64 | R54: =SUM(F54,L54) -> 0 | S54: =SUM(G54,M54) -> 186249.64 | W54: 7239.3415 | Y54: =SUM(T54:X54) -> 7239.3415 | AC54: 35.858706 | AE54: =SUM(Z54:AD54) -> 35.858706 | AH54: 5.1110739 | AI54: 5648.6227 | AK54: =SUM(AF54:AJ54) -> 5653.7338 | AL54: =SUM(T54,Z54,AF54) -> 0 | AM54: =SUM(U54,AA54,AG54) -> 0 | AN54: =SUM(V54,AB54,AH54) -> 5.1110739 | AO54: =SUM(W54,AC54,AI54) -> 12923.823 | AP54: =SUM(X54,AD54,AJ54) -> 0 | AQ54: =SUM(AL54:AP54) -> 12928.934 | AT54: 40.554786 | AU54: 337.64137 | AW54: =SUM(AR54:AV54) -> 378.19616 | BA54: 6.4045883 | BD54: =SUM(AX54:BC54) -> 6.4045883 | BH54: 6209.3954 | BJ54: =SUM(BE54:BI54) -> 6209.3954 | BK54: =SUM(AR54,AX54,BE54) -> 0 | BL54: =SUM(AS54,AY54,BF54) -> 0 | BM54: =SUM(AT54,AZ54,BG54) -> 40.554786 | BN54: =SUM(AU54,BA54,BH54) -> 6553.4414 | BO54: =SUM(AV54,BB54,BI54) -> 0 | BP54: =SUM(BC54) -> 0 | BQ54: =SUM(BK54:BP54) -> 6593.9962 | BU54: 12814.21 | BW54: =SUM(BR54:BV54) -> 12814.21 | CA54: 55308.052 | CC54: =SUM(BX54:CB54) -> 55308.052 | CG54: 12491.315 | CJ54: =SUM(CD54:CI54) -> 12491.315 | CK54: =SUM(BR54,BX54,CD54) -> 0 | CL54: =SUM(BS54,BY54,CE54) -> 0 | CM54: =SUM(BT54,BZ54,CF54) -> 0 | CN54: =SUM(BU54,CA54,CG54) -> 80613.578 | CO54: =SUM(BV54,CB54,CH54) -> 0 | CP54: =SUM(CI54) -> 0 | CQ54: =SUM(CK54:CP54) -> 80613.578 | CT54: 7.5899015 | CU54: 4261.8052 | CX54: =SUM(CR54:CW54) -> 4269.3951 | DB54: 1518.3895 | DE54: =SUM(CY54:DD54) -> 1518.3895 | DI54: 11885.809 | DJ54: 3.637581 | DL54: =SUM(DF54:DK54) -> 11889.447 | DP54: 35368.99 | DS54: =SUM(DM54:DR54) -> 35368.99 | DT54: =SUM(CR54,CY54,DF54,DM54) -> 0 | DU54: =SUM(CS54,CZ54,DG54,DN54) -> 0 | DV54: =SUM(CT54,DA54,DH54,DO54) -> 7.5899015 | DW54: =SUM(CU54,DB54,DI54,DP54) -> 53034.994 | DX54: =SUM(CV54,DC54,DJ54,DQ54) -> 3.637581 | DY54: =SUM(CW54,DD54,DK54,DR54) -> 0 | DZ54: =SUM(DT54:DY54) -> 53046.222 | ED54: 19411.656 | EF54: =SUM(EA54:EE54) -> 19411.656 | EJ54: 655.71104 | EL54: =SUM(EG54:EK54) -> 655.71104 | EP54: 16063.4 | ER54: =SUM(EM54:EQ54) -> 16063.4 | EV54: 5203.6976 | EX54: =SUM(ES54:EW54) -> 5203.6976 | FB54: 4305.3774 | FD54: =SUM(EY54:FC54) -> 4305.3774 | FH54: 12444.305 | FJ54: =SUM(FE54:FI54) -> 12444.305 | FN54: 2093.783 | FP54: =SUM(FK54:FO54) -> 2093.783 | FQ54: =SUM(EA54,EG54,EM54,ES54,EY54,FE54,FK54) -> 0 | FR54: =SUM(EB54,EH54,EN54,ET54,EZ54,FF54,FL54) -> 0 | FS54: =SUM(EC54,EI54,EO54,EU54,FA54,FG54,FM54) -> 0 | FT54: =SUM(ED54,EJ54,EP54,EV54,FB54,FH54,FN54) -> 60177.93 | FU54: =SUM(EE54,EK54,EQ54,EW54,FC54,FI54,FO54) -> 0 | FV54: =SUM(FQ54:FU54) -> 60177.93 | FZ54: 3406.0986 | GB54: =SUM(FW54:GA54) -> 3406.0986 | GF54: 314515.13 | GH54: =SUM(GC54:GG54) -> 314515.13 | GL54: 1076.3671 | GN54: =SUM(GI54:GM54) -> 1076.3671 | GR54: 15561.16 | GT54: =SUM(GO54:GS54) -> 15561.16 | GX54: 208559.76 | GZ54: =SUM(GU54:GY54) -> 208559.76 | HD54: 77222.301 | HF54: =SUM(HA54:HE54) -> 77222.301 | HL54: =SUM(HG54:HK54) -> 0 | HM54: =SUM(FW54,GC54,GI54,GO54,GU54,HA54,HG54) -> 0 | HN54: =SUM(FX54,GD54,GJ54,GP54,GV54,HB54,HH54) -> 0 | HO54: =SUM(FY54,GE54,GK54,GQ54,GW54,HC54,HI54) -> 0 | HP54: =SUM(FZ54,GF54,GL54,GR54,GX54,HD54,HJ54) -> 620340.82 | HQ54: =SUM(GA54,GG54,GM54,GS54,GY54,HE54,HK54) -> 0 | HR54: =SUM(HM54:HQ54) -> 620340.82 | HV54: 12620.898 | HX54: =SUM(HS54:HW54) -> 12620.898 | IB54: 13439.386 | ID54: =SUM(HY54:IC54) -> 13439.386 | IH54: 130607.01 | IJ54: =SUM(IE54:II54) -> 130607.01 | IK54: =SUM(HS54,HY54,IE54) -> 0 | IL54: =SUM(HT54,HZ54,IF54) -> 0 | IM54: =SUM(HU54,IA54,IG54) -> 0 | IN54: =SUM(HV54,IB54,IH54) -> 156667.3 | IO54: =SUM(HW54,IC54,II54) -> 0 | IP54: =SUM(IK54:IO54) -> 156667.3 | IT54: 250.96106 | IV54: =SUM(IQ54:IU54) -> 250.96106 | IY54: 139.96399 | IZ54: 125283.24 | JB54: =SUM(IW54:JA54) -> 125423.21 | JF54: 49544.854 | JH54: =SUM(JC54:JG54) -> 49544.854 | JI54: =SUM(IQ54,IW54,JC54) -> 0 | JJ54: =SUM(IR54,IX54,JD54) -> 0 | JK54: =SUM(IS54,IY54,JE54) -> 139.96399 | JL54: =SUM(IT54,IZ54,JF54) -> 175079.06 | JM54: =SUM(IU54,JA54,JG54) -> 0 | JN54: =SUM(JI54:JM54) -> 175219.02 | JP54: =SUM(N54,AL54,BK54,CK54,DT54,FQ54,HM54,IK54,JI54) -> 0 | JQ54: =SUM(O54,AM54,BL54,CL54,DU54,FR54,HN54,IL54,JJ54) -> 0 | JR54: =SUM(P54,AN54,BM54,CM54,DV54,FS54,HO54,IM54,JK54) -> 193.21975 | JS54: =SUM(Q54,AO54,BN54,CN54,DW54,FT54,HP54,IN54,JL54) -> 1351640.6 | JT54: =SUM(R54,AP54,BO54,CO54,DX54,FU54,HQ54,IO54,JM54) -> 3.637581 | JU54: =SUM(BP54,CP54,DY54) -> 0 | JV54: =SUM(JP54:JU54) -> 1351837.4
A55: NBP=Post Fire | C55: 341.74724 | D55: 693.24333 | E55: 158.03751 | G55: =SUM(B55:F55) -> 1193.0281 | M55: =SUM(H55:L55) -> 0 | N55: =SUM(B55,H55) -> 0 | O55: =SUM(C55,I55) -> 341.74724 | P55: =SUM(D55,J55) -> 693.24333 | Q55: =SUM(E55,K55) -> 158.03751 | R55: =SUM(F55,L55) -> 0 | S55: =SUM(G55,M55) -> 1193.0281 | Y55: =SUM(T55:X55) -> 0 | AE55: =SUM(Z55:AD55) -> 0 | AK55: =SUM(AF55:AJ55) -> 0 | AL55: =SUM(T55,Z55,AF55) -> 0 | AM55: =SUM(U55,AA55,AG55) -> 0 | AN55: =SUM(V55,AB55,AH55) -> 0 | AO55: =SUM(W55,AC55,AI55) -> 0 | AP55: =SUM(X55,AD55,AJ55) -> 0 | AQ55: =SUM(AL55:AP55) -> 0 | AW55: =SUM(AR55:AV55) -> 0 | BD55: =SUM(AX55:BC55) -> 0 | BJ55: =SUM(BE55:BI55) -> 0 | BK55: =SUM(AR55,AX55,BE55) -> 0 | BL55: =SUM(AS55,AY55,BF55) -> 0 | BM55: =SUM(AT55,AZ55,BG55) -> 0 | BN55: =SUM(AU55,BA55,BH55) -> 0 | BO55: =SUM(AV55,BB55,BI55) -> 0 | BP55: =SUM(BC55) -> 0 | BQ55: =SUM(BK55:BP55) -> 0 | BW55: =SUM(BR55:BV55) -> 0 | BY55: 1319.9426 | BZ55: 860.65994 | CA55: 20.493988 | CC55: =SUM(BX55:CB55) -> 2201.0966 | CE55: 728.80325 | CF55: 1425.8775 | CG55: 74.495655 | CJ55: =SUM(CD55:CI55) -> 2229.1764 | CK55: =SUM(BR55,BX55,CD55) -> 0 | CL55: =SUM(BS55,BY55,CE55) -> 2048.7459 | CM55: =SUM(BT55,BZ55,CF55) -> 2286.5375 | CN55: =SUM(BU55,CA55,CG55) -> 94.989643 | CO55: =SUM(BV55,CB55,CH55) -> 0 | CP55: =SUM(CI55) -> 0 | CQ55: =SUM(CK55:CP55) -> 4430.273 | CS55: 4.7057186 | CT55: 20.113637 | CX55: =SUM(CR55:CW55) -> 24.819355 | DE55: =SUM(CY55:DD55) -> 0 | DG55: 26.191375 | DH55: 7.1822852 | DL55: =SUM(DF55:DK55) -> 33.37366 | DS55: =SUM(DM55:DR55) -> 0 | DT55: =SUM(CR55,CY55,DF55,DM55) -> 0 | DU55: =SUM(CS55,CZ55,DG55,DN55) -> 30.897093 | DV55: =SUM(CT55,DA55,DH55,DO55) -> 27.295922 | DW55: =SUM(CU55,DB55,DI55,DP55) -> 0 | DX55: =SUM(CV55,DC55,DJ55,DQ55) -> 0 | DY55: =SUM(CW55,DD55,DK55,DR55) -> 0 | DZ55: =SUM(DT55:DY55) -> 58.193015 | ED55: 23.863177 | EF55: =SUM(EA55:EE55) -> 23.863177 | EL55: =SUM(EG55:EK55) -> 0 | EN55: 212.12156 | EO55: 115.98965 | EP55: 82.682104 | ER55: =SUM(EM55:EQ55) -> 410.79332 | EX55: =SUM(ES55:EW55) -> 0 | EZ55: 76.740296 | FA55: 29.351154 | FD55: =SUM(EY55:FC55) -> 106.09145 | FG55: 59.818019 | FH55: 54.753887 | FJ55: =SUM(FE55:FI55) -> 114.57191 | FM55: 86.980305 | FP55: =SUM(FK55:FO55) -> 86.980305 | FQ55: =SUM(EA55,EG55,EM55,ES55,EY55,FE55,FK55) -> 0 | FR55: =SUM(EB55,EH55,EN55,ET55,EZ55,FF55,FL55) -> 288.86186 | FS55: =SUM(EC55,EI55,EO55,EU55,FA55,FG55,FM55) -> 292.13913 | FT55: =SUM(ED55,EJ55,EP55,EV55,FB55,FH55,FN55) -> 161.29917 | FU55: =SUM(EE55,EK55,EQ55,EW55,FC55,FI55,FO55) -> 0 | FV55: =SUM(FQ55:FU55) -> 742.30016 | GB55: =SUM(FW55:GA55) -> 0 | GH55: =SUM(GC55:GG55) -> 0 | GN55: =SUM(GI55:GM55) -> 0 | GT55: =SUM(GO55:GS55) -> 0 | GU55: 209.53703 | GV55: 354.13701 | GW55: 813.3895 | GX55: 956.15528 | GY55: 61.176978 | GZ55: =SUM(GU55:GY55) -> 2394.3958 | HD55: 351.68719 | HF55: =SUM(HA55:HE55) -> 351.68719 | HL55: =SUM(HG55:HK55) -> 0 | HM55: =SUM(FW55,GC55,GI55,GO55,GU55,HA55,HG55) -> 209.53703 | HN55: =SUM(FX55,GD55,GJ55,GP55,GV55,HB55,HH55) -> 354.13701 | HO55: =SUM(FY55,GE55,GK55,GQ55,GW55,HC55,HI55) -> 813.3895 | HP55: =SUM(FZ55,GF55,GL55,GR55,GX55,HD55,HJ55) -> 1307.8425 | HQ55: =SUM(GA55,GG55,GM55,GS55,GY55,HE55,HK55) -> 61.176978 | HR55: =SUM(HM55:HQ55) -> 2746.083 | HU55: 12.753441 | HV55: 11.464792 | HX55: =SUM(HS55:HW55) -> 24.218233 | ID55: =SUM(HY55:IC55) -> 0 | IE55: 14.241801 | IF55: 493.52768 | IG55: 738.76058 | IH55: 1737.1752 | IJ55: =SUM(IE55:II55) -> 2983.7053 | IK55: =SUM(HS55,HY55,IE55) -> 14.241801 | IL55: =SUM(HT55,HZ55,IF55) -> 493.52768 | IM55: =SUM(HU55,IA55,IG55) -> 751.51402 | IN55: =SUM(HV55,IB55,IH55) -> 1748.64 | IO55: =SUM(HW55,IC55,II55) -> 0 | IP55: =SUM(IK55:IO55) -> 3007.9235 | IS55: 82.508228 | IV55: =SUM(IQ55:IU55) -> 82.508228 | IX55: 311.57515 | IY55: 5134.8627 | IZ55: 46.12734 | JB55: =SUM(IW55:JA55) -> 5492.5652 | JE55: 108.95595 | JF55: 0.25 | JH55: =SUM(JC55:JG55) -> 109.20595 | JI55: =SUM(IQ55,IW55,JC55) -> 0 | JJ55: =SUM(IR55,IX55,JD55) -> 311.57515 | JK55: =SUM(IS55,IY55,JE55) -> 5326.3269 | JL55: =SUM(IT55,IZ55,JF55) -> 46.37734 | JM55: =SUM(IU55,JA55,JG55) -> 0 | JN55: =SUM(JI55:JM55) -> 5684.2794 | JP55: =SUM(N55,AL55,BK55,CK55,DT55,FQ55,HM55,IK55,JI55) -> 223.77884 | JQ55: =SUM(O55,AM55,BL55,CL55,DU55,FR55,HN55,IL55,JJ55) -> 3869.4919 | JR55: =SUM(P55,AN55,BM55,CM55,DV55,FS55,HO55,IM55,JK55) -> 10190.446 | JS55: =SUM(Q55,AO55,BN55,CN55,DW55,FT55,HP55,IN55,JL55) -> 3517.1862 | JT55: =SUM(R55,AP55,BO55,CO55,DX55,FU55,HQ55,IO55,JM55) -> 61.176978 | JU55: =SUM(BP55,CP55,DY55) -> 0 | JV55: =SUM(JP55:JU55) -> 17862.08
A56: NCA=Aspen decline | G56: =SUM(B56:F56) -> 0 | M56: =SUM(H56:L56) -> 0 | N56: =SUM(B56,H56) -> 0 | O56: =SUM(C56,I56) -> 0 | P56: =SUM(D56,J56) -> 0 | Q56: =SUM(E56,K56) -> 0 | R56: =SUM(F56,L56) -> 0 | S56: =SUM(G56,M56) -> 0 | Y56: =SUM(T56:X56) -> 0 | AE56: =SUM(Z56:AD56) -> 0 | AK56: =SUM(AF56:AJ56) -> 0 | AL56: =SUM(T56,Z56,AF56) -> 0 | AM56: =SUM(U56,AA56,AG56) -> 0 | AN56: =SUM(V56,AB56,AH56) -> 0 | AO56: =SUM(W56,AC56,AI56) -> 0 | AP56: =SUM(X56,AD56,AJ56) -> 0 | AQ56: =SUM(AL56:AP56) -> 0 | AW56: =SUM(AR56:AV56) -> 0 | BD56: =SUM(AX56:BC56) -> 0 | BJ56: =SUM(BE56:BI56) -> 0 | BK56: =SUM(AR56,AX56,BE56) -> 0 | BL56: =SUM(AS56,AY56,BF56) -> 0 | BM56: =SUM(AT56,AZ56,BG56) -> 0 | BN56: =SUM(AU56,BA56,BH56) -> 0 | BO56: =SUM(AV56,BB56,BI56) -> 0 | BP56: =SUM(BC56) -> 0 | BQ56: =SUM(BK56:BP56) -> 0 | BS56: 56.710439 | BT56: 638.10692 | BW56: =SUM(BR56:BV56) -> 694.81735 | BY56: 60.933695 | BZ56: 216.53801 | CA56: 19.16536 | CC56: =SUM(BX56:CB56) -> 296.63706 | CE56: 89.915146 | CF56: 510.34235 | CJ56: =SUM(CD56:CI56) -> 600.25749 | CK56: =SUM(BR56,BX56,CD56) -> 0 | CL56: =SUM(BS56,BY56,CE56) -> 207.55928 | CM56: =SUM(BT56,BZ56,CF56) -> 1364.9873 | CN56: =SUM(BU56,CA56,CG56) -> 19.16536 | CO56: =SUM(BV56,CB56,CH56) -> 0 | CP56: =SUM(CI56) -> 0 | CQ56: =SUM(CK56:CP56) -> 1591.7119 | CX56: =SUM(CR56:CW56) -> 0 | DE56: =SUM(CY56:DD56) -> 0 | DH56: 44.395644 | DL56: =SUM(DF56:DK56) -> 44.395644 | DO56: 186.71204 | DS56: =SUM(DM56:DR56) -> 186.71204 | DT56: =SUM(CR56,CY56,DF56,DM56) -> 0 | DU56: =SUM(CS56,CZ56,DG56,DN56) -> 0 | DV56: =SUM(CT56,DA56,DH56,DO56) -> 231.10768 | DW56: =SUM(CU56,DB56,DI56,DP56) -> 0 | DX56: =SUM(CV56,DC56,DJ56,DQ56) -> 0 | DY56: =SUM(CW56,DD56,DK56,DR56) -> 0 | DZ56: =SUM(DT56:DY56) -> 231.10768 | EF56: =SUM(EA56:EE56) -> 0 | EL56: =SUM(EG56:EK56) -> 0 | ER56: =SUM(EM56:EQ56) -> 0 | EX56: =SUM(ES56:EW56) -> 0 | FD56: =SUM(EY56:FC56) -> 0 | FJ56: =SUM(FE56:FI56) -> 0 | FP56: =SUM(FK56:FO56) -> 0 | FQ56: =SUM(EA56,EG56,EM56,ES56,EY56,FE56,FK56) -> 0 | FR56: =SUM(EB56,EH56,EN56,ET56,EZ56,FF56,FL56) -> 0 | FS56: =SUM(EC56,EI56,EO56,EU56,FA56,FG56,FM56) -> 0 | FT56: =SUM(ED56,EJ56,EP56,EV56,FB56,FH56,FN56) -> 0 | FU56: =SUM(EE56,EK56,EQ56,EW56,FC56,FI56,FO56) -> 0 | FV56: =SUM(FQ56:FU56) -> 0 | GB56: =SUM(FW56:GA56) -> 0 | GH56: =SUM(GC56:GG56) -> 0 | GN56: =SUM(GI56:GM56) -> 0 | GT56: =SUM(GO56:GS56) -> 0 | GZ56: =SUM(GU56:GY56) -> 0 | HF56: =SUM(HA56:HE56) -> 0 | HL56: =SUM(HG56:HK56) -> 0 | HM56: =SUM(FW56,GC56,GI56,GO56,GU56,HA56,HG56) -> 0 | HN56: =SUM(FX56,GD56,GJ56,GP56,GV56,HB56,HH56) -> 0 | HO56: =SUM(FY56,GE56,GK56,GQ56,GW56,HC56,HI56) -> 0 | HP56: =SUM(FZ56,GF56,GL56,GR56,GX56,HD56,HJ56) -> 0 | HQ56: =SUM(GA56,GG56,GM56,GS56,GY56,HE56,HK56) -> 0 | HR56: =SUM(HM56:HQ56) -> 0 | HX56: =SUM(HS56:HW56) -> 0 | ID56: =SUM(HY56:IC56) -> 0 | IG56: 199.28599 | IH56: 5.2364345 | IJ56: =SUM(IE56:II56) -> 204.52242 | IK56: =SUM(HS56,HY56,IE56) -> 0 | IL56: =SUM(HT56,HZ56,IF56) -> 0 | IM56: =SUM(HU56,IA56,IG56) -> 199.28599 | IN56: =SUM(HV56,IB56,IH56) -> 5.2364345 | IO56: =SUM(HW56,IC56,II56) -> 0 | IP56: =SUM(IK56:IO56) -> 204.52242 | IV56: =SUM(IQ56:IU56) -> 0 | IX56: 55816.013 | IY56: 9962.3652 | IZ56: 32.355258 | JB56: =SUM(IW56:JA56) -> 65810.734 | JD56: 380.16803 | JH56: =SUM(JC56:JG56) -> 380.16803 | JI56: =SUM(IQ56,IW56,JC56) -> 0 | JJ56: =SUM(IR56,IX56,JD56) -> 56196.181 | JK56: =SUM(IS56,IY56,JE56) -> 9962.3652 | JL56: =SUM(IT56,IZ56,JF56) -> 32.355258 | JM56: =SUM(IU56,JA56,JG56) -> 0 | JN56: =SUM(JI56:JM56) -> 66190.902 | JP56: =SUM(N56,AL56,BK56,CK56,DT56,FQ56,HM56,IK56,JI56) -> 0 | JQ56: =SUM(O56,AM56,BL56,CL56,DU56,FR56,HN56,IL56,JJ56) -> 56403.74 | JR56: =SUM(P56,AN56,BM56,CM56,DV56,FS56,HO56,IM56,JK56) -> 11757.746 | JS56: =SUM(Q56,AO56,BN56,CN56,DW56,FT56,HP56,IN56,JL56) -> 56.757053 | JT56: =SUM(R56,AP56,BO56,CO56,DX56,FU56,HQ56,IO56,JM56) -> 0 | JU56: =SUM(BP56,CP56,DY56) -> 0 | JV56: =SUM(JP56:JU56) -> 68218.244
